Workbook

Sheet Mau A2
Q1: Mẫu A2
A2: UBND THÀNH PHỐ HỒ CHÍ MINH | K2: CỘNG HÒA XÃ HỘI CHỦ NGHĨA VIỆT NAM
A3: TRƯỜNG CAO ĐẲNG LÝ TỰ TRỌNG THÀNH PHỐ HỒ CHÍ MINH | K3: Độc lập - Tự do - Hạnh phúc
A4: BẢNG TỔNG KẾT KHỐI LƯỢNG CÔNG VIỆC CỦA GIẢNG VIÊN TRONG NĂM HỌC 2017 - 2018
A5: KHOA : CÔNG NGHỆ THÔNG TIN
A7: TT | B7: Họ và Tên | D7: Thực hiện trong năm học | J7: Số tiết chuẩn giảng dạy cả năm còn lại | K7: Số tiết chuẩn "Học tập, bồi dưỡng chuẩn hóa, bồi dưỡng nâng cao, nghiên cứu khoa học" còn lại | L7: Số tiết chuẩn "Thực tập tại doanh nghiệp hoặc cơ quan chuyên môn" còn lại | M7: Số tiết thừa, thiếu giảng dạy | N7: Số tiết thừa, thiếu "Học tập, bồi dưỡng chuẩn hóa, bồi dưỡng nâng cao, nghiên cứu khoa học" | O7: Số tiết thừa, thiếu "Thực tập tại doanh nghiệp hoặc cơ quan chuyên môn" | P7: Tổng số tiết thừa, thiếu năm học 2017-2018 | Q7: Số tiết thiếu năm học 2016-2017 | R7: Tổng số tiết thừa, thiếu (sau khi cộng số tiết thiếu năm học 2016-2017)
D8: Số tiết quy đổi và đã nhân hệ số | E8: Kiêm nhiệm | F8: Số tiết soạn đề, coi thi, chấm thi | G8: Tổng tiết thực hiện | H8: Số tiết "Học tập, bồi dưỡng chuẩn hóa, bồi dưỡng nâng cao, nghiên cứu khoa học" | I8: Số tiết "Thực tập tại doanh nghiệp hoặc cơ quan chuyên môn"
R9: Khối lượng vượt giờ (tính phụ trội) | S9: Khối lượng thỉnh giảng (tiết thỉnh giảng) | T9: Số tiết thiếu năm học 2017-2018
A10: (1) | B10: (2) | D10: (3) | E10: (4) | F10: (5) | G10: (6) | H10: (7) | I10: (8) | J10: (9) | K10: (10) | L10: (11) | M10: (12) | N10: (13) | O10: (14) | Q10: (15) | R10: (16) | S10: (17) | T10: (18)
A11: 1 | B11: =IF('Mau A1'!B11="","",'Mau A1'!B11) -> Nguyễn Vân | C11: =IF('Mau A1'!C11="","",'Mau A1'!C11) -> Giang | D11: =SUM('Mau A1'!M11:M30) -> 705 | E11: =SUM('Mau A1'!N11:N30) -> 157.5 | F11: =SUM('Mau A1'!O11:O30) -> 0 | G11: =SUM('Mau A1'!P11:P30) -> 862.5 | H11: =SUM('Mau A1'!Q11:Q30) -> 0 | I11: =SUM('Mau A1'!R11:R30) -> 0 | J11: =SUM('Mau A1'!T11:T30) -> 450 | K11: =SUM('Mau A1'!V11:V30) -> 112 | L11: =SUM('Mau A1'!X11:X30) -> 56 | M11: =SUM('Mau A1'!Y11:Y30) -> 412.5 | N11: =SUM('Mau A1'!Z11:Z30) -> -112 | O11: =SUM('Mau A1'!AA11:AA30) -> -56 | P11: =SUM('Mau A1'!AC11:AC30) -> 244.5 | Q11: =SUM('Mau A1'!AB11:AB30) -> 0 | R11: =ROUND(IF(AND(0<M11<200,0<(M11-Q11)<200,N11>=0,O11>=0),M11-Q11,IF(OR(AND(P11>0,P11>200),(P11-Q11)>200),"200",IF(OR(AND(N11<=0,O11=0,P11<200),AND(N11=0,O11<0,P11<200),AND(N11<0,O11<0,P11<200)),P11-Q11, ))),1) -> 200 | S11: =ROUND(IF(AND(N11>0,O11>0,M11<=0,R11=0),P11-Q11,IF(AND(P11>0,R11=200),P11-Q11-R11, )),1) -> 44.5 | T11: =ROUND(IF(SUM(M11:O11)-Q11<0,SUM(M11:O11)-Q11, ),1) -> 0
A12: 2 | B12: =IF('Mau A1'!B31="","",'Mau A1'!B31) -> Nguyễn | C12: =IF('Mau A1'!C31="","",'Mau A1'!C31) -> Khoa | D12: =SUM('Mau A1'!M31:M50) -> 736.1 | E12: =SUM('Mau A1'!N31:N50) -> 213.8 | F12: =SUM('Mau A1'!O31:O50) -> 0 | G12: =SUM('Mau A1'!P31:P50) -> 949.9 | H12: =SUM('Mau A1'!Q31:Q50) -> 0 | I12: =SUM('Mau A1'!R31:R50) -> 0 | J12: =SUM('Mau A1'!T31:T50) -> 450 | K12: =SUM('Mau A1'!V31:V50) -> 112 | L12: =SUM('Mau A1'!X31:X50) -> 56 | M12: =SUM('Mau A1'!Y31:Y50) -> 499.9 | N12: =SUM('Mau A1'!Z31:Z50) -> -112 | O12: =SUM('Mau A1'!AA31:AA50) -> -56 | P12: =SUM('Mau A1'!AC31:AC50) -> 331.9 | Q12: =SUM('Mau A1'!AB31:AB50) -> 0 | R12: =ROUND(IF(AND(0<M12<200,0<(M12-Q12)<200,N12>=0,O12>=0),M12-Q12,IF(OR(AND(P12>0,P12>200),(P12-Q12)>200),"200",IF(OR(AND(N12<=0,O12=0,P12<200),AND(N12=0,O12<0,P12<200),AND(N12<0,O12<0,P12<200)),P12-Q12, ))),1) -> 200 | S12: =ROUND(IF(AND(N12>0,O12>0,M12<=0,R12=0),P12-Q12,IF(AND(P12>0,R12=200),P12-Q12-R12, )),1) -> 131.9 | T12: =ROUND(IF(SUM(M12:O12)-Q12<0,SUM(M12:O12)-Q12, ),1) -> 0
A13: 3 | B13: =IF('Mau A1'!B51="","",'Mau A1'!B51) -> Nguyễn Văn | C13: =IF('Mau A1'!C51="","",'Mau A1'!C51) -> Minh | D13: =SUM('Mau A1'!M51:M70) -> 993 | E13: =SUM('Mau A1'!N51:N70) -> 67.5 | F13: =SUM('Mau A1'!O51:O70) -> 0 | G13: =SUM('Mau A1'!P51:P70) -> 1060.5 | H13: =SUM('Mau A1'!Q51:Q70) -> 0 | I13: =SUM('Mau A1'!R51:R70) -> 0 | J13: =SUM('Mau A1'!T51:T70) -> 450 | K13: =SUM('Mau A1'!V51:V70) -> 112 | L13: =SUM('Mau A1'!X51:X70) -> 56 | M13: =SUM('Mau A1'!Y51:Y70) -> 610.5 | N13: =SUM('Mau A1'!Z51:Z70) -> -112 | O13: =SUM('Mau A1'!AA51:AA70) -> -56 | P13: =SUM('Mau A1'!AC51:AC70) -> 442.5 | Q13: =SUM('Mau A1'!AB51:AB70) -> 0 | R13: =ROUND(IF(AND(0<M13<200,0<(M13-Q13)<200,N13>=0,O13>=0),M13-Q13,IF(OR(AND(P13>0,P13>200),(P13-Q13)>200),"200",IF(OR(AND(N13<=0,O13=0,P13<200),AND(N13=0,O13<0,P13<200),AND(N13<0,O13<0,P13<200)),P13-Q13, ))),1) -> 200 | S13: =ROUND(IF(AND(N13>0,O13>0,M13<=0,R13=0),P13-Q13,IF(AND(P13>0,R13=200),P13-Q13-R13, )),1) -> 242.5 | T13: =ROUND(IF(SUM(M13:O13)-Q13<0,SUM(M13:O13)-Q13, ),1) -> 0
A14: 4 | B14: =IF('Mau A1'!B71="","",'Mau A1'!B71) -> Vũ Thị Thái | C14: =IF('Mau A1'!C71="","",'Mau A1'!C71) -> Linh | D14: =SUM('Mau A1'!M71:M90) -> 784.5 | E14: =SUM('Mau A1'!N71:N90) -> 139.5 | F14: =SUM('Mau A1'!O71:O90) -> 0 | G14: =SUM('Mau A1'!P71:P90) -> 924 | H14: =SUM('Mau A1'!Q71:Q90) -> 0 | I14: =SUM('Mau A1'!R71:R90) -> 0 | J14: =SUM('Mau A1'!T71:T90) -> 450 | K14: =SUM('Mau A1'!V71:V90) -> 112 | L14: =SUM('Mau A1'!X71:X90) -> 56 | M14: =SUM('Mau A1'!Y71:Y90) -> 474 | N14: =SUM('Mau A1'!Z71:Z90) -> -112 | O14: =SUM('Mau A1'!AA71:AA90) -> -56 | P14: =SUM('Mau A1'!AC71:AC90) -> 306 | Q14: =SUM('Mau A1'!AB71:AB90) -> 0 | R14: =ROUND(IF(AND(0<M14<200,0<(M14-Q14)<200,N14>=0,O14>=0),M14-Q14,IF(OR(AND(P14>0,P14>200),(P14-Q14)>200),"200",IF(OR(AND(N14<=0,O14=0,P14<200),AND(N14=0,O14<0,P14<200),AND(N14<0,O14<0,P14<200)),P14-Q14, ))),1) -> 200 | S14: =ROUND(IF(AND(N14>0,O14>0,M14<=0,R14=0),P14-Q14,IF(AND(P14>0,R14=200),P14-Q14-R14, )),1) -> 106 | T14: =ROUND(IF(SUM(M14:O14)-Q14<0,SUM(M14:O14)-Q14, ),1) -> 0
A15: 5 | B15: =IF('Mau A1'!B91="","",'Mau A1'!B91) -> Nguyễn Văn | C15: =IF('Mau A1'!C91="","",'Mau A1'!C91) -> Danh | D15: =SUM('Mau A1'!M91:M111) -> 1113 | E15: =SUM('Mau A1'!N91:N111) -> 67.5 | F15: =SUM('Mau A1'!O91:O111) -> 0 | G15: =SUM('Mau A1'!P91:P111) -> 1180.5 | H15: =SUM('Mau A1'!Q91:Q111) -> 0 | I15: =SUM('Mau A1'!R91:R111) -> 0 | J15: =SUM('Mau A1'!T91:T111) -> 450 | K15: =SUM('Mau A1'!V91:V111) -> 112 | L15: =SUM('Mau A1'!X91:X111) -> 56 | M15: =SUM('Mau A1'!Y91:Y111) -> 730.5 | N15: =SUM('Mau A1'!Z91:Z111) -> -112 | O15: =SUM('Mau A1'!AA91:AA111) -> -56 | P15: =SUM('Mau A1'!AC91:AC111) -> 562.5 | Q15: =SUM('Mau A1'!AB91:AB111) -> 0 | R15: =ROUND(IF(AND(0<M15<200,0<(M15-Q15)<200,N15>=0,O15>=0),M15-Q15,IF(OR(AND(P15>0,P15>200),(P15-Q15)>200),"200",IF(OR(AND(N15<=0,O15=0,P15<200),AND(N15=0,O15<0,P15<200),AND(N15<0,O15<0,P15<200)),P15-Q15, ))),1) -> 200 | S15: =ROUND(IF(AND(N15>0,O15>0,M15<=0,R15=0),P15-Q15,IF(AND(P15>0,R15=200),P15-Q15-R15, )),1) -> 362.5 | T15: =ROUND(IF(SUM(M15:O15)-Q15<0,SUM(M15:O15)-Q15, ),1) -> 0
A16: 6 | B16: =IF('Mau A1'!B112="","",'Mau A1'!B112) -> Nguyễn Thị | C16: =IF('Mau A1'!C112="","",'Mau A1'!C112) -> Thủy | D16: =SUM('Mau A1'!M112:M130) -> 651 | E16: =SUM('Mau A1'!N112:N130) -> 67.5 | F16: =SUM('Mau A1'!O112:O130) -> 0 | G16: =SUM('Mau A1'!P112:P130) -> 718.5 | H16: =SUM('Mau A1'!Q112:Q130) -> 0 | I16: =SUM('Mau A1'!R112:R130) -> 0 | J16: =SUM('Mau A1'!T112:T130) -> 450 | K16: =SUM('Mau A1'!V112:V130) -> 112 | L16: =SUM('Mau A1'!X112:X130) -> 56 | M16: =SUM('Mau A1'!Y112:Y130) -> 268.5 | N16: =SUM('Mau A1'!Z112:Z130) -> -112 | O16: =SUM('Mau A1'!AA112:AA130) -> -56 | P16: =SUM('Mau A1'!AC112:AC130) -> 100.5 | Q16: =SUM('Mau A1'!AB112:AB130) -> 0 | R16: =ROUND(IF(AND(0<M16<200,0<(M16-Q16)<200,N16>=0,O16>=0),M16-Q16,IF(OR(AND(P16>0,P16>200),(P16-Q16)>200),"200",IF(OR(AND(N16<=0,O16=0,P16<200),AND(N16=0,O16<0,P16<200),AND(N16<0,O16<0,P16<200)),P16-Q16, ))),1) -> 100.5 | S16: =ROUND(IF(AND(N16>0,O16>0,M16<=0,R16=0),P16-Q16,IF(AND(P16>0,R16=200),P16-Q16-R16, )),1) -> 0 | T16: =ROUND(IF(SUM(M16:O16)-Q16<0,SUM(M16:O16)-Q16, ),1) -> 0
A17: 7 | B17: =IF('Mau A1'!B131="","",'Mau A1'!B131) -> Nguyễn Thị Thu | C17: =IF('Mau A1'!C131="","",'Mau A1'!C131) -> Hồng | D17: =SUM('Mau A1'!M131:M150) -> 797.2 | E17: =SUM('Mau A1'!N131:N150) -> 67.5 | F17: =SUM('Mau A1'!O131:O150) -> 0 | G17: =SUM('Mau A1'!P131:P150) -> 864.7 | H17: =SUM('Mau A1'!Q131:Q150) -> 0 | I17: =SUM('Mau A1'!R131:R150) -> 0 | J17: =SUM('Mau A1'!T131:T150) -> 450 | K17: =SUM('Mau A1'!V131:V150) -> 112 | L17: =SUM('Mau A1'!X131:X150) -> 56 | M17: =SUM('Mau A1'!Y131:Y150) -> 414.7 | N17: =SUM('Mau A1'!Z131:Z150) -> -112 | O17: =SUM('Mau A1'!AA131:AA150) -> -56 | P17: =SUM('Mau A1'!AC131:AC150) -> 246.7 | Q17: =SUM('Mau A1'!AB131:AB150) -> 0 | R17: =ROUND(IF(AND(0<M17<200,0<(M17-Q17)<200,N17>=0,O17>=0),M17-Q17,IF(OR(AND(P17>0,P17>200),(P17-Q17)>200),"200",IF(OR(AND(N17<=0,O17=0,P17<200),AND(N17=0,O17<0,P17<200),AND(N17<0,O17<0,P17<200)),P17-Q17, ))),1) -> 200 | S17: =ROUND(IF(AND(N17>0,O17>0,M17<=0,R17=0),P17-Q17,IF(AND(P17>0,R17=200),P17-Q17-R17, )),1) -> 46.7 | T17: =ROUND(IF(SUM(M17:O17)-Q17<0,SUM(M17:O17)-Q17, ),1) -> 0
A18: 8 | B18: =IF('Mau A1'!B151="","",'Mau A1'!B151) -> Lê Hồng | C18: =IF('Mau A1'!C151="","",'Mau A1'!C151) -> Thái | D18: =SUM('Mau A1'!M151:M172) -> 509.1 | E18: =SUM('Mau A1'!N151:N172) -> 0 | F18: =SUM('Mau A1'!O151:O172) -> 0 | G18: =SUM('Mau A1'!P151:P172) -> 509.1 | H18: =SUM('Mau A1'!Q151:Q172) -> 0 | I18: =SUM('Mau A1'!R151:R172) -> 0 | J18: =SUM('Mau A1'!T151:T172) -> 267.2 | K18: =SUM('Mau A1'!V151:V172) -> 112 | L18: =SUM('Mau A1'!X151:X172) -> 56 | M18: =SUM('Mau A1'!Y151:Y172) -> 241.9 | N18: =SUM('Mau A1'!Z151:Z172) -> -112 | O18: =SUM('Mau A1'!AA151:AA172) -> -56 | P18: =SUM('Mau A1'!AC151:AC172) -> 73.9 | Q18: =SUM('Mau A1'!AB151:AB172) -> 0 | R18: =ROUND(IF(AND(0<M18<200,0<(M18-Q18)<200,N18>=0,O18>=0),M18-Q18,IF(OR(AND(P18>0,P18>200),(P18-Q18)>200),"200",IF(OR(AND(N18<=0,O18=0,P18<200),AND(N18=0,O18<0,P18<200),AND(N18<0,O18<0,P18<200)),P18-Q18, ))),1) -> 73.9 | S18: =ROUND(IF(AND(N18>0,O18>0,M18<=0,R18=0),P18-Q18,IF(AND(P18>0,R18=200),P18-Q18-R18, )),1) -> 0 | T18: =ROUND(IF(SUM(M18:O18)-Q18<0,SUM(M18:O18)-Q18, ),1) -> 0
A19: 9 | B19: =IF('Mau A1'!B214="","",'Mau A1'!B214) -> Nguyễn Thị Khánh | C19: =IF('Mau A1'!C214="","",'Mau A1'!C214) -> Thư | D19: =SUM('Mau A1'!M214:M232) -> 821.3 | E19: =SUM('Mau A1'!N214:N232) -> 67.5 | F19: =SUM('Mau A1'!O214:O232) -> 0 | G19: =SUM('Mau A1'!P214:P232) -> 888.8 | H19: =SUM('Mau A1'!Q214:Q232) -> 0 | I19: =SUM('Mau A1'!R214:R232) -> 44 | J19: =SUM('Mau A1'!T214:T232) -> 450 | K19: =SUM('Mau A1'!V214:V232) -> 112 | L19: =SUM('Mau A1'!X214:X232) -> 56 | M19: =SUM('Mau A1'!Y214:Y232) -> 438.8 | N19: =SUM('Mau A1'!Z214:Z232) -> -112 | O19: =SUM('Mau A1'!AA214:AA232) -> -12 | P19: =SUM('Mau A1'!AC214:AC232) -> 314.8 | Q19: =SUM('Mau A1'!AB214:AB232) -> 0 | R19: =ROUND(IF(AND(0<M19<200,0<(M19-Q19)<200,N19>=0,O19>=0),M19-Q19,IF(OR(AND(P19>0,P19>200),(P19-Q19)>200),"200",IF(OR(AND(N19<=0,O19=0,P19<200),AND(N19=0,O19<0,P19<200),AND(N19<0,O19<0,P19<200)),P19-Q19, ))),1) -> 200 | S19: =ROUND(IF(AND(N19>0,O19>0,M19<=0,R19=0),P19-Q19,IF(AND(P19>0,R19=200),P19-Q19-R19, )),1) -> 114.8 | T19: =ROUND(IF(SUM(M19:O19)-Q19<0,SUM(M19:O19)-Q19, ),1) -> 0
A20: 10 | B20: =IF('Mau A1'!B233="","",'Mau A1'!B233) -> Nguyễn Sanh | C20: Cường | D20: =SUM('Mau A1'!M233:M249) -> 906.9 | E20: =SUM('Mau A1'!N233:N249) -> 67.5 | F20: =SUM('Mau A1'!O233:O249) -> 0 | G20: =SUM('Mau A1'!P233:P249) -> 974.4 | H20: =SUM('Mau A1'!Q233:Q249) -> 0 | I20: =SUM('Mau A1'!R233:R249) -> 55 | J20: =SUM('Mau A1'!T233:T249) -> 0 | K20: =SUM('Mau A1'!V233:V249) -> 112 | L20: =SUM('Mau A1'!X233:X249) -> 56 | M20: =SUM('Mau A1'!Y233:Y249) -> 524.4 | N20: =SUM('Mau A1'!Z233:Z249) -> -112 | O20: =SUM('Mau A1'!AA233:AA249) -> -1 | P20: =SUM('Mau A1'!AC233:AC249) -> 411.4 | Q20: =SUM('Mau A1'!AB233:AB249) -> 0 | R20: =ROUND(IF(AND(0<M20<200,0<(M20-Q20)<200,N20>=0,O20>=0),M20-Q20,IF(OR(AND(P20>0,P20>200),(P20-Q20)>200),"200",IF(OR(AND(N20<=0,O20=0,P20<200),AND(N20=0,O20<0,P20<200),AND(N20<0,O20<0,P20<200)),P20-Q20, ))),1) -> 200 | S20: =ROUND(IF(AND(N20>0,O20>0,M20<=0,R20=0),P20-Q20,IF(AND(P20>0,R20=200),P20-Q20-R20, )),1) -> 211.4 | T20: =ROUND(IF(SUM(M20:O20)-Q20<0,SUM(M20:O20)-Q20, ),1) -> 0
A21: 11 | B21: =IF('Mau A1'!B253="","",'Mau A1'!B253) -> Võ Anh | C21: Trang | D21: =SUM('Mau A1'!M253:M270) -> 771.3 | E21: =SUM('Mau A1'!N253:N270) -> 67.5 | F21: =SUM('Mau A1'!O253:O270) -> 0 | G21: =SUM('Mau A1'!P253:P270) -> 838.8 | H21: =SUM('Mau A1'!Q253:Q270) -> 0 | I21: =SUM('Mau A1'!R253:R270) -> 56 | J21: =SUM('Mau A1'!T253:T270) -> 0 | K21: =SUM('Mau A1'!V253:V270) -> 112 | L21: =SUM('Mau A1'!X253:X270) -> 56 | M21: =SUM('Mau A1'!Y253:Y270) -> 388.8 | N21: =SUM('Mau A1'!Z253:Z270) -> -112 | O21: =SUM('Mau A1'!AA253:AA270) -> 0 | P21: =SUM('Mau A1'!AC253:AC270) -> 276.8 | Q21: =SUM('Mau A1'!AB253:AB270) -> 0 | R21: =ROUND(IF(AND(0<M21<200,0<(M21-Q21)<200,N21>=0,O21>=0),M21-Q21,IF(OR(AND(P21>0,P21>200),(P21-Q21)>200),"200",IF(OR(AND(N21<=0,O21=0,P21<200),AND(N21=0,O21<0,P21<200),AND(N21<0,O21<0,P21<200)),P21-Q21, ))),1) -> 200 | S21: =ROUND(IF(AND(N21>0,O21>0,M21<=0,R21=0),P21-Q21,IF(AND(P21>0,R21=200),P21-Q21-R21, )),1) -> 76.8 | T21: =ROUND(IF(SUM(M21:O21)-Q21<0,SUM(M21:O21)-Q21, ),1) -> 0
A22: 12 | B22: =IF('Mau A1'!B273="","",'Mau A1'!B273) -> Ng Ng Hoàng Ngọc | C22: Quyên | D22: =SUM('Mau A1'!J273:K289) -> 535.2 | E22: =SUM('Mau A1'!K273:L289) -> 26 | F22: =SUM('Mau A1'!L273:M289) -> 813.5 | G22: =SUM('Mau A1'!M273:N289) -> 867.2 | H22: =SUM('Mau A1'!N273:O289) -> 67.5 | I22: =SUM('Mau A1'!O273:P289) -> 867.2 | J22: =SUM('Mau A1'!Q273:Q289) -> 0 | K22: =SUM('Mau A1'!S273:S289) -> 0 | L22: =SUM('Mau A1'!U273:U289) -> 0 | M22: =SUM('Mau A1'!V273:V289) -> 112 | N22: =SUM('Mau A1'!Z273:Z289) -> -112 | O22: =SUM('Mau A1'!AA273:AA289) -> -6 | P22: =SUM('Mau A1'!AC273:AC289) -> 299.2 | Q22: =SUM('Mau A1'!AB273:AB289) -> 0 | R22: =ROUND(IF(AND(0<M22<200,0<(M22-Q22)<200,N22>=0,O22>=0),M22-Q22,IF(OR(AND(P22>0,P22>200),(P22-Q22)>200),"200",IF(OR(AND(N22<=0,O22=0,P22<200),AND(N22=0,O22<0,P22<200),AND(N22<0,O22<0,P22<200)),P22-Q22, ))),1) -> 200 | S22: =ROUND(IF(AND(N22>0,O22>0,M22<=0,R22=0),P22-Q22,IF(AND(P22>0,R22=200),P22-Q22-R22, )),1) -> 99.2 | T22: =ROUND(IF(SUM(M22:O22)-Q22<0,SUM(M22:O22)-Q22, ),1) -> -6
A23: 13 | B23: =IF('Mau A1'!B293="","",'Mau A1'!B293) -> Trần Việt | C23: =IF('Mau A1'!C293="","",'Mau A1'!C293) -> Khánh | D23: =SUM('Mau A1'!M293:M311) -> 935.1 | E23: =SUM('Mau A1'!N293:N311) -> 112.5 | F23: =SUM('Mau A1'!O293:O311) -> 0 | G23: =SUM('Mau A1'!P293:P311) -> 1047.6 | H23: =SUM('Mau A1'!Q293:Q311) -> 0 | I23: =SUM('Mau A1'!R293:R311) -> 50 | J23: =SUM('Mau A1'!T293:T311) -> 450 | K23: =SUM('Mau A1'!V293:V311) -> 112 | L23: =SUM('Mau A1'!X293:X311) -> 56 | M23: =SUM('Mau A1'!Y293:Y311) -> 597.6 | N23: =SUM('Mau A1'!Z293:Z311) -> -112 | O23: =SUM('Mau A1'!AA293:AA311) -> -6 | P23: =SUM('Mau A1'!AC293:AC311) -> 479.6 | Q23: =SUM('Mau A1'!AB293:AB311) -> 0 | R23: =ROUND(IF(AND(0<M23<200,0<(M23-Q23)<200,N23>=0,O23>=0),M23-Q23,IF(OR(AND(P23>0,P23>200),(P23-Q23)>200),"200",IF(OR(AND(N23<=0,O23=0,P23<200),AND(N23=0,O23<0,P23<200),AND(N23<0,O23<0,P23<200)),P23-Q23, ))),1) -> 200 | S23: =ROUND(IF(AND(N23>0,O23>0,M23<=0,R23=0),P23-Q23,IF(AND(P23>0,R23=200),P23-Q23-R23, )),1) -> 279.6 | T23: =ROUND(IF(SUM(M23:O23)-Q23<0,SUM(M23:O23)-Q23, ),1) -> 0
A24: 14 | B24: =IF('Mau A1'!B312="","",'Mau A1'!B312) -> Đỗ Thị Hải | C24: =IF('Mau A1'!C312="","",'Mau A1'!C312) -> Yến | D24: =SUM('Mau A1'!M312:M329) -> 793.7 | E24: =SUM('Mau A1'!N312:N329) -> 67.5 | F24: =SUM('Mau A1'!O312:O329) -> 0 | G24: =SUM('Mau A1'!P312:P329) -> 861.2 | H24: =SUM('Mau A1'!Q312:Q329) -> 0 | I24: =SUM('Mau A1'!R312:R329) -> 55 | J24: =SUM('Mau A1'!T312:T329) -> 450 | K24: =SUM('Mau A1'!V312:V329) -> 112 | L24: =SUM('Mau A1'!X312:X329) -> 56 | M24: =SUM('Mau A1'!Y312:Y329) -> 411.2 | N24: =SUM('Mau A1'!Z312:Z329) -> -112 | O24: =SUM('Mau A1'!AA312:AA329) -> -1 | P24: =SUM('Mau A1'!AC312:AC329) -> 298.2 | Q24: =SUM('Mau A1'!AB312:AB329) -> 0 | R24: =ROUND(IF(AND(0<M24<200,0<(M24-Q24)<200,N24>=0,O24>=0),M24-Q24,IF(OR(AND(P24>0,P24>200),(P24-Q24)>200),"200",IF(OR(AND(N24<=0,O24=0,P24<200),AND(N24=0,O24<0,P24<200),AND(N24<0,O24<0,P24<200)),P24-Q24, ))),1) -> 200 | S24: =ROUND(IF(AND(N24>0,O24>0,M24<=0,R24=0),P24-Q24,IF(AND(P24>0,R24=200),P24-Q24-R24, )),1) -> 98.2 | T24: =ROUND(IF(SUM(M24:O24)-Q24<0,SUM(M24:O24)-Q24, ),1) -> 0
A25: 15 | B25: =IF('Mau A1'!B330="","",'Mau A1'!B330) -> Trần Vĩnh | C25: =IF('Mau A1'!C330="","",'Mau A1'!C330) -> Xuyên | D25: =SUM('Mau A1'!M330:M349) -> 1045 | E25: =SUM('Mau A1'!N330:N349) -> 67.5 | F25: =SUM('Mau A1'!O330:O349) -> 0 | G25: =SUM('Mau A1'!P330:P349) -> 1112.5 | H25: =SUM('Mau A1'!Q330:Q349) -> 0 | I25: =SUM('Mau A1'!R330:R349) -> 52 | J25: =SUM('Mau A1'!T330:T349) -> 450 | K25: =SUM('Mau A1'!V330:V349) -> 112 | L25: =SUM('Mau A1'!X330:X349) -> 56 | M25: =SUM('Mau A1'!Y330:Y349) -> 662.5 | N25: =SUM('Mau A1'!Z330:Z349) -> -112 | O25: =SUM('Mau A1'!AA330:AA349) -> -4 | P25: =SUM('Mau A1'!AC330:AC349) -> 546.5 | Q25: =SUM('Mau A1'!AB330:AB349) -> 0 | R25: =ROUND(IF(AND(0<M25<200,0<(M25-Q25)<200,N25>=0,O25>=0),M25-Q25,IF(OR(AND(P25>0,P25>200),(P25-Q25)>200),"200",IF(OR(AND(N25<=0,O25=0,P25<200),AND(N25=0,O25<0,P25<200),AND(N25<0,O25<0,P25<200)),P25-Q25, ))),1) -> 200 | S25: =ROUND(IF(AND(N25>0,O25>0,M25<=0,R25=0),P25-Q25,IF(AND(P25>0,R25=200),P25-Q25-R25, )),1) -> 346.5 | T25: =ROUND(IF(SUM(M25:O25)-Q25<0,SUM(M25:O25)-Q25, ),1) -> 0
A26: 16 | B26: =IF('Mau A1'!B350="","",'Mau A1'!B350) -> Nguyễn Cao | C26: =IF('Mau A1'!C350="","",'Mau A1'!C350) -> Phong | D26: =SUM('Mau A1'!M350:M372) -> 1097.5 | E26: =SUM('Mau A1'!N350:N372) -> 89.5 | F26: =SUM('Mau A1'!O350:O372) -> 0 | G26: =SUM('Mau A1'!P350:P372) -> 1187 | H26: =SUM('Mau A1'!Q350:Q372) -> 0 | I26: =SUM('Mau A1'!R350:R372) -> 35 | J26: =SUM('Mau A1'!T350:T372) -> 450 | K26: =SUM('Mau A1'!V350:V372) -> 112 | L26: =SUM('Mau A1'!X350:X372) -> 56 | M26: =SUM('Mau A1'!Y350:Y372) -> 737 | N26: =SUM('Mau A1'!Z350:Z372) -> -112 | O26: =SUM('Mau A1'!AA350:AA372) -> -21 | P26: =SUM('Mau A1'!AC350:AC372) -> 604 | Q26: =SUM('Mau A1'!AB350:AB372) -> 0 | R26: =ROUND(IF(AND(0<M26<200,0<(M26-Q26)<200,N26>=0,O26>=0),M26-Q26,IF(OR(AND(P26>0,P26>200),(P26-Q26)>200),"200",IF(OR(AND(N26<=0,O26=0,P26<200),AND(N26=0,O26<0,P26<200),AND(N26<0,O26<0,P26<200)),P26-Q26, ))),1) -> 200 | S26: =ROUND(IF(AND(N26>0,O26>0,M26<=0,R26=0),P26-Q26,IF(AND(P26>0,R26=200),P26-Q26-R26, )),1) -> 404 | T26: =ROUND(IF(SUM(M26:O26)-Q26<0,SUM(M26:O26)-Q26, ),1) -> 0
A27: 17 | B27: =IF('Mau A1'!B373="","",'Mau A1'!B373) -> Mai Chiếm | C27: =IF('Mau A1'!C373="","",'Mau A1'!C373) -> Tuấn | D27: =SUM('Mau A1'!M373:M385) -> 762 | E27: =SUM('Mau A1'!N373:N385) -> 67.5 | F27: =SUM('Mau A1'!O373:O385) -> 0 | G27: =SUM('Mau A1'!P373:P385) -> 829.5 | H27: =SUM('Mau A1'!Q373:Q385) -> 0 | I27: =SUM('Mau A1'!R373:R385) -> 55 | J27: =SUM('Mau A1'!T373:T385) -> 450 | K27: =SUM('Mau A1'!V373:V385) -> 112 | L27: =SUM('Mau A1'!X373:X385) -> 56 | M27: =SUM('Mau A1'!Y373:Y385) -> 379.5 | N27: =SUM('Mau A1'!Z373:Z385) -> -112 | O27: =SUM('Mau A1'!AA373:AA385) -> -1 | P27: =SUM('Mau A1'!AC373:AC385) -> 266.5 | Q27: =SUM('Mau A1'!AB373:AB385) -> 0 | R27: =ROUND(IF(AND(0<M27<200,0<(M27-Q27)<200,N27>=0,O27>=0),M27-Q27,IF(OR(AND(P27>0,P27>200),(P27-Q27)>200),"200",IF(OR(AND(N27<=0,O27=0,P27<200),AND(N27=0,O27<0,P27<200),AND(N27<0,O27<0,P27<200)),P27-Q27, ))),1) -> 200 | S27: =ROUND(IF(AND(N27>0,O27>0,M27<=0,R27=0),P27-Q27,IF(AND(P27>0,R27=200),P27-Q27-R27, )),1) -> 66.5 | T27: =ROUND(IF(SUM(M27:O27)-Q27<0,SUM(M27:O27)-Q27, ),1) -> 0
A28: 18 | B28: =IF('Mau A1'!B386="","",'Mau A1'!B386) -> Lê Quý Hưng | C28: =IF('Mau A1'!C386="","",'Mau A1'!C386) -> Quốc | D28: =SUM('Mau A1'!M386:M407) -> 1042.7 | E28: =SUM('Mau A1'!N386:N407) -> 67.5 | F28: =SUM('Mau A1'!O386:O407) -> 0 | G28: =SUM('Mau A1'!P386:P407) -> 1110.2 | H28: =SUM('Mau A1'!Q386:Q407) -> 0 | I28: =SUM('Mau A1'!R386:R407) -> 45 | J28: =SUM('Mau A1'!T386:T407) -> 450 | K28: =SUM('Mau A1'!V386:V407) -> 112 | L28: =SUM('Mau A1'!X386:X407) -> 56 | M28: =SUM('Mau A1'!Y386:Y407) -> 660.2 | N28: =SUM('Mau A1'!Z386:Z407) -> -112 | O28: =SUM('Mau A1'!AA386:AA407) -> -11 | P28: =SUM('Mau A1'!AC386:AC407) -> 537.2 | Q28: =SUM('Mau A1'!AB386:AB407) -> 0 | R28: =ROUND(IF(AND(0<M28<200,0<(M28-Q28)<200,N28>=0,O28>=0),M28-Q28,IF(OR(AND(P28>0,P28>200),(P28-Q28)>200),"200",IF(OR(AND(N28<=0,O28=0,P28<200),AND(N28=0,O28<0,P28<200),AND(N28<0,O28<0,P28<200)),P28-Q28, ))),1) -> 200 | S28: =ROUND(IF(AND(N28>0,O28>0,M28<=0,R28=0),P28-Q28,IF(AND(P28>0,R28=200),P28-Q28-R28, )),1) -> 337.2 | T28: =ROUND(IF(SUM(M28:O28)-Q28<0,SUM(M28:O28)-Q28, ),1) -> 0
A29: 19 | B29: =IF('Mau A1'!B408="","",'Mau A1'!B408) -> Nguyễn Văn | C29: =IF('Mau A1'!C408="","",'Mau A1'!C408) -> Đôn | D29: =SUM('Mau A1'!M408:M432) -> 941.9 | E29: =SUM('Mau A1'!N408:N432) -> 175.5 | F29: =SUM('Mau A1'!O408:O432) -> 0 | G29: =SUM('Mau A1'!P408:P432) -> 1117.4 | H29: =SUM('Mau A1'!Q408:Q432) -> 42.9 | I29: =SUM('Mau A1'!R408:R432) -> 56 | J29: =SUM('Mau A1'!T408:T432) -> 450 | K29: =SUM('Mau A1'!V408:V432) -> 112 | L29: =SUM('Mau A1'!X408:X432) -> 56 | M29: =SUM('Mau A1'!Y408:Y432) -> 667.4 | N29: =SUM('Mau A1'!Z408:Z432) -> -69.1 | O29: =SUM('Mau A1'!AA408:AA432) -> 0 | P29: =SUM('Mau A1'!AC408:AC432) -> 598.3 | Q29: =SUM('Mau A1'!AB408:AB432) -> 0 | R29: =ROUND(IF(AND(0<M29<200,0<(M29-Q29)<200,N29>=0,O29>=0),M29-Q29,IF(OR(AND(P29>0,P29>200),(P29-Q29)>200),"200",IF(OR(AND(N29<=0,O29=0,P29<200),AND(N29=0,O29<0,P29<200),AND(N29<0,O29<0,P29<200)),P29-Q29, ))),1) -> 200 | S29: =ROUND(IF(AND(N29>0,O29>0,M29<=0,R29=0),P29-Q29,IF(AND(P29>0,R29=200),P29-Q29-R29, )),1) -> 398.3 | T29: =ROUND(IF(SUM(M29:O29)-Q29<0,SUM(M29:O29)-Q29, ),1) -> 0
A30: 20 | B30: =IF('Mau A1'!B433="","",'Mau A1'!B433) -> Bùi Văn | C30: =IF('Mau A1'!C433="","",'Mau A1'!C433) -> Dũng | D30: =SUM('Mau A1'!M433:M454) -> 754.3 | E30: =SUM('Mau A1'!N433:N454) -> 67.5 | F30: =SUM('Mau A1'!O433:O454) -> 0 | G30: =SUM('Mau A1'!P433:P454) -> 821.8 | H30: =SUM('Mau A1'!Q433:Q454) -> 0 | I30: =SUM('Mau A1'!R433:R454) -> 56 | J30: =SUM('Mau A1'!T433:T454) -> 450 | K30: =SUM('Mau A1'!V433:V454) -> 112 | L30: =SUM('Mau A1'!X433:X454) -> 56 | M30: =SUM('Mau A1'!Y433:Y454) -> 371.8 | N30: =SUM('Mau A1'!Z433:Z454) -> -112 | O30: =SUM('Mau A1'!AA433:AA454) -> 0 | P30: =SUM('Mau A1'!AC433:AC454) -> 259.8 | Q30: =SUM('Mau A1'!AB433:AB454) -> 0 | R30: =ROUND(IF(AND(0<M30<200,0<(M30-Q30)<200,N30>=0,O30>=0),M30-Q30,IF(OR(AND(P30>0,P30>200),(P30-Q30)>200),"200",IF(OR(AND(N30<=0,O30=0,P30<200),AND(N30=0,O30<0,P30<200),AND(N30<0,O30<0,P30<200)),P30-Q30, ))),1) -> 200 | S30: =ROUND(IF(AND(N30>0,O30>0,M30<=0,R30=0),P30-Q30,IF(AND(P30>0,R30=200),P30-Q30-R30, )),1) -> 59.8 | T30: =ROUND(IF(SUM(M30:O30)-Q30<0,SUM(M30:O30)-Q30, ),1) -> 0
A31: 21 | B31: =IF('Mau A1'!B455="","",'Mau A1'!B455) -> Đậng Ngọc | C31: =IF('Mau A1'!C455="","",'Mau A1'!C455) -> Đoàn | D31: =SUM('Mau A1'!M455:M480) -> 1089.3 | E31: =SUM('Mau A1'!N455:N480) -> 67.5 | F31: =SUM('Mau A1'!O455:O480) -> 0 | G31: =SUM('Mau A1'!P455:P480) -> 1156.8 | H31: =SUM('Mau A1'!Q455:Q480) -> 0 | I31: =SUM('Mau A1'!R455:R480) -> 56 | J31: =SUM('Mau A1'!T455:T480) -> 450 | K31: =SUM('Mau A1'!V455:V480) -> 112 | L31: =SUM('Mau A1'!X455:X480) -> 56 | M31: =SUM('Mau A1'!Y455:Y480) -> 706.8 | N31: =SUM('Mau A1'!Z455:Z480) -> -112 | O31: =SUM('Mau A1'!AA455:AA480) -> 0 | P31: =SUM('Mau A1'!AC455:AC480) -> 594.8 | Q31: =SUM('Mau A1'!AB455:AB480) -> 0 | R31: =ROUND(IF(AND(0<M31<200,0<(M31-Q31)<200,N31>=0,O31>=0),M31-Q31,IF(OR(AND(P31>0,P31>200),(P31-Q31)>200),"200",IF(OR(AND(N31<=0,O31=0,P31<200),AND(N31=0,O31<0,P31<200),AND(N31<0,O31<0,P31<200)),P31-Q31, ))),1) -> 200 | S31: =ROUND(IF(AND(N31>0,O31>0,M31<=0,R31=0),P31-Q31,IF(AND(P31>0,R31=200),P31-Q31-R31, )),1) -> 394.8 | T31: =ROUND(IF(SUM(M31:O31)-Q31<0,SUM(M31:O31)-Q31, ),1) -> 0
A32: 22 | B32: =IF('Mau A1'!B481="","",'Mau A1'!B481) -> Lê Tất | C32: =IF('Mau A1'!C481="","",'Mau A1'!C481) -> Đạt | D32: =SUM('Mau A1'!M481:M494) -> 55.3 | E32: =SUM('Mau A1'!N481:N494) -> 4.5 | F32: =SUM('Mau A1'!O481:O494) -> 0 | G32: =SUM('Mau A1'!P481:P494) -> 59.8 | H32: =SUM('Mau A1'!Q481:Q494) -> 0 | I32: =SUM('Mau A1'!R481:R494) -> 41 | J32: =SUM('Mau A1'!T481:T494) -> 450 | K32: =SUM('Mau A1'!V481:V494) -> 112 | L32: =SUM('Mau A1'!X481:X494) -> 56 | M32: =SUM('Mau A1'!Y481:Y494) -> -390.2 | N32: =SUM('Mau A1'!Z481:Z494) -> -112 | O32: =SUM('Mau A1'!AA481:AA494) -> -15 | P32: =SUM('Mau A1'!AC481:AC494) -> -517.2 | Q32: =SUM('Mau A1'!AB481:AB494) -> 0 | R32: =ROUND(IF(AND(0<M32<200,0<(M32-Q32)<200,N32>=0,O32>=0),M32-Q32,IF(OR(AND(P32>0,P32>200),(P32-Q32)>200),"200",IF(OR(AND(N32<=0,O32=0,P32<200),AND(N32=0,O32<0,P32<200),AND(N32<0,O32<0,P32<200)),P32-Q32, ))),1) -> -517.2 | S32: =ROUND(IF(AND(N32>0,O32>0,M32<=0,R32=0),P32-Q32,IF(AND(P32>0,R32=200),P32-Q32-R32, )),1) -> 0 | T32: =ROUND(IF(SUM(M32:O32)-Q32<0,SUM(M32:O32)-Q32, ),1) -> -517.2
A33: 23 | B33: =IF('Mau A1'!B495="","",'Mau A1'!B495) -> Dương Ngọc | C33: =IF('Mau A1'!C495="","",'Mau A1'!C495) -> Vọng | D33: =SUM('Mau A1'!M495:M518) -> 1245.1 | E33: =SUM('Mau A1'!N495:N518) -> 67.5 | F33: =SUM('Mau A1'!O495:O518) -> 0 | G33: =SUM('Mau A1'!P495:P518) -> 1312.6 | H33: =SUM('Mau A1'!Q495:Q518) -> 0 | I33: =SUM('Mau A1'!R495:R518) -> 21 | J33: =SUM('Mau A1'!T495:T518) -> 450 | K33: =SUM('Mau A1'!V495:V518) -> 112 | L33: =SUM('Mau A1'!X495:X518) -> 56 | M33: =SUM('Mau A1'!Y495:Y518) -> 862.6 | N33: =SUM('Mau A1'!Z495:Z518) -> -112 | O33: =SUM('Mau A1'!AA495:AA518) -> -35 | P33: =SUM('Mau A1'!AC495:AC518) -> 715.6 | Q33: =SUM('Mau A1'!AB495:AB518) -> 0 | R33: =ROUND(IF(AND(0<M33<200,0<(M33-Q33)<200,N33>=0,O33>=0),M33-Q33,IF(OR(AND(P33>0,P33>200),(P33-Q33)>200),"200",IF(OR(AND(N33<=0,O33=0,P33<200),AND(N33=0,O33<0,P33<200),AND(N33<0,O33<0,P33<200)),P33-Q33, ))),1) -> 200 | S33: =ROUND(IF(AND(N33>0,O33>0,M33<=0,R33=0),P33-Q33,IF(AND(P33>0,R33=200),P33-Q33-R33, )),1) -> 515.6 | T33: =ROUND(IF(SUM(M33:O33)-Q33<0,SUM(M33:O33)-Q33, ),1) -> 0
A34: 24 | B34: =IF('Mau A1'!B519="","",'Mau A1'!B519) -> Lê Phi | C34: =IF('Mau A1'!C519="","",'Mau A1'!C519) -> Trường | D34: =SUM('Mau A1'!M519:M538) -> 742 | E34: =SUM('Mau A1'!N519:N538) -> 67.5 | F34: =SUM('Mau A1'!O519:O538) -> 0 | G34: =SUM('Mau A1'!P519:P538) -> 809.5 | H34: =SUM('Mau A1'!Q519:Q538) -> 0 | I34: =SUM('Mau A1'!R519:R538) -> 56 | J34: =SUM('Mau A1'!T519:T538) -> 450 | K34: =SUM('Mau A1'!V519:V538) -> 112 | L34: =SUM('Mau A1'!X519:X538) -> 56 | M34: =SUM('Mau A1'!Y519:Y538) -> 359.5 | N34: =SUM('Mau A1'!Z519:Z538) -> -112 | O34: =SUM('Mau A1'!AA519:AA538) -> 0 | P34: =SUM('Mau A1'!AC519:AC538) -> 247.5 | Q34: =SUM('Mau A1'!AB519:AB538) -> 0 | R34: =ROUND(IF(AND(0<M34<200,0<(M34-Q34)<200,N34>=0,O34>=0),M34-Q34,IF(OR(AND(P34>0,P34>200),(P34-Q34)>200),"200",IF(OR(AND(N34<=0,O34=0,P34<200),AND(N34=0,O34<0,P34<200),AND(N34<0,O34<0,P34<200)),P34-Q34, ))),1) -> 200 | S34: =ROUND(IF(AND(N34>0,O34>0,M34<=0,R34=0),P34-Q34,IF(AND(P34>0,R34=200),P34-Q34-R34, )),1) -> 47.5 | T34: =ROUND(IF(SUM(M34:O34)-Q34<0,SUM(M34:O34)-Q34, ),1) -> 0
A35: 25 | B35: =IF('Mau A1'!B539="","",'Mau A1'!B539) -> Nguyễn Ngọc | C35: =IF('Mau A1'!C539="","",'Mau A1'!C539) -> Tuyên | D35: =SUM('Mau A1'!M539:M559) -> 1170.2 | E35: =SUM('Mau A1'!N539:N559) -> 67.5 | F35: =SUM('Mau A1'!O539:O559) -> 0 | G35: =SUM('Mau A1'!P539:P559) -> 1237.7 | H35: =SUM('Mau A1'!Q539:Q559) -> 0 | I35: =SUM('Mau A1'!R539:R559) -> 56 | J35: =SUM('Mau A1'!T539:T559) -> 450 | K35: =SUM('Mau A1'!V539:V559) -> 112 | L35: =SUM('Mau A1'!X539:X559) -> 56 | M35: =SUM('Mau A1'!Y539:Y559) -> 787.7 | N35: =SUM('Mau A1'!Z539:Z559) -> -112 | O35: =SUM('Mau A1'!AA539:AA559) -> 0 | P35: =SUM('Mau A1'!AC539:AC559) -> 675.7 | Q35: =SUM('Mau A1'!AB539:AB559) -> 0 | R35: =ROUND(IF(AND(0<M35<200,0<(M35-Q35)<200,N35>=0,O35>=0),M35-Q35,IF(OR(AND(P35>0,P35>200),(P35-Q35)>200),"200",IF(OR(AND(N35<=0,O35=0,P35<200),AND(N35=0,O35<0,P35<200),AND(N35<0,O35<0,P35<200)),P35-Q35, ))),1) -> 200 | S35: =ROUND(IF(AND(N35>0,O35>0,M35<=0,R35=0),P35-Q35,IF(AND(P35>0,R35=200),P35-Q35-R35, )),1) -> 475.7 | T35: =ROUND(IF(SUM(M35:O35)-Q35<0,SUM(M35:O35)-Q35, ),1) -> 0
A36: 26 | B36: =IF('Mau A1'!B609="","",'Mau A1'!B609) -> Nguyễn Thanh | C36: =IF('Mau A1'!C609="","",'Mau A1'!C609) -> Lâm | D36: =SUM('Mau A1'!M609:M618) -> 72 | E36: =SUM('Mau A1'!N609:N618) -> 0 | F36: =SUM('Mau A1'!O609:O618) -> 0 | G36: =SUM('Mau A1'!P609:P618) -> 72 | H36: =SUM('Mau A1'!Q609:Q618) -> 0 | I36: =SUM('Mau A1'!R609:R618) -> 0 | J36: =SUM('Mau A1'!T609:T618) -> 0 | K36: =SUM('Mau A1'!V609:V618) -> 0 | L36: =SUM('Mau A1'!X609:X618) -> 0 | M36: =SUM('Mau A1'!Y609:Y618) -> 0 | N36: =SUM('Mau A1'!Z609:Z618) -> 0 | O36: =SUM('Mau A1'!AA609:AA618) -> 0 | P36: =SUM('Mau A1'!AC609:AC618) -> 72 | Q36: =SUM('Mau A1'!AB609:AB618) -> 0 | R36: =ROUND(IF(AND(0<M36<200,0<(M36-Q36)<200,N36>=0,O36>=0),M36-Q36,IF(OR(AND(P36>0,P36>200),(P36-Q36)>200),"200",IF(OR(AND(N36<=0,O36=0,P36<200),AND(N36=0,O36<0,P36<200),AND(N36<0,O36<0,P36<200)),P36-Q36, ))),1) -> 72 | S36: =ROUND(IF(AND(N36>0,O36>0,M36<=0,R36=0),P36-Q36,IF(AND(P36>0,R36=200),P36-Q36-R36, )),1) -> 0 | T36: =ROUND(IF(SUM(M36:O36)-Q36<0,SUM(M36:O36)-Q36, ),1) -> 0
A37: 27 | B37: =IF('Mau A1'!B619="","",'Mau A1'!B619) -> Huỳnh Thị Minh Ly | C37: =IF('Mau A1'!C619="","",'Mau A1'!C619) -> Ly | D37: =SUM('Mau A1'!M619:M628) -> 90 | E37: =SUM('Mau A1'!N619:N628) -> 0 | F37: =SUM('Mau A1'!O619:O628) -> 0 | G37: =SUM('Mau A1'!P619:P628) -> 90 | H37: =SUM('Mau A1'!Q619:Q628) -> 0 | I37: =SUM('Mau A1'!R619:R628) -> 0 | J37: =SUM('Mau A1'!T619:T628) -> 0 | K37: =SUM('Mau A1'!V619:V628) -> 0 | L37: =SUM('Mau A1'!X619:X628) -> 0 | M37: =SUM('Mau A1'!Y619:Y628) -> 0 | N37: =SUM('Mau A1'!Z619:Z628) -> 0 | O37: =SUM('Mau A1'!AA619:AA628) -> 0 | P37: =SUM('Mau A1'!AC619:AC628) -> 0 | Q37: =SUM('Mau A1'!AB619:AB628) -> 0 | R37: =ROUND(IF(AND(0<M37<200,0<(M37-Q37)<200,N37>=0,O37>=0),M37-Q37,IF(OR(AND(P37>0,P37>200),(P37-Q37)>200),"200",IF(OR(AND(N37<=0,O37=0,P37<200),AND(N37=0,O37<0,P37<200),AND(N37<0,O37<0,P37<200)),P37-Q37, ))),1) -> 0 | S37: =ROUND(IF(AND(N37>0,O37>0,M37<=0,R37=0),P37-Q37,IF(AND(P37>0,R37=200),P37-Q37-R37, )),1) -> 0 | T37: =ROUND(IF(SUM(M37:O37)-Q37<0,SUM(M37:O37)-Q37, ),1) -> 0
A38: 28 | B38: =IF('Mau A1'!B629="","",'Mau A1'!B629) -> Nguyễn Hữu | C38: =IF('Mau A1'!C629="","",'Mau A1'!C629) -> Lộc | D38: =SUM('Mau A1'!M629:M638) -> 90 | E38: =SUM('Mau A1'!N629:N638) -> 0 | F38: =SUM('Mau A1'!O629:O638) -> 0 | G38: =SUM('Mau A1'!P629:P638) -> 90 | H38: =SUM('Mau A1'!Q629:Q638) -> 0 | I38: =SUM('Mau A1'!R629:R638) -> 0 | J38: =SUM('Mau A1'!T629:T638) -> 0 | K38: =SUM('Mau A1'!V629:V638) -> 0 | L38: =SUM('Mau A1'!X629:X638) -> 0 | M38: =SUM('Mau A1'!Y629:Y638) -> 0 | N38: =SUM('Mau A1'!Z629:Z638) -> 0 | O38: =SUM('Mau A1'!AA629:AA638) -> 0 | P38: =SUM('Mau A1'!AC629:AC638) -> 0 | Q38: =SUM('Mau A1'!AB629:AB638) -> 0 | R38: =ROUND(IF(AND(0<M38<200,0<(M38-Q38)<200,N38>=0,O38>=0),M38-Q38,IF(OR(AND(P38>0,P38>200),(P38-Q38)>200),"200",IF(OR(AND(N38<=0,O38=0,P38<200),AND(N38=0,O38<0,P38<200),AND(N38<0,O38<0,P38<200)),P38-Q38, ))),1) -> 0 | S38: =ROUND(IF(AND(N38>0,O38>0,M38<=0,R38=0),P38-Q38,IF(AND(P38>0,R38=200),P38-Q38-R38, )),1) -> 0 | T38: =ROUND(IF(SUM(M38:O38)-Q38<0,SUM(M38:O38)-Q38, ),1) -> 0
A39: 29 | B39: =IF('Mau A1'!B639="","",'Mau A1'!B639) -> Huỳnh Thị Mai | C39: =IF('Mau A1'!C639="","",'Mau A1'!C639) -> Mai | D39: =SUM('Mau A1'!M639:M648) -> 90 | E39: =SUM('Mau A1'!N639:N648) -> 0 | F39: =SUM('Mau A1'!O639:O648) -> 0 | G39: =SUM('Mau A1'!P639:P648) -> 90 | H39: =SUM('Mau A1'!Q639:Q648) -> 0 | I39: =SUM('Mau A1'!R639:R648) -> 0 | J39: =SUM('Mau A1'!T639:T648) -> 0 | K39: =SUM('Mau A1'!V639:V648) -> 0 | L39: =SUM('Mau A1'!X639:X648) -> 0 | M39: =SUM('Mau A1'!Y639:Y648) -> 0 | N39: =SUM('Mau A1'!Z639:Z648) -> 0 | O39: =SUM('Mau A1'!AA639:AA648) -> 0 | P39: =SUM('Mau A1'!AC639:AC648) -> 0 | Q39: =SUM('Mau A1'!AB639:AB648) -> 0 | R39: =ROUND(IF(AND(0<M39<200,0<(M39-Q39)<200,N39>=0,O39>=0),M39-Q39,IF(OR(AND(P39>0,P39>200),(P39-Q39)>200),"200",IF(OR(AND(N39<=0,O39=0,P39<200),AND(N39=0,O39<0,P39<200),AND(N39<0,O39<0,P39<200)),P39-Q39, ))),1) -> 0 | S39: =ROUND(IF(AND(N39>0,O39>0,M39<=0,R39=0),P39-Q39,IF(AND(P39>0,R39=200),P39-Q39-R39, )),1) -> 0 | T39: =ROUND(IF(SUM(M39:O39)-Q39<0,SUM(M39:O39)-Q39, ),1) -> 0
A40: 30 | B40: =IF('Mau A1'!B660="","",'Mau A1'!B660) -> TG 2 | C40: =IF('Mau A1'!C660="","",'Mau A1'!C660) | D40: =SUM('Mau A1'!M660:M670) -> 639 | E40: =SUM('Mau A1'!N660:N670) -> 0 | F40: =SUM('Mau A1'!O660:O670) -> 0 | G40: =SUM('Mau A1'!P660:P670) -> 639 | H40: =SUM('Mau A1'!Q660:Q670) -> 0 | I40: =SUM('Mau A1'!R660:R670) -> 0 | J40: =SUM('Mau A1'!T660:T670) -> 0 | K40: =SUM('Mau A1'!V660:V670) -> 0 | L40: =SUM('Mau A1'!X660:X670) -> 0 | M40: =SUM('Mau A1'!Y660:Y670) -> 0 | N40: =SUM('Mau A1'!Z660:Z670) -> 0 | O40: =SUM('Mau A1'!AA660:AA670) -> 0 | P40: =SUM('Mau A1'!AC660:AC670) -> 0 | Q40: =SUM('Mau A1'!AB660:AB670) -> 0 | R40: =ROUND(IF(AND(0<M40<200,0<(M40-Q40)<200,N40>=0,O40>=0),M40-Q40,IF(OR(AND(P40>0,P40>200),(P40-Q40)>200),"200",IF(OR(AND(N40<=0,O40=0,P40<200),AND(N40=0,O40<0,P40<200),AND(N40<0,O40<0,P40<200)),P40-Q40, ))),1) -> 0 | S40: =ROUND(IF(AND(N40>0,O40>0,M40<=0,R40=0),P40-Q40,IF(AND(P40>0,R40=200),P40-Q40-R40, )),1) -> 0 | T40: =ROUND(IF(SUM(M40:O40)-Q40<0,SUM(M40:O40)-Q40, ),1) -> 0
A41: 31 | B41: =IF('Mau A1'!#REF!="","",'Mau A1'!#REF!) -> #REF! | C41: =IF('Mau A1'!#REF!="","",'Mau A1'!#REF!) -> #REF! | D41: =SUM('Mau A1'!#REF!) -> #REF! | E41: =SUM('Mau A1'!#REF!) -> #REF! | F41: =SUM('Mau A1'!#REF!) -> #REF! | G41: =SUM('Mau A1'!#REF!) -> #REF! | H41: =SUM('Mau A1'!#REF!) -> #REF! | I41: =SUM('Mau A1'!#REF!) -> #REF! | J41: =SUM('Mau A1'!#REF!) -> #REF! | K41: =SUM('Mau A1'!#REF!) -> #REF! | ... Q41: =SUM('Mau A1'!#REF!) -> #REF! | R41: =ROUND(IF(AND(0<M41<200,0<(M41-Q41)<200,N41>=0,O41>=0),M41-Q41,IF(OR(AND(P41>0,P41>200),(P41-Q41)>200),"200",IF(OR(AND(N41<=0,O41=0,P41<200),AND(N41=0,O41<0,P41<200),AND(N41<0,O41<0,P41<200)),P41-Q41, ))),1) -> #REF! | S41: =ROUND(IF(AND(N41>0,O41>0,M41<=0,R41=0),P41-Q41,IF(AND(P41>0,R41=200),P41-Q41-R41, )),1) -> #REF! | T41: =ROUND(IF(SUM(M41:O41)-Q41<0,SUM(M41:O41)-Q41, ),1) -> #REF!
A42: 32 | B42: =IF('Mau A1'!#REF!="","",'Mau A1'!#REF!) -> #REF! | C42: =IF('Mau A1'!#REF!="","",'Mau A1'!#REF!) -> #REF! | D42: =SUM('Mau A1'!#REF!) -> #REF! | E42: =SUM('Mau A1'!#REF!) -> #REF! | F42: =SUM('Mau A1'!#REF!) -> #REF! | G42: =SUM('Mau A1'!#REF!) -> #REF! | H42: =SUM('Mau A1'!#REF!) -> #REF! | I42: =SUM('Mau A1'!#REF!) -> #REF! | J42: =SUM('Mau A1'!#REF!) -> #REF! | K42: =SUM('Mau A1'!#REF!) -> #REF! | ... Q42: =SUM('Mau A1'!#REF!) -> #REF! | R42: =ROUND(IF(AND(0<M42<200,0<(M42-Q42)<200,N42>=0,O42>=0),M42-Q42,IF(OR(AND(P42>0,P42>200),(P42-Q42)>200),"200",IF(OR(AND(N42<=0,O42=0,P42<200),AND(N42=0,O42<0,P42<200),AND(N42<0,O42<0,P42<200)),P42-Q42, ))),1) -> #REF! | S42: =ROUND(IF(AND(N42>0,O42>0,M42<=0,R42=0),P42-Q42,IF(AND(P42>0,R42=200),P42-Q42-R42, )),1) -> #REF! | T42: =ROUND(IF(SUM(M42:O42)-Q42<0,SUM(M42:O42)-Q42, ),1) -> #REF!
A43: 33 | B43: =IF('Mau A1'!#REF!="","",'Mau A1'!#REF!) -> #REF! | C43: =IF('Mau A1'!#REF!="","",'Mau A1'!#REF!) -> #REF! | D43: =SUM('Mau A1'!#REF!) -> #REF! | E43: =SUM('Mau A1'!#REF!) -> #REF! | F43: =SUM('Mau A1'!#REF!) -> #REF! | G43: =SUM('Mau A1'!#REF!) -> #REF! | H43: =SUM('Mau A1'!#REF!) -> #REF! | I43: =SUM('Mau A1'!#REF!) -> #REF! | J43: =SUM('Mau A1'!#REF!) -> #REF! | K43: =SUM('Mau A1'!#REF!) -> #REF! | ... Q43: =SUM('Mau A1'!#REF!) -> #REF! | R43: =ROUND(IF(AND(0<M43<200,0<(M43-Q43)<200,N43>=0,O43>=0),M43-Q43,IF(OR(AND(P43>0,P43>200),(P43-Q43)>200),"200",IF(OR(AND(N43<=0,O43=0,P43<200),AND(N43=0,O43<0,P43<200),AND(N43<0,O43<0,P43<200)),P43-Q43, ))),1) -> #REF! | S43: =ROUND(IF(AND(N43>0,O43>0,M43<=0,R43=0),P43-Q43,IF(AND(P43>0,R43=200),P43-Q43-R43, )),1) -> #REF! | T43: =ROUND(IF(SUM(M43:O43)-Q43<0,SUM(M43:O43)-Q43, ),1) -> #REF!
A44: 34 | B44: =IF('Mau A1'!#REF!="","",'Mau A1'!#REF!) -> #REF! | C44: =IF('Mau A1'!#REF!="","",'Mau A1'!#REF!) -> #REF! | D44: =SUM('Mau A1'!#REF!) -> #REF! | E44: =SUM('Mau A1'!#REF!) -> #REF! | F44: =SUM('Mau A1'!#REF!) -> #REF! | G44: =SUM('Mau A1'!#REF!) -> #REF! | H44: =SUM('Mau A1'!#REF!) -> #REF! | I44: =SUM('Mau A1'!#REF!) -> #REF! | J44: =SUM('Mau A1'!#REF!) -> #REF! | K44: =SUM('Mau A1'!#REF!) -> #REF! | ... Q44: =SUM('Mau A1'!#REF!) -> #REF! | R44: =ROUND(IF(AND(0<M44<200,0<(M44-Q44)<200,N44>=0,O44>=0),M44-Q44,IF(OR(AND(P44>0,P44>200),(P44-Q44)>200),"200",IF(OR(AND(N44<=0,O44=0,P44<200),AND(N44=0,O44<0,P44<200),AND(N44<0,O44<0,P44<200)),P44-Q44, ))),1) -> #REF! | S44: =ROUND(IF(AND(N44>0,O44>0,M44<=0,R44=0),P44-Q44,IF(AND(P44>0,R44=200),P44-Q44-R44, )),1) -> #REF! | T44: =ROUND(IF(SUM(M44:O44)-Q44<0,SUM(M44:O44)-Q44, ),1) -> #REF!
A45: 35 | B45: =IF('Mau A1'!#REF!="","",'Mau A1'!#REF!) -> #REF! | C45: =IF('Mau A1'!#REF!="","",'Mau A1'!#REF!) -> #REF! | D45: =SUM('Mau A1'!#REF!) -> #REF! | E45: =SUM('Mau A1'!#REF!) -> #REF! | F45: =SUM('Mau A1'!#REF!) -> #REF! | G45: =SUM('Mau A1'!#REF!) -> #REF! | H45: =SUM('Mau A1'!#REF!) -> #REF! | I45: =SUM('Mau A1'!#REF!) -> #REF! | J45: =SUM('Mau A1'!#REF!) -> #REF! | K45: =SUM('Mau A1'!#REF!) -> #REF! | ... Q45: =SUM('Mau A1'!#REF!) -> #REF! | R45: =ROUND(IF(AND(0<M45<200,0<(M45-Q45)<200,N45>=0,O45>=0),M45-Q45,IF(OR(AND(P45>0,P45>200),(P45-Q45)>200),"200",IF(OR(AND(N45<=0,O45=0,P45<200),AND(N45=0,O45<0,P45<200),AND(N45<0,O45<0,P45<200)),P45-Q45, ))),1) -> #REF! | S45: =ROUND(IF(AND(N45>0,O45>0,M45<=0,R45=0),P45-Q45,IF(AND(P45>0,R45=200),P45-Q45-R45, )),1) -> #REF! | T45: =ROUND(IF(SUM(M45:O45)-Q45<0,SUM(M45:O45)-Q45, ),1) -> #REF!
A46: 36 | B46: =IF('Mau A1'!#REF!="","",'Mau A1'!#REF!) -> #REF! | C46: =IF('Mau A1'!#REF!="","",'Mau A1'!#REF!) -> #REF! | D46: =SUM('Mau A1'!#REF!) -> #REF! | E46: =SUM('Mau A1'!#REF!) -> #REF! | F46: =SUM('Mau A1'!#REF!) -> #REF! | G46: =SUM('Mau A1'!#REF!) -> #REF! | H46: =SUM('Mau A1'!#REF!) -> #REF! | I46: =SUM('Mau A1'!#REF!) -> #REF! | J46: =SUM('Mau A1'!#REF!) -> #REF! | K46: =SUM('Mau A1'!#REF!) -> #REF! | ... Q46: =SUM('Mau A1'!#REF!) -> #REF! | R46: =ROUND(IF(AND(0<M46<200,0<(M46-Q46)<200,N46>=0,O46>=0),M46-Q46,IF(OR(AND(P46>0,P46>200),(P46-Q46)>200),"200",IF(OR(AND(N46<=0,O46=0,P46<200),AND(N46=0,O46<0,P46<200),AND(N46<0,O46<0,P46<200)),P46-Q46, ))),1) -> #REF! | S46: =ROUND(IF(AND(N46>0,O46>0,M46<=0,R46=0),P46-Q46,IF(AND(P46>0,R46=200),P46-Q46-R46, )),1) -> #REF! | T46: =ROUND(IF(SUM(M46:O46)-Q46<0,SUM(M46:O46)-Q46, ),1) -> #REF!
A47: 37 | B47: =IF('Mau A1'!#REF!="","",'Mau A1'!#REF!) -> #REF! | C47: =IF('Mau A1'!#REF!="","",'Mau A1'!#REF!) -> #REF! | D47: =SUM('Mau A1'!#REF!) -> #REF! | E47: =SUM('Mau A1'!#REF!) -> #REF! | F47: =SUM('Mau A1'!#REF!) -> #REF! | G47: =SUM('Mau A1'!#REF!) -> #REF! | H47: =SUM('Mau A1'!#REF!) -> #REF! | I47: =SUM('Mau A1'!#REF!) -> #REF! | J47: =SUM('Mau A1'!#REF!) -> #REF! | K47: =SUM('Mau A1'!#REF!) -> #REF! | ... Q47: =SUM('Mau A1'!#REF!) -> #REF! | R47: =ROUND(IF(AND(0<M47<200,0<(M47-Q47)<200,N47>=0,O47>=0),M47-Q47,IF(OR(AND(P47>0,P47>200),(P47-Q47)>200),"200",IF(OR(AND(N47<=0,O47=0,P47<200),AND(N47=0,O47<0,P47<200),AND(N47<0,O47<0,P47<200)),P47-Q47, ))),1) -> #REF! | S47: =ROUND(IF(AND(N47>0,O47>0,M47<=0,R47=0),P47-Q47,IF(AND(P47>0,R47=200),P47-Q47-R47, )),1) -> #REF! | T47: =ROUND(IF(SUM(M47:O47)-Q47<0,SUM(M47:O47)-Q47, ),1) -> #REF!
A48: 38 | B48: =IF('Mau A1'!#REF!="","",'Mau A1'!#REF!) -> #REF! | C48: =IF('Mau A1'!#REF!="","",'Mau A1'!#REF!) -> #REF! | D48: =SUM('Mau A1'!#REF!) -> #REF! | E48: =SUM('Mau A1'!#REF!) -> #REF! | F48: =SUM('Mau A1'!#REF!) -> #REF! | G48: =SUM('Mau A1'!#REF!) -> #REF! | H48: =SUM('Mau A1'!#REF!) -> #REF! | I48: =SUM('Mau A1'!#REF!) -> #REF! | J48: =SUM('Mau A1'!#REF!) -> #REF! | K48: =SUM('Mau A1'!#REF!) -> #REF! | ... Q48: =SUM('Mau A1'!#REF!) -> #REF! | R48: =ROUND(IF(AND(0<M48<200,0<(M48-Q48)<200,N48>=0,O48>=0),M48-Q48,IF(OR(AND(P48>0,P48>200),(P48-Q48)>200),"200",IF(OR(AND(N48<=0,O48=0,P48<200),AND(N48=0,O48<0,P48<200),AND(N48<0,O48<0,P48<200)),P48-Q48, ))),1) -> #REF! | S48: =ROUND(IF(AND(N48>0,O48>0,M48<=0,R48=0),P48-Q48,IF(AND(P48>0,R48=200),P48-Q48-R48, )),1) -> #REF! | T48: =ROUND(IF(SUM(M48:O48)-Q48<0,SUM(M48:O48)-Q48, ),1) -> #REF!
A49: 39 | B49: =IF('Mau A1'!#REF!="","",'Mau A1'!#REF!) -> #REF! | C49: =IF('Mau A1'!#REF!="","",'Mau A1'!#REF!) -> #REF! | D49: =SUM('Mau A1'!#REF!) -> #REF! | E49: =SUM('Mau A1'!#REF!) -> #REF! | F49: =SUM('Mau A1'!#REF!) -> #REF! | G49: =SUM('Mau A1'!#REF!) -> #REF! | H49: =SUM('Mau A1'!#REF!) -> #REF! | I49: =SUM('Mau A1'!#REF!) -> #REF! | J49: =SUM('Mau A1'!#REF!) -> #REF! | K49: =SUM('Mau A1'!#REF!) -> #REF! | ... Q49: =SUM('Mau A1'!#REF!) -> #REF! | R49: =ROUND(IF(AND(0<M49<200,0<(M49-Q49)<200,N49>=0,O49>=0),M49-Q49,IF(OR(AND(P49>0,P49>200),(P49-Q49)>200),"200",IF(OR(AND(N49<=0,O49=0,P49<200),AND(N49=0,O49<0,P49<200),AND(N49<0,O49<0,P49<200)),P49-Q49, ))),1) -> #REF! | S49: =ROUND(IF(AND(N49>0,O49>0,M49<=0,R49=0),P49-Q49,IF(AND(P49>0,R49=200),P49-Q49-R49, )),1) -> #REF! | T49: =ROUND(IF(SUM(M49:O49)-Q49<0,SUM(M49:O49)-Q49, ),1) -> #REF!
A50: 40 | B50: =IF('Mau A1'!#REF!="","",'Mau A1'!#REF!) -> #REF! | C50: =IF('Mau A1'!#REF!="","",'Mau A1'!#REF!) -> #REF! | D50: =SUM('Mau A1'!#REF!) -> #REF! | E50: =SUM('Mau A1'!#REF!) -> #REF! | F50: =SUM('Mau A1'!#REF!) -> #REF! | G50: =SUM('Mau A1'!#REF!) -> #REF! | H50: =SUM('Mau A1'!#REF!) -> #REF! | I50: =SUM('Mau A1'!#REF!) -> #REF! | J50: =SUM('Mau A1'!#REF!) -> #REF! | K50: =SUM('Mau A1'!#REF!) -> #REF! | ... Q50: =SUM('Mau A1'!#REF!) -> #REF! | R50: =ROUND(IF(AND(0<M50<200,0<(M50-Q50)<200,N50>=0,O50>=0),M50-Q50,IF(OR(AND(P50>0,P50>200),(P50-Q50)>200),"200",IF(OR(AND(N50<=0,O50=0,P50<200),AND(N50=0,O50<0,P50<200),AND(N50<0,O50<0,P50<200)),P50-Q50, ))),1) -> #REF! | S50: =ROUND(IF(AND(N50>0,O50>0,M50<=0,R50=0),P50-Q50,IF(AND(P50>0,R50=200),P50-Q50-R50, )),1) -> #REF! | T50: =ROUND(IF(SUM(M50:O50)-Q50<0,SUM(M50:O50)-Q50, ),1) -> #REF!
A51: 41 | B51: =IF('Mau A1'!#REF!="","",'Mau A1'!#REF!) -> #REF! | C51: =IF('Mau A1'!#REF!="","",'Mau A1'!#REF!) -> #REF! | D51: =SUM('Mau A1'!#REF!) -> #REF! | E51: =SUM('Mau A1'!#REF!) -> #REF! | F51: =SUM('Mau A1'!#REF!) -> #REF! | G51: =SUM('Mau A1'!#REF!) -> #REF! | H51: =SUM('Mau A1'!#REF!) -> #REF! | I51: =SUM('Mau A1'!#REF!) -> #REF! | J51: =SUM('Mau A1'!#REF!) -> #REF! | K51: =SUM('Mau A1'!#REF!) -> #REF! | ... Q51: =SUM('Mau A1'!#REF!) -> #REF! | R51: =ROUND(IF(AND(0<M51<200,0<(M51-Q51)<200,N51>=0,O51>=0),M51-Q51,IF(OR(AND(P51>0,P51>200),(P51-Q51)>200),"200",IF(OR(AND(N51<=0,O51=0,P51<200),AND(N51=0,O51<0,P51<200),AND(N51<0,O51<0,P51<200)),P51-Q51, ))),1) -> #REF! | S51: =ROUND(IF(AND(N51>0,O51>0,M51<=0,R51=0),P51-Q51,IF(AND(P51>0,R51=200),P51-Q51-R51, )),1) -> #REF! | T51: =ROUND(IF(SUM(M51:O51)-Q51<0,SUM(M51:O51)-Q51, ),1) -> #REF!
A52: 42 | B52: =IF('Mau A1'!#REF!="","",'Mau A1'!#REF!) -> #REF! | C52: =IF('Mau A1'!#REF!="","",'Mau A1'!#REF!) -> #REF! | D52: =SUM('Mau A1'!#REF!) -> #REF! | E52: =SUM('Mau A1'!#REF!) -> #REF! | F52: =SUM('Mau A1'!#REF!) -> #REF! | G52: =SUM('Mau A1'!#REF!) -> #REF! | H52: =SUM('Mau A1'!#REF!) -> #REF! | I52: =SUM('Mau A1'!#REF!) -> #REF! | J52: =SUM('Mau A1'!#REF!) -> #REF! | K52: =SUM('Mau A1'!#REF!) -> #REF! | ... Q52: =SUM('Mau A1'!#REF!) -> #REF! | R52: =ROUND(IF(AND(0<M52<200,0<(M52-Q52)<200,N52>=0,O52>=0),M52-Q52,IF(OR(AND(P52>0,P52>200),(P52-Q52)>200),"200",IF(OR(AND(N52<=0,O52=0,P52<200),AND(N52=0,O52<0,P52<200),AND(N52<0,O52<0,P52<200)),P52-Q52, ))),1) -> #REF! | S52: =ROUND(IF(AND(N52>0,O52>0,M52<=0,R52=0),P52-Q52,IF(AND(P52>0,R52=200),P52-Q52-R52, )),1) -> #REF! | T52: =ROUND(IF(SUM(M52:O52)-Q52<0,SUM(M52:O52)-Q52, ),1) -> #REF!
... A60: 50 | B60: =IF('Mau A1'!#REF!="","",'Mau A1'!#REF!) -> #REF! | C60: =IF('Mau A1'!#REF!="","",'Mau A1'!#REF!) -> #REF! | D60: =SUM('Mau A1'!#REF!) -> #REF! | E60: =SUM('Mau A1'!#REF!) -> #REF! | F60: =SUM('Mau A1'!#REF!) -> #REF! | G60: =SUM('Mau A1'!#REF!) -> #REF! | H60: =SUM('Mau A1'!#REF!) -> #REF! | I60: =SUM('Mau A1'!#REF!) -> #REF! | J60: =SUM('Mau A1'!#REF!) -> #REF! | K60: =SUM('Mau A1'!#REF!) -> #REF! | ... Q60: =SUM('Mau A1'!#REF!) -> #REF! | R60: =ROUND(IF(AND(0<M60<200,0<(M60-Q60)<200,N60>=0,O60>=0),M60-Q60,IF(OR(AND(P60>0,P60>200),(P60-Q60)>200),"200",IF(OR(AND(N60<=0,O60=0,P60<200),AND(N60=0,O60<0,P60<200),AND(N60<0,O60<0,P60<200)),P60-Q60, ))),1) -> #REF! | S60: =ROUND(IF(AND(N60>0,O60>0,M60<=0,R60=0),P60-Q60,IF(AND(P60>0,R60=200),P60-Q60-R60, )),1) -> #REF! | T60: =ROUND(IF(SUM(M60:O60)-Q60<0,SUM(M60:O60)-Q60, ),1) -> #REF!
A61: TỔNG CỘNG | D61: =SUM(D11:D60) -> #REF! | E61: =SUM(E11:E60) -> #REF! | F61: =SUM(F11:F60) -> #REF! | G61: =SUM(G11:G60) -> #REF! | H61: =SUM(H11:H60) -> #REF! | I61: =SUM(I11:I60) -> #REF! | J61: =SUM(J11:J60) -> #REF! | K61: =SUM(K11:K60) -> #REF! | ... T61: =SUM(T11:T60) -> #REF!
B63: Lưu ý: Không cần nhập số liệu, vì tất cả các số liệu được cài sẵn công thức chuyển từ mẫu A1 sang
T64: Thành phố Hồ Chí Minh, ngày tháng năm 2018
A65: HIỆU TRƯỞNG | C65: TRƯỞNG P. TS-ĐT | G65: TRƯỞNG TỔ TT - PC | I65: TRƯỞNG P. QLKH-HTQT | L65: TRƯỞNG PHÒNG KT&ĐBCL | O65: TRƯỞNG P. TC-HC-TH | S65: TRƯỞNG KHOA

Sheet Mau A1
AB1: Mẫu A1
A2: UBND THÀNH PHỐ HỒ CHÍ MINH | V2: CỘNG HÒA XÃ HỘI CHỦ NGHĨA VIỆT NAM
A3: TRƯỜNG CAO ĐẲNG LÝ TỰ TRỌNG THÀNH PHỐ HỒ CHÍ MINH | V3: Độc lập - Tự do - Hạnh phúc
A4: BẢNG TÍNH KHỐI LƯỢNG CÔNG VIỆC CỦA GIẢNG VIÊN TRONG NĂM HỌC 2018 - 2019
A5: KHOA : CÔNG NGHỆ THÔNG TIN
A7: TT | B7: Họ và Tên | D7: MÃ LỚP HP | E7: Môn dạy | F7: lớp dạy | G7: Học kỳ | H7: Thực hiện trong năm học | S7: Số tiết chuẩn giảng dạy | T7: Số tiết chuẩn giảng dạy còn lại | U7: Số tiết chuẩn "Học tập, bồi dưỡng chuẩn hóa, bồi dưỡng nâng cao, nghiên cứu khoa học" | V7: Số tiết chuẩn "Học tập, bồi dưỡng chuẩn hóa, bồi dưỡng nâng cao, nghiên cứu khoa học" còn lại | W7: Số tiết chuẩn "Thực tập tại doanh nghiệp hoặc cơ quan chuyên môn" | X7: Số tiết chuẩn "Thực tập tại doanh nghiệp hoặc cơ quan chuyên môn" còn lại | Y7: Số tiết thừa, thiếu giảng dạy | Z7: Số tiết thừa, thiếu "Học tập, bồi dưỡng chuẩn hóa, bồi dưỡng nâng cao, nghiên cứu khoa học" | AA7: Số tiết thừa, thiếu "Thực tập tại doanh nghiệp hoặc cơ quan chuyên môn" | AB7: Số tiết thiếu năm học 2016-2017 | AC7: Tổng số tiết thừa, thiếu năm học 2017-2018
H8: Chưa nhân hệ số | J8: Sĩ số LHP | K8: Hệ số | M8: Số tiết quy đổi và đã nhân hệ số | N8: Kiêm nhiệm | O8: Số tiết soạn đề, coi thi, chấm thi | P8: Tổng tiết thực hiện | Q8: Số tiết "Học tập, bồi dưỡng chuẩn hóa, bồi dưỡng nâng cao, nghiên cứu khoa học" | R8: Số tiết "Thực tập tại doanh nghiệp hoặc cơ quan chuyên môn"
H9: LT | I9: TH | J9: Chính thức và học lại | K9: LT | L9: TH
A10: (1) | B10: (2) | E10: (3) | F10: (4) | G10: (5) | H10: (6) | I10: (7) | K10: =IF(OR(LEFT(E10,2)="ĐA",LEFT(E10,2)="DA",LEFT(E10,5)="Đồ án",LEFT(E10,5)="Đồán ",LEFT(E10,9)="Sinh hoạt",LEFT(E10,9)="sinh hoạt",LEFT(E10,6)="Cố vấn",LEFT(E10,6)="cố vấn",LEFT(E10,4)="cvht",LEFT(E10,4)="CVHT",LEFT(E10,4)="shcn",LEFT(E10,4)="SHCN"),0,(IF(AND(H10>0,J10>0),IF(J10>60,1.3,IF(J10>35,1.2,1)),0))) -> 0 | L10: =IF(OR(LEFT(E10,2)="ĐA",LEFT(E10,2)="DA",LEFT(E10,5)="Đồ án",LEFT(E10,5)="Đồán "),0,IF(AND(J10>0,I10>0),IF(AND(OR(LEFT(E10,4)="GDQP",LEFT(E10,4)="gdqp",LEFT(E10,19)="Giáo dục quốc phòng"),J10>50),1.3,IF(J10>35,1.2,IF(J10>29,1.1,1))),0)) -> 0 | M10: =ROUND(IF(OR(LEFT(E10,2)="ĐA",LEFT(E10,2)="DA",LEFT(E10,5)="Đồ án",LEFT(E10,5)="Đồán "),J10*0.5,(IF(H10>0,H10*K10,"0")+IF(I10>0,(I10*0.75)*L10,"0"))),1) -> 0 | N10: (11) | O10: (12) | P10: (13) | Q10: (14) | R10: (15) | T10: (16) | V10: (17) | X10: (18) | Y10: (19) | Z10: (20) | AA10: (21) | AB10: (22) | AC10: (23)
A11: 1 | B11: Nguyễn Vân | C11: Giang | D11: 21100094402 | E11: Cấu trúc dữ liệu và giải thuật | F11: 17C1-CTM1 | G11: 1 | H11: 15 | I11: 60 | J11: 37 | K11: =IF(OR(LEFT(E11,2)="ĐA",LEFT(E11,2)="DA",LEFT(E11,5)="Đồ án",LEFT(E11,5)="Đồán ",LEFT(E11,9)="Sinh hoạt",LEFT(E11,9)="sinh hoạt",LEFT(E11,6)="Cố vấn",LEFT(E11,6)="cố vấn",LEFT(E11,4)="cvht",LEFT(E11,4)="CVHT",LEFT(E11,4)="shcn",LEFT(E11,4)="SHCN"),0,(IF(AND(H11>0,J11>0),IF(J11>60,1.3,IF(J11>35,1.2,1)),0))) -> 1.2 | L11: =IF(OR(LEFT(E11,2)="ĐA",LEFT(E11,2)="DA",LEFT(E11,5)="Đồ án",LEFT(E11,5)="Đồán "),0,IF(AND(J11>0,I11>0),IF(AND(OR(LEFT(E11,4)="GDQP",LEFT(E11,4)="gdqp",LEFT(E11,19)="Giáo dục quốc phòng"),J11>50),1.3,IF(J11>35,1.2,IF(J11>29,1.1,1))),0)) -> 1.2 | M11: =ROUND(IF(OR(LEFT(E11,2)="ĐA",LEFT(E11,2)="DA",LEFT(E11,5)="Đồ án",LEFT(E11,5)="Đồán "),J11*0.5,(IF(H11>0,H11*K11,"0")+IF(I11>0,(I11*0.75)*L11,"0"))),1) -> 72 | N11: 157.5 | O11: 0 | P11: =SUM(M11:M30)+N11+O11 -> 862.5 | Q11: 0 | R11: 0 | S11: 450 | T11: 450 | U11: 112 | V11: 112 | W11: 56 | X11: 56 | Y11: =ROUND((P11-T11),1) -> 412.5 | Z11: =IF(OR(SUM(V11:V30)="",SUM(Q11:Q30)=""),0,IF(OR(SUM(U11:U30)=320,SUM(V11:V30)>0),ROUND((SUM(Q11:Q30)-SUM(V11:V30)),1),0)) -> -112 | AA11: =IF(OR(SUM(X11:X30)="",SUM(R11:R30)=""),0,IF(OR(SUM(W11:W30)=160,SUM(X11:X30)>0),ROUND((SUM(R11:R30)-SUM(X11:X30)),1),0)) -> -56 | AC11: =SUM(Y11:AA30) -> 244.5
D12: 21100094403 | E12: Cấu trúc dữ liệu và giải thuật | F12: 17C1-CTM2 | G12: 1 | H12: 15 | I12: 60 | J12: 33 | K12: =IF(OR(LEFT(E12,2)="ĐA",LEFT(E12,2)="DA",LEFT(E12,5)="Đồ án",LEFT(E12,5)="Đồán ",LEFT(E12,9)="Sinh hoạt",LEFT(E12,9)="sinh hoạt",LEFT(E12,6)="Cố vấn",LEFT(E12,6)="cố vấn",LEFT(E12,4)="cvht",LEFT(E12,4)="CVHT",LEFT(E12,4)="shcn",LEFT(E12,4)="SHCN"),0,(IF(AND(H12>0,J12>0),IF(J12>60,1.3,IF(J12>35,1.2,1)),0))) -> 1 | L12: =IF(OR(LEFT(E12,2)="ĐA",LEFT(E12,2)="DA",LEFT(E12,5)="Đồ án",LEFT(E12,5)="Đồán "),0,IF(AND(J12>0,I12>0),IF(AND(OR(LEFT(E12,4)="GDQP",LEFT(E12,4)="gdqp",LEFT(E12,19)="Giáo dục quốc phòng"),J12>50),1.3,IF(J12>35,1.2,IF(J12>29,1.1,1))),0)) -> 1.1 | M12: =ROUND(IF(OR(LEFT(E12,2)="ĐA",LEFT(E12,2)="DA",LEFT(E12,5)="Đồ án",LEFT(E12,5)="Đồán "),J12*0.5,(IF(H12>0,H12*K12,"0")+IF(I12>0,(I12*0.75)*L12,"0"))),1) -> 64.5
D13: 71400106704 | E13: Kỹ thuật lập trình 1 | F13: 18T4-LTM | G13: 1 | H13: 15 | I13: 60 | J13: 46 | K13: =IF(OR(LEFT(E13,2)="ĐA",LEFT(E13,2)="DA",LEFT(E13,5)="Đồ án",LEFT(E13,5)="Đồán ",LEFT(E13,9)="Sinh hoạt",LEFT(E13,9)="sinh hoạt",LEFT(E13,6)="Cố vấn",LEFT(E13,6)="cố vấn",LEFT(E13,4)="cvht",LEFT(E13,4)="CVHT",LEFT(E13,4)="shcn",LEFT(E13,4)="SHCN"),0,(IF(AND(H13>0,J13>0),IF(J13>60,1.3,IF(J13>35,1.2,1)),0))) -> 1.2 | L13: =IF(OR(LEFT(E13,2)="ĐA",LEFT(E13,2)="DA",LEFT(E13,5)="Đồ án",LEFT(E13,5)="Đồán "),0,IF(AND(J13>0,I13>0),IF(AND(OR(LEFT(E13,4)="GDQP",LEFT(E13,4)="gdqp",LEFT(E13,19)="Giáo dục quốc phòng"),J13>50),1.3,IF(J13>35,1.2,IF(J13>29,1.1,1))),0)) -> 1.2 | M13: =ROUND(IF(OR(LEFT(E13,2)="ĐA",LEFT(E13,2)="DA",LEFT(E13,5)="Đồ án",LEFT(E13,5)="Đồán "),J13*0.5,(IF(H13>0,H13*K13,"0")+IF(I13>0,(I13*0.75)*L13,"0"))),1) -> 72
D14: 71400119002 | E14: Cơ sở dữ liệu | F14: 17T4-LTM | G14: 1 | H14: 15 | I14: 30 | J14: 60 | K14: =IF(OR(LEFT(E14,2)="ĐA",LEFT(E14,2)="DA",LEFT(E14,5)="Đồ án",LEFT(E14,5)="Đồán ",LEFT(E14,9)="Sinh hoạt",LEFT(E14,9)="sinh hoạt",LEFT(E14,6)="Cố vấn",LEFT(E14,6)="cố vấn",LEFT(E14,4)="cvht",LEFT(E14,4)="CVHT",LEFT(E14,4)="shcn",LEFT(E14,4)="SHCN"),0,(IF(AND(H14>0,J14>0),IF(J14>60,1.3,IF(J14>35,1.2,1)),0))) -> 1.2 | L14: =IF(OR(LEFT(E14,2)="ĐA",LEFT(E14,2)="DA",LEFT(E14,5)="Đồ án",LEFT(E14,5)="Đồán "),0,IF(AND(J14>0,I14>0),IF(AND(OR(LEFT(E14,4)="GDQP",LEFT(E14,4)="gdqp",LEFT(E14,19)="Giáo dục quốc phòng"),J14>50),1.3,IF(J14>35,1.2,IF(J14>29,1.1,1))),0)) -> 1.2 | M14: =ROUND(IF(OR(LEFT(E14,2)="ĐA",LEFT(E14,2)="DA",LEFT(E14,5)="Đồ án",LEFT(E14,5)="Đồán "),J14*0.5,(IF(H14>0,H14*K14,"0")+IF(I14>0,(I14*0.75)*L14,"0"))),1) -> 45
D15: 71400119001 | E15: Cơ sở dữ liệu | F15: 17T4-TKW | G15: 1 | H15: 15 | I15: 30 | J15: 27 | K15: =IF(OR(LEFT(E15,2)="ĐA",LEFT(E15,2)="DA",LEFT(E15,5)="Đồ án",LEFT(E15,5)="Đồán ",LEFT(E15,9)="Sinh hoạt",LEFT(E15,9)="sinh hoạt",LEFT(E15,6)="Cố vấn",LEFT(E15,6)="cố vấn",LEFT(E15,4)="cvht",LEFT(E15,4)="CVHT",LEFT(E15,4)="shcn",LEFT(E15,4)="SHCN"),0,(IF(AND(H15>0,J15>0),IF(J15>60,1.3,IF(J15>35,1.2,1)),0))) -> 1 | L15: =IF(OR(LEFT(E15,2)="ĐA",LEFT(E15,2)="DA",LEFT(E15,5)="Đồ án",LEFT(E15,5)="Đồán "),0,IF(AND(J15>0,I15>0),IF(AND(OR(LEFT(E15,4)="GDQP",LEFT(E15,4)="gdqp",LEFT(E15,19)="Giáo dục quốc phòng"),J15>50),1.3,IF(J15>35,1.2,IF(J15>29,1.1,1))),0)) -> 1 | M15: =ROUND(IF(OR(LEFT(E15,2)="ĐA",LEFT(E15,2)="DA",LEFT(E15,5)="Đồ án",LEFT(E15,5)="Đồán "),J15*0.5,(IF(H15>0,H15*K15,"0")+IF(I15>0,(I15*0.75)*L15,"0"))),1) -> 37.5
D16: 21100093903 | E16: Cơ sở dữ liệu | F16: 18C1-LTM1 | G16: 1 | H16: 15 | I16: 30 | J16: 57 | K16: =IF(OR(LEFT(E16,2)="ĐA",LEFT(E16,2)="DA",LEFT(E16,5)="Đồ án",LEFT(E16,5)="Đồán ",LEFT(E16,9)="Sinh hoạt",LEFT(E16,9)="sinh hoạt",LEFT(E16,6)="Cố vấn",LEFT(E16,6)="cố vấn",LEFT(E16,4)="cvht",LEFT(E16,4)="CVHT",LEFT(E16,4)="shcn",LEFT(E16,4)="SHCN"),0,(IF(AND(H16>0,J16>0),IF(J16>60,1.3,IF(J16>35,1.2,1)),0))) -> 1.2 | L16: =IF(OR(LEFT(E16,2)="ĐA",LEFT(E16,2)="DA",LEFT(E16,5)="Đồ án",LEFT(E16,5)="Đồán "),0,IF(AND(J16>0,I16>0),IF(AND(OR(LEFT(E16,4)="GDQP",LEFT(E16,4)="gdqp",LEFT(E16,19)="Giáo dục quốc phòng"),J16>50),1.3,IF(J16>35,1.2,IF(J16>29,1.1,1))),0)) -> 1.2 | M16: =ROUND(IF(OR(LEFT(E16,2)="ĐA",LEFT(E16,2)="DA",LEFT(E16,5)="Đồ án",LEFT(E16,5)="Đồán "),J16*0.5,(IF(H16>0,H16*K16,"0")+IF(I16>0,(I16*0.75)*L16,"0"))),1) -> 45
D17: 21100093901 | E17: Cơ sở dữ liệu | F17: 18C1-CTM1 | G17: 1 | H17: 15 | I17: 30 | J17: 39 | K17: =IF(OR(LEFT(E17,2)="ĐA",LEFT(E17,2)="DA",LEFT(E17,5)="Đồ án",LEFT(E17,5)="Đồán ",LEFT(E17,9)="Sinh hoạt",LEFT(E17,9)="sinh hoạt",LEFT(E17,6)="Cố vấn",LEFT(E17,6)="cố vấn",LEFT(E17,4)="cvht",LEFT(E17,4)="CVHT",LEFT(E17,4)="shcn",LEFT(E17,4)="SHCN"),0,(IF(AND(H17>0,J17>0),IF(J17>60,1.3,IF(J17>35,1.2,1)),0))) -> 1.2 | L17: =IF(OR(LEFT(E17,2)="ĐA",LEFT(E17,2)="DA",LEFT(E17,5)="Đồ án",LEFT(E17,5)="Đồán "),0,IF(AND(J17>0,I17>0),IF(AND(OR(LEFT(E17,4)="GDQP",LEFT(E17,4)="gdqp",LEFT(E17,19)="Giáo dục quốc phòng"),J17>50),1.3,IF(J17>35,1.2,IF(J17>29,1.1,1))),0)) -> 1.2 | M17: =ROUND(IF(OR(LEFT(E17,2)="ĐA",LEFT(E17,2)="DA",LEFT(E17,5)="Đồ án",LEFT(E17,5)="Đồán "),J17*0.5,(IF(H17>0,H17*K17,"0")+IF(I17>0,(I17*0.75)*L17,"0"))),1) -> 45
E18: Kỹ thuật lập trình | F18: 18C1-LTM1 | G18: 2 | H18: 30 | I18: 60 | J18: 50 | K18: =IF(OR(LEFT(E18,2)="ĐA",LEFT(E18,2)="DA",LEFT(E18,5)="Đồ án",LEFT(E18,5)="Đồán ",LEFT(E18,9)="Sinh hoạt",LEFT(E18,9)="sinh hoạt",LEFT(E18,6)="Cố vấn",LEFT(E18,6)="cố vấn",LEFT(E18,4)="cvht",LEFT(E18,4)="CVHT",LEFT(E18,4)="shcn",LEFT(E18,4)="SHCN"),0,(IF(AND(H18>0,J18>0),IF(J18>60,1.3,IF(J18>35,1.2,1)),0))) -> 1.2 | L18: =IF(OR(LEFT(E18,2)="ĐA",LEFT(E18,2)="DA",LEFT(E18,5)="Đồ án",LEFT(E18,5)="Đồán "),0,IF(AND(J18>0,I18>0),IF(AND(OR(LEFT(E18,4)="GDQP",LEFT(E18,4)="gdqp",LEFT(E18,19)="Giáo dục quốc phòng"),J18>50),1.3,IF(J18>35,1.2,IF(J18>29,1.1,1))),0)) -> 1.2 | M18: =ROUND(IF(OR(LEFT(E18,2)="ĐA",LEFT(E18,2)="DA",LEFT(E18,5)="Đồ án",LEFT(E18,5)="Đồán "),J18*0.5,(IF(H18>0,H18*K18,"0")+IF(I18>0,(I18*0.75)*L18,"0"))),1) -> 90
E19: Kỹ thuật lập trình | F19: 18C1-LTM2 | G19: 2 | H19: 30 | I19: 60 | J19: 50 | K19: =IF(OR(LEFT(E19,2)="ĐA",LEFT(E19,2)="DA",LEFT(E19,5)="Đồ án",LEFT(E19,5)="Đồán ",LEFT(E19,9)="Sinh hoạt",LEFT(E19,9)="sinh hoạt",LEFT(E19,6)="Cố vấn",LEFT(E19,6)="cố vấn",LEFT(E19,4)="cvht",LEFT(E19,4)="CVHT",LEFT(E19,4)="shcn",LEFT(E19,4)="SHCN"),0,(IF(AND(H19>0,J19>0),IF(J19>60,1.3,IF(J19>35,1.2,1)),0))) -> 1.2 | L19: =IF(OR(LEFT(E19,2)="ĐA",LEFT(E19,2)="DA",LEFT(E19,5)="Đồ án",LEFT(E19,5)="Đồán "),0,IF(AND(J19>0,I19>0),IF(AND(OR(LEFT(E19,4)="GDQP",LEFT(E19,4)="gdqp",LEFT(E19,19)="Giáo dục quốc phòng"),J19>50),1.3,IF(J19>35,1.2,IF(J19>29,1.1,1))),0)) -> 1.2 | M19: =ROUND(IF(OR(LEFT(E19,2)="ĐA",LEFT(E19,2)="DA",LEFT(E19,5)="Đồ án",LEFT(E19,5)="Đồán "),J19*0.5,(IF(H19>0,H19*K19,"0")+IF(I19>0,(I19*0.75)*L19,"0"))),1) -> 90
E20: Cấu trúc dữ liệu và giải thuật | F20: 18C1-THU1 | G20: 2 | H20: 15 | I20: 60 | J20: 50 | K20: =IF(OR(LEFT(E20,2)="ĐA",LEFT(E20,2)="DA",LEFT(E20,5)="Đồ án",LEFT(E20,5)="Đồán ",LEFT(E20,9)="Sinh hoạt",LEFT(E20,9)="sinh hoạt",LEFT(E20,6)="Cố vấn",LEFT(E20,6)="cố vấn",LEFT(E20,4)="cvht",LEFT(E20,4)="CVHT",LEFT(E20,4)="shcn",LEFT(E20,4)="SHCN"),0,(IF(AND(H20>0,J20>0),IF(J20>60,1.3,IF(J20>35,1.2,1)),0))) -> 1.2 | L20: =IF(OR(LEFT(E20,2)="ĐA",LEFT(E20,2)="DA",LEFT(E20,5)="Đồ án",LEFT(E20,5)="Đồán "),0,IF(AND(J20>0,I20>0),IF(AND(OR(LEFT(E20,4)="GDQP",LEFT(E20,4)="gdqp",LEFT(E20,19)="Giáo dục quốc phòng"),J20>50),1.3,IF(J20>35,1.2,IF(J20>29,1.1,1))),0)) -> 1.2 | M20: =ROUND(IF(OR(LEFT(E20,2)="ĐA",LEFT(E20,2)="DA",LEFT(E20,5)="Đồ án",LEFT(E20,5)="Đồán "),J20*0.5,(IF(H20>0,H20*K20,"0")+IF(I20>0,(I20*0.75)*L20,"0"))),1) -> 72
E21: Kỹ thuật lập trình 2 | F21: 18T4-LTM | G21: 2 | H21: 15 | I21: 60 | J21: 40 | K21: =IF(OR(LEFT(E21,2)="ĐA",LEFT(E21,2)="DA",LEFT(E21,5)="Đồ án",LEFT(E21,5)="Đồán ",LEFT(E21,9)="Sinh hoạt",LEFT(E21,9)="sinh hoạt",LEFT(E21,6)="Cố vấn",LEFT(E21,6)="cố vấn",LEFT(E21,4)="cvht",LEFT(E21,4)="CVHT",LEFT(E21,4)="shcn",LEFT(E21,4)="SHCN"),0,(IF(AND(H21>0,J21>0),IF(J21>60,1.3,IF(J21>35,1.2,1)),0))) -> 1.2 | L21: =IF(OR(LEFT(E21,2)="ĐA",LEFT(E21,2)="DA",LEFT(E21,5)="Đồ án",LEFT(E21,5)="Đồán "),0,IF(AND(J21>0,I21>0),IF(AND(OR(LEFT(E21,4)="GDQP",LEFT(E21,4)="gdqp",LEFT(E21,19)="Giáo dục quốc phòng"),J21>50),1.3,IF(J21>35,1.2,IF(J21>29,1.1,1))),0)) -> 1.2 | M21: =ROUND(IF(OR(LEFT(E21,2)="ĐA",LEFT(E21,2)="DA",LEFT(E21,5)="Đồ án",LEFT(E21,5)="Đồán "),J21*0.5,(IF(H21>0,H21*K21,"0")+IF(I21>0,(I21*0.75)*L21,"0"))),1) -> 72
K22: =IF(OR(LEFT(E22,2)="ĐA",LEFT(E22,2)="DA",LEFT(E22,5)="Đồ án",LEFT(E22,5)="Đồán ",LEFT(E22,9)="Sinh hoạt",LEFT(E22,9)="sinh hoạt",LEFT(E22,6)="Cố vấn",LEFT(E22,6)="cố vấn",LEFT(E22,4)="cvht",LEFT(E22,4)="CVHT",LEFT(E22,4)="shcn",LEFT(E22,4)="SHCN"),0,(IF(AND(H22>0,J22>0),IF(J22>60,1.3,IF(J22>35,1.2,1)),0))) -> 0 | L22: =IF(OR(LEFT(E22,2)="ĐA",LEFT(E22,2)="DA",LEFT(E22,5)="Đồ án",LEFT(E22,5)="Đồán "),0,IF(AND(J22>0,I22>0),IF(AND(OR(LEFT(E22,4)="GDQP",LEFT(E22,4)="gdqp",LEFT(E22,19)="Giáo dục quốc phòng"),J22>50),1.3,IF(J22>35,1.2,IF(J22>29,1.1,1))),0)) -> 0 | M22: =ROUND(IF(OR(LEFT(E22,2)="ĐA",LEFT(E22,2)="DA",LEFT(E22,5)="Đồ án",LEFT(E22,5)="Đồán "),J22*0.5,(IF(H22>0,H22*K22,"0")+IF(I22>0,(I22*0.75)*L22,"0"))),1) -> 0
K23: =IF(OR(LEFT(E23,2)="ĐA",LEFT(E23,2)="DA",LEFT(E23,5)="Đồ án",LEFT(E23,5)="Đồán ",LEFT(E23,9)="Sinh hoạt",LEFT(E23,9)="sinh hoạt",LEFT(E23,6)="Cố vấn",LEFT(E23,6)="cố vấn",LEFT(E23,4)="cvht",LEFT(E23,4)="CVHT",LEFT(E23,4)="shcn",LEFT(E23,4)="SHCN"),0,(IF(AND(H23>0,J23>0),IF(J23>60,1.3,IF(J23>35,1.2,1)),0))) -> 0 | L23: =IF(OR(LEFT(E23,2)="ĐA",LEFT(E23,2)="DA",LEFT(E23,5)="Đồ án",LEFT(E23,5)="Đồán "),0,IF(AND(J23>0,I23>0),IF(AND(OR(LEFT(E23,4)="GDQP",LEFT(E23,4)="gdqp",LEFT(E23,19)="Giáo dục quốc phòng"),J23>50),1.3,IF(J23>35,1.2,IF(J23>29,1.1,1))),0)) -> 0 | M23: =ROUND(IF(OR(LEFT(E23,2)="ĐA",LEFT(E23,2)="DA",LEFT(E23,5)="Đồ án",LEFT(E23,5)="Đồán "),J23*0.5,(IF(H23>0,H23*K23,"0")+IF(I23>0,(I23*0.75)*L23,"0"))),1) -> 0
K24: =IF(OR(LEFT(E24,2)="ĐA",LEFT(E24,2)="DA",LEFT(E24,5)="Đồ án",LEFT(E24,5)="Đồán ",LEFT(E24,9)="Sinh hoạt",LEFT(E24,9)="sinh hoạt",LEFT(E24,6)="Cố vấn",LEFT(E24,6)="cố vấn",LEFT(E24,4)="cvht",LEFT(E24,4)="CVHT",LEFT(E24,4)="shcn",LEFT(E24,4)="SHCN"),0,(IF(AND(H24>0,J24>0),IF(J24>60,1.3,IF(J24>35,1.2,1)),0))) -> 0 | L24: =IF(OR(LEFT(E24,2)="ĐA",LEFT(E24,2)="DA",LEFT(E24,5)="Đồ án",LEFT(E24,5)="Đồán "),0,IF(AND(J24>0,I24>0),IF(AND(OR(LEFT(E24,4)="GDQP",LEFT(E24,4)="gdqp",LEFT(E24,19)="Giáo dục quốc phòng"),J24>50),1.3,IF(J24>35,1.2,IF(J24>29,1.1,1))),0)) -> 0 | M24: =ROUND(IF(OR(LEFT(E24,2)="ĐA",LEFT(E24,2)="DA",LEFT(E24,5)="Đồ án",LEFT(E24,5)="Đồán "),J24*0.5,(IF(H24>0,H24*K24,"0")+IF(I24>0,(I24*0.75)*L24,"0"))),1) -> 0
K25: =IF(OR(LEFT(E25,2)="ĐA",LEFT(E25,2)="DA",LEFT(E25,5)="Đồ án",LEFT(E25,5)="Đồán ",LEFT(E25,9)="Sinh hoạt",LEFT(E25,9)="sinh hoạt",LEFT(E25,6)="Cố vấn",LEFT(E25,6)="cố vấn",LEFT(E25,4)="cvht",LEFT(E25,4)="CVHT",LEFT(E25,4)="shcn",LEFT(E25,4)="SHCN"),0,(IF(AND(H25>0,J25>0),IF(J25>60,1.3,IF(J25>35,1.2,1)),0))) -> 0 | L25: =IF(OR(LEFT(E25,2)="ĐA",LEFT(E25,2)="DA",LEFT(E25,5)="Đồ án",LEFT(E25,5)="Đồán "),0,IF(AND(J25>0,I25>0),IF(AND(OR(LEFT(E25,4)="GDQP",LEFT(E25,4)="gdqp",LEFT(E25,19)="Giáo dục quốc phòng"),J25>50),1.3,IF(J25>35,1.2,IF(J25>29,1.1,1))),0)) -> 0 | M25: =ROUND(IF(OR(LEFT(E25,2)="ĐA",LEFT(E25,2)="DA",LEFT(E25,5)="Đồ án",LEFT(E25,5)="Đồán "),J25*0.5,(IF(H25>0,H25*K25,"0")+IF(I25>0,(I25*0.75)*L25,"0"))),1) -> 0
K26: =IF(OR(LEFT(E26,2)="ĐA",LEFT(E26,2)="DA",LEFT(E26,5)="Đồ án",LEFT(E26,5)="Đồán ",LEFT(E26,9)="Sinh hoạt",LEFT(E26,9)="sinh hoạt",LEFT(E26,6)="Cố vấn",LEFT(E26,6)="cố vấn",LEFT(E26,4)="cvht",LEFT(E26,4)="CVHT",LEFT(E26,4)="shcn",LEFT(E26,4)="SHCN"),0,(IF(AND(H26>0,J26>0),IF(J26>60,1.3,IF(J26>35,1.2,1)),0))) -> 0 | L26: =IF(OR(LEFT(E26,2)="ĐA",LEFT(E26,2)="DA",LEFT(E26,5)="Đồ án",LEFT(E26,5)="Đồán "),0,IF(AND(J26>0,I26>0),IF(AND(OR(LEFT(E26,4)="GDQP",LEFT(E26,4)="gdqp",LEFT(E26,19)="Giáo dục quốc phòng"),J26>50),1.3,IF(J26>35,1.2,IF(J26>29,1.1,1))),0)) -> 0 | M26: =ROUND(IF(OR(LEFT(E26,2)="ĐA",LEFT(E26,2)="DA",LEFT(E26,5)="Đồ án",LEFT(E26,5)="Đồán "),J26*0.5,(IF(H26>0,H26*K26,"0")+IF(I26>0,(I26*0.75)*L26,"0"))),1) -> 0
K27: =IF(OR(LEFT(E27,2)="ĐA",LEFT(E27,2)="DA",LEFT(E27,5)="Đồ án",LEFT(E27,5)="Đồán ",LEFT(E27,9)="Sinh hoạt",LEFT(E27,9)="sinh hoạt",LEFT(E27,6)="Cố vấn",LEFT(E27,6)="cố vấn",LEFT(E27,4)="cvht",LEFT(E27,4)="CVHT",LEFT(E27,4)="shcn",LEFT(E27,4)="SHCN"),0,(IF(AND(H27>0,J27>0),IF(J27>60,1.3,IF(J27>35,1.2,1)),0))) -> 0 | L27: =IF(OR(LEFT(E27,2)="ĐA",LEFT(E27,2)="DA",LEFT(E27,5)="Đồ án",LEFT(E27,5)="Đồán "),0,IF(AND(J27>0,I27>0),IF(AND(OR(LEFT(E27,4)="GDQP",LEFT(E27,4)="gdqp",LEFT(E27,19)="Giáo dục quốc phòng"),J27>50),1.3,IF(J27>35,1.2,IF(J27>29,1.1,1))),0)) -> 0 | M27: =ROUND(IF(OR(LEFT(E27,2)="ĐA",LEFT(E27,2)="DA",LEFT(E27,5)="Đồ án",LEFT(E27,5)="Đồán "),J27*0.5,(IF(H27>0,H27*K27,"0")+IF(I27>0,(I27*0.75)*L27,"0"))),1) -> 0
K28: =IF(OR(LEFT(E28,2)="ĐA",LEFT(E28,2)="DA",LEFT(E28,5)="Đồ án",LEFT(E28,5)="Đồán ",LEFT(E28,9)="Sinh hoạt",LEFT(E28,9)="sinh hoạt",LEFT(E28,6)="Cố vấn",LEFT(E28,6)="cố vấn",LEFT(E28,4)="cvht",LEFT(E28,4)="CVHT",LEFT(E28,4)="shcn",LEFT(E28,4)="SHCN"),0,(IF(AND(H28>0,J28>0),IF(J28>60,1.3,IF(J28>35,1.2,1)),0))) -> 0 | L28: =IF(OR(LEFT(E28,2)="ĐA",LEFT(E28,2)="DA",LEFT(E28,5)="Đồ án",LEFT(E28,5)="Đồán "),0,IF(AND(J28>0,I28>0),IF(AND(OR(LEFT(E28,4)="GDQP",LEFT(E28,4)="gdqp",LEFT(E28,19)="Giáo dục quốc phòng"),J28>50),1.3,IF(J28>35,1.2,IF(J28>29,1.1,1))),0)) -> 0 | M28: =ROUND(IF(OR(LEFT(E28,2)="ĐA",LEFT(E28,2)="DA",LEFT(E28,5)="Đồ án",LEFT(E28,5)="Đồán "),J28*0.5,(IF(H28>0,H28*K28,"0")+IF(I28>0,(I28*0.75)*L28,"0"))),1) -> 0
K29: =IF(OR(LEFT(E29,2)="ĐA",LEFT(E29,2)="DA",LEFT(E29,5)="Đồ án",LEFT(E29,5)="Đồán ",LEFT(E29,9)="Sinh hoạt",LEFT(E29,9)="sinh hoạt",LEFT(E29,6)="Cố vấn",LEFT(E29,6)="cố vấn",LEFT(E29,4)="cvht",LEFT(E29,4)="CVHT",LEFT(E29,4)="shcn",LEFT(E29,4)="SHCN"),0,(IF(AND(H29>0,J29>0),IF(J29>60,1.3,IF(J29>35,1.2,1)),0))) -> 0 | L29: =IF(OR(LEFT(E29,2)="ĐA",LEFT(E29,2)="DA",LEFT(E29,5)="Đồ án",LEFT(E29,5)="Đồán "),0,IF(AND(J29>0,I29>0),IF(AND(OR(LEFT(E29,4)="GDQP",LEFT(E29,4)="gdqp",LEFT(E29,19)="Giáo dục quốc phòng"),J29>50),1.3,IF(J29>35,1.2,IF(J29>29,1.1,1))),0)) -> 0 | M29: =ROUND(IF(OR(LEFT(E29,2)="ĐA",LEFT(E29,2)="DA",LEFT(E29,5)="Đồ án",LEFT(E29,5)="Đồán "),J29*0.5,(IF(H29>0,H29*K29,"0")+IF(I29>0,(I29*0.75)*L29,"0"))),1) -> 0
K30: =IF(OR(LEFT(E30,2)="ĐA",LEFT(E30,2)="DA",LEFT(E30,5)="Đồ án",LEFT(E30,5)="Đồán ",LEFT(E30,9)="Sinh hoạt",LEFT(E30,9)="sinh hoạt",LEFT(E30,6)="Cố vấn",LEFT(E30,6)="cố vấn",LEFT(E30,4)="cvht",LEFT(E30,4)="CVHT",LEFT(E30,4)="shcn",LEFT(E30,4)="SHCN"),0,(IF(AND(H30>0,J30>0),IF(J30>60,1.3,IF(J30>35,1.2,1)),0))) -> 0 | L30: =IF(OR(LEFT(E30,2)="ĐA",LEFT(E30,2)="DA",LEFT(E30,5)="Đồ án",LEFT(E30,5)="Đồán "),0,IF(AND(J30>0,I30>0),IF(AND(OR(LEFT(E30,4)="GDQP",LEFT(E30,4)="gdqp",LEFT(E30,19)="Giáo dục quốc phòng"),J30>50),1.3,IF(J30>35,1.2,IF(J30>29,1.1,1))),0)) -> 0 | M30: =ROUND(IF(OR(LEFT(E30,2)="ĐA",LEFT(E30,2)="DA",LEFT(E30,5)="Đồ án",LEFT(E30,5)="Đồán "),J30*0.5,(IF(H30>0,H30*K30,"0")+IF(I30>0,(I30*0.75)*L30,"0"))),1) -> 0
A31: 2 | B31: Nguyễn | C31: Khoa | D31: 50600115501 | E31: Hệ quản trị cơ sở dữ liệu Microsoft Access | F31: 16TCN-QTM1 | G31: 1 | H31: 30 | J31: 55 | K31: =IF(OR(LEFT(E31,2)="ĐA",LEFT(E31,2)="DA",LEFT(E31,5)="Đồ án",LEFT(E31,5)="Đồán ",LEFT(E31,9)="Sinh hoạt",LEFT(E31,9)="sinh hoạt",LEFT(E31,6)="Cố vấn",LEFT(E31,6)="cố vấn",LEFT(E31,4)="cvht",LEFT(E31,4)="CVHT",LEFT(E31,4)="shcn",LEFT(E31,4)="SHCN"),0,(IF(AND(H31>0,J31>0),IF(J31>60,1.3,IF(J31>35,1.2,1)),0))) -> 1.2 | L31: =IF(OR(LEFT(E31,2)="ĐA",LEFT(E31,2)="DA",LEFT(E31,5)="Đồ án",LEFT(E31,5)="Đồán "),0,IF(AND(J31>0,I31>0),IF(AND(OR(LEFT(E31,4)="GDQP",LEFT(E31,4)="gdqp",LEFT(E31,19)="Giáo dục quốc phòng"),J31>50),1.3,IF(J31>35,1.2,IF(J31>29,1.1,1))),0)) -> 0 | M31: =ROUND(IF(OR(LEFT(E31,2)="ĐA",LEFT(E31,2)="DA",LEFT(E31,5)="Đồ án",LEFT(E31,5)="Đồán "),J31*0.5,(IF(H31>0,H31*K31,"0")+IF(I31>0,(I31*0.75)*L31,"0"))),1) -> 36 | N31: 213.8 | O31: 0 | P31: =SUM(M31:M50)+N31+O31 -> 949.9 | Q31: 0 | R31: 0 | S31: 450 | T31: 450 | U31: 112 | V31: 112 | W31: 56 | X31: 56 | Y31: =ROUND((P31-T31),1) -> 499.9 | Z31: =IF(OR(SUM(V31)="",SUM(Q31)=""),0,IF(OR(SUM(U31)=320,SUM(V31)>0),ROUND((SUM(Q31)-SUM(V31)),1),0)) -> -112 | AA31: =IF(OR(SUM(X31)="",SUM(R31)=""),0,IF(OR(SUM(W31)=160,SUM(X31)>0),ROUND((SUM(R31)-SUM(X31)),1),0)) -> -56 | AC31: =SUM(Y31:AA50) -> 331.9
E32: Hệ quản trị cơ sở dữ liệu Microsoft Access-N1 | F32: 16TCN-QTM2 | G32: 1 | I32: 60 | J32: 55 | K32: =IF(OR(LEFT(E32,2)="ĐA",LEFT(E32,2)="DA",LEFT(E32,5)="Đồ án",LEFT(E32,5)="Đồán ",LEFT(E32,9)="Sinh hoạt",LEFT(E32,9)="sinh hoạt",LEFT(E32,6)="Cố vấn",LEFT(E32,6)="cố vấn",LEFT(E32,4)="cvht",LEFT(E32,4)="CVHT",LEFT(E32,4)="shcn",LEFT(E32,4)="SHCN"),0,(IF(AND(H32>0,J32>0),IF(J32>60,1.3,IF(J32>35,1.2,1)),0))) -> 0 | L32: =IF(OR(LEFT(E32,2)="ĐA",LEFT(E32,2)="DA",LEFT(E32,5)="Đồ án",LEFT(E32,5)="Đồán "),0,IF(AND(J32>0,I32>0),IF(AND(OR(LEFT(E32,4)="GDQP",LEFT(E32,4)="gdqp",LEFT(E32,19)="Giáo dục quốc phòng"),J32>50),1.3,IF(J32>35,1.2,IF(J32>29,1.1,1))),0)) -> 1.2 | M32: =ROUND(IF(OR(LEFT(E32,2)="ĐA",LEFT(E32,2)="DA",LEFT(E32,5)="Đồ án",LEFT(E32,5)="Đồán "),J32*0.5,(IF(H32>0,H32*K32,"0")+IF(I32>0,(I32*0.75)*L32,"0"))),1) -> 54
E33: Hệ quản trị cơ sở dữ liệu Microsoft Access-N2 | F33: 16TCN-QTM3 | G33: 1 | I33: 60 | J33: 55 | K33: =IF(OR(LEFT(E33,2)="ĐA",LEFT(E33,2)="DA",LEFT(E33,5)="Đồ án",LEFT(E33,5)="Đồán ",LEFT(E33,9)="Sinh hoạt",LEFT(E33,9)="sinh hoạt",LEFT(E33,6)="Cố vấn",LEFT(E33,6)="cố vấn",LEFT(E33,4)="cvht",LEFT(E33,4)="CVHT",LEFT(E33,4)="shcn",LEFT(E33,4)="SHCN"),0,(IF(AND(H33>0,J33>0),IF(J33>60,1.3,IF(J33>35,1.2,1)),0))) -> 0 | L33: =IF(OR(LEFT(E33,2)="ĐA",LEFT(E33,2)="DA",LEFT(E33,5)="Đồ án",LEFT(E33,5)="Đồán "),0,IF(AND(J33>0,I33>0),IF(AND(OR(LEFT(E33,4)="GDQP",LEFT(E33,4)="gdqp",LEFT(E33,19)="Giáo dục quốc phòng"),J33>50),1.3,IF(J33>35,1.2,IF(J33>29,1.1,1))),0)) -> 1.2 | M33: =ROUND(IF(OR(LEFT(E33,2)="ĐA",LEFT(E33,2)="DA",LEFT(E33,5)="Đồ án",LEFT(E33,5)="Đồán "),J33*0.5,(IF(H33>0,H33*K33,"0")+IF(I33>0,(I33*0.75)*L33,"0"))),1) -> 54
D34: 41000092301 | E34: Lập trình quản lý | F34: 16TC-QTM | G34: 1 | H34: 30 | I34: 45 | J34: 30 | K34: =IF(OR(LEFT(E34,2)="ĐA",LEFT(E34,2)="DA",LEFT(E34,5)="Đồ án",LEFT(E34,5)="Đồán ",LEFT(E34,9)="Sinh hoạt",LEFT(E34,9)="sinh hoạt",LEFT(E34,6)="Cố vấn",LEFT(E34,6)="cố vấn",LEFT(E34,4)="cvht",LEFT(E34,4)="CVHT",LEFT(E34,4)="shcn",LEFT(E34,4)="SHCN"),0,(IF(AND(H34>0,J34>0),IF(J34>60,1.3,IF(J34>35,1.2,1)),0))) -> 1 | L34: =IF(OR(LEFT(E34,2)="ĐA",LEFT(E34,2)="DA",LEFT(E34,5)="Đồ án",LEFT(E34,5)="Đồán "),0,IF(AND(J34>0,I34>0),IF(AND(OR(LEFT(E34,4)="GDQP",LEFT(E34,4)="gdqp",LEFT(E34,19)="Giáo dục quốc phòng"),J34>50),1.3,IF(J34>35,1.2,IF(J34>29,1.1,1))),0)) -> 1.1 | M34: =ROUND(IF(OR(LEFT(E34,2)="ĐA",LEFT(E34,2)="DA",LEFT(E34,5)="Đồ án",LEFT(E34,5)="Đồán "),J34*0.5,(IF(H34>0,H34*K34,"0")+IF(I34>0,(I34*0.75)*L34,"0"))),1) -> 67.1
D35: 71400119919 | E35: Tin học | F35: 17T4-ĐĐT1 | G35: 1 | H35: 30 | I35: 60 | J35: 80 | K35: =IF(OR(LEFT(E35,2)="ĐA",LEFT(E35,2)="DA",LEFT(E35,5)="Đồ án",LEFT(E35,5)="Đồán ",LEFT(E35,9)="Sinh hoạt",LEFT(E35,9)="sinh hoạt",LEFT(E35,6)="Cố vấn",LEFT(E35,6)="cố vấn",LEFT(E35,4)="cvht",LEFT(E35,4)="CVHT",LEFT(E35,4)="shcn",LEFT(E35,4)="SHCN"),0,(IF(AND(H35>0,J35>0),IF(J35>60,1.3,IF(J35>35,1.2,1)),0))) -> 1.3 | L35: =IF(OR(LEFT(E35,2)="ĐA",LEFT(E35,2)="DA",LEFT(E35,5)="Đồ án",LEFT(E35,5)="Đồán "),0,IF(AND(J35>0,I35>0),IF(AND(OR(LEFT(E35,4)="GDQP",LEFT(E35,4)="gdqp",LEFT(E35,19)="Giáo dục quốc phòng"),J35>50),1.3,IF(J35>35,1.2,IF(J35>29,1.1,1))),0)) -> 1.2 | M35: =ROUND(IF(OR(LEFT(E35,2)="ĐA",LEFT(E35,2)="DA",LEFT(E35,5)="Đồ án",LEFT(E35,5)="Đồán "),J35*0.5,(IF(H35>0,H35*K35,"0")+IF(I35>0,(I35*0.75)*L35,"0"))),1) -> 93
E36: Hệ quản trị CSDL | F36: 18C1-TMĐ1 | G36: 2 | H36: 15 | I36: 60 | J36: 40 | K36: =IF(OR(LEFT(E36,2)="ĐA",LEFT(E36,2)="DA",LEFT(E36,5)="Đồ án",LEFT(E36,5)="Đồán ",LEFT(E36,9)="Sinh hoạt",LEFT(E36,9)="sinh hoạt",LEFT(E36,6)="Cố vấn",LEFT(E36,6)="cố vấn",LEFT(E36,4)="cvht",LEFT(E36,4)="CVHT",LEFT(E36,4)="shcn",LEFT(E36,4)="SHCN"),0,(IF(AND(H36>0,J36>0),IF(J36>60,1.3,IF(J36>35,1.2,1)),0))) -> 1.2 | L36: =IF(OR(LEFT(E36,2)="ĐA",LEFT(E36,2)="DA",LEFT(E36,5)="Đồ án",LEFT(E36,5)="Đồán "),0,IF(AND(J36>0,I36>0),IF(AND(OR(LEFT(E36,4)="GDQP",LEFT(E36,4)="gdqp",LEFT(E36,19)="Giáo dục quốc phòng"),J36>50),1.3,IF(J36>35,1.2,IF(J36>29,1.1,1))),0)) -> 1.2 | M36: =ROUND(IF(OR(LEFT(E36,2)="ĐA",LEFT(E36,2)="DA",LEFT(E36,5)="Đồ án",LEFT(E36,5)="Đồán "),J36*0.5,(IF(H36>0,H36*K36,"0")+IF(I36>0,(I36*0.75)*L36,"0"))),1) -> 72
E37: Tin học | F37: CĐ1 | G37: 2 | H37: 30 | I37: 60 | J37: 40 | K37: =IF(OR(LEFT(E37,2)="ĐA",LEFT(E37,2)="DA",LEFT(E37,5)="Đồ án",LEFT(E37,5)="Đồán ",LEFT(E37,9)="Sinh hoạt",LEFT(E37,9)="sinh hoạt",LEFT(E37,6)="Cố vấn",LEFT(E37,6)="cố vấn",LEFT(E37,4)="cvht",LEFT(E37,4)="CVHT",LEFT(E37,4)="shcn",LEFT(E37,4)="SHCN"),0,(IF(AND(H37>0,J37>0),IF(J37>60,1.3,IF(J37>35,1.2,1)),0))) -> 1.2 | L37: =IF(OR(LEFT(E37,2)="ĐA",LEFT(E37,2)="DA",LEFT(E37,5)="Đồ án",LEFT(E37,5)="Đồán "),0,IF(AND(J37>0,I37>0),IF(AND(OR(LEFT(E37,4)="GDQP",LEFT(E37,4)="gdqp",LEFT(E37,19)="Giáo dục quốc phòng"),J37>50),1.3,IF(J37>35,1.2,IF(J37>29,1.1,1))),0)) -> 1.2 | M37: =ROUND(IF(OR(LEFT(E37,2)="ĐA",LEFT(E37,2)="DA",LEFT(E37,5)="Đồ án",LEFT(E37,5)="Đồán "),J37*0.5,(IF(H37>0,H37*K37,"0")+IF(I37>0,(I37*0.75)*L37,"0"))),1) -> 90
E38: Tin học | F38: CĐ2 | G38: 2 | H38: 30 | I38: 60 | J38: 40 | K38: =IF(OR(LEFT(E38,2)="ĐA",LEFT(E38,2)="DA",LEFT(E38,5)="Đồ án",LEFT(E38,5)="Đồán ",LEFT(E38,9)="Sinh hoạt",LEFT(E38,9)="sinh hoạt",LEFT(E38,6)="Cố vấn",LEFT(E38,6)="cố vấn",LEFT(E38,4)="cvht",LEFT(E38,4)="CVHT",LEFT(E38,4)="shcn",LEFT(E38,4)="SHCN"),0,(IF(AND(H38>0,J38>0),IF(J38>60,1.3,IF(J38>35,1.2,1)),0))) -> 1.2 | L38: =IF(OR(LEFT(E38,2)="ĐA",LEFT(E38,2)="DA",LEFT(E38,5)="Đồ án",LEFT(E38,5)="Đồán "),0,IF(AND(J38>0,I38>0),IF(AND(OR(LEFT(E38,4)="GDQP",LEFT(E38,4)="gdqp",LEFT(E38,19)="Giáo dục quốc phòng"),J38>50),1.3,IF(J38>35,1.2,IF(J38>29,1.1,1))),0)) -> 1.2 | M38: =ROUND(IF(OR(LEFT(E38,2)="ĐA",LEFT(E38,2)="DA",LEFT(E38,5)="Đồ án",LEFT(E38,5)="Đồán "),J38*0.5,(IF(H38>0,H38*K38,"0")+IF(I38>0,(I38*0.75)*L38,"0"))),1) -> 90
E39: Tin học | F39: TC1 | G39: 2 | H39: 30 | I39: 60 | J39: 40 | K39: =IF(OR(LEFT(E39,2)="ĐA",LEFT(E39,2)="DA",LEFT(E39,5)="Đồ án",LEFT(E39,5)="Đồán ",LEFT(E39,9)="Sinh hoạt",LEFT(E39,9)="sinh hoạt",LEFT(E39,6)="Cố vấn",LEFT(E39,6)="cố vấn",LEFT(E39,4)="cvht",LEFT(E39,4)="CVHT",LEFT(E39,4)="shcn",LEFT(E39,4)="SHCN"),0,(IF(AND(H39>0,J39>0),IF(J39>60,1.3,IF(J39>35,1.2,1)),0))) -> 1.2 | L39: =IF(OR(LEFT(E39,2)="ĐA",LEFT(E39,2)="DA",LEFT(E39,5)="Đồ án",LEFT(E39,5)="Đồán "),0,IF(AND(J39>0,I39>0),IF(AND(OR(LEFT(E39,4)="GDQP",LEFT(E39,4)="gdqp",LEFT(E39,19)="Giáo dục quốc phòng"),J39>50),1.3,IF(J39>35,1.2,IF(J39>29,1.1,1))),0)) -> 1.2 | M39: =ROUND(IF(OR(LEFT(E39,2)="ĐA",LEFT(E39,2)="DA",LEFT(E39,5)="Đồ án",LEFT(E39,5)="Đồán "),J39*0.5,(IF(H39>0,H39*K39,"0")+IF(I39>0,(I39*0.75)*L39,"0"))),1) -> 90
E40: Tin học | F40: TC2 | G40: 2 | H40: 30 | I40: 60 | J40: 40 | K40: =IF(OR(LEFT(E40,2)="ĐA",LEFT(E40,2)="DA",LEFT(E40,5)="Đồ án",LEFT(E40,5)="Đồán ",LEFT(E40,9)="Sinh hoạt",LEFT(E40,9)="sinh hoạt",LEFT(E40,6)="Cố vấn",LEFT(E40,6)="cố vấn",LEFT(E40,4)="cvht",LEFT(E40,4)="CVHT",LEFT(E40,4)="shcn",LEFT(E40,4)="SHCN"),0,(IF(AND(H40>0,J40>0),IF(J40>60,1.3,IF(J40>35,1.2,1)),0))) -> 1.2 | L40: =IF(OR(LEFT(E40,2)="ĐA",LEFT(E40,2)="DA",LEFT(E40,5)="Đồ án",LEFT(E40,5)="Đồán "),0,IF(AND(J40>0,I40>0),IF(AND(OR(LEFT(E40,4)="GDQP",LEFT(E40,4)="gdqp",LEFT(E40,19)="Giáo dục quốc phòng"),J40>50),1.3,IF(J40>35,1.2,IF(J40>29,1.1,1))),0)) -> 1.2 | M40: =ROUND(IF(OR(LEFT(E40,2)="ĐA",LEFT(E40,2)="DA",LEFT(E40,5)="Đồ án",LEFT(E40,5)="Đồán "),J40*0.5,(IF(H40>0,H40*K40,"0")+IF(I40>0,(I40*0.75)*L40,"0"))),1) -> 90
K42: =IF(OR(LEFT(E42,2)="ĐA",LEFT(E42,2)="DA",LEFT(E42,5)="Đồ án",LEFT(E42,5)="Đồán ",LEFT(E42,9)="Sinh hoạt",LEFT(E42,9)="sinh hoạt",LEFT(E42,6)="Cố vấn",LEFT(E42,6)="cố vấn",LEFT(E42,4)="cvht",LEFT(E42,4)="CVHT",LEFT(E42,4)="shcn",LEFT(E42,4)="SHCN"),0,(IF(AND(H42>0,J42>0),IF(J42>60,1.3,IF(J42>35,1.2,1)),0))) -> 0 | L42: =IF(OR(LEFT(E42,2)="ĐA",LEFT(E42,2)="DA",LEFT(E42,5)="Đồ án",LEFT(E42,5)="Đồán "),0,IF(AND(J42>0,I42>0),IF(AND(OR(LEFT(E42,4)="GDQP",LEFT(E42,4)="gdqp",LEFT(E42,19)="Giáo dục quốc phòng"),J42>50),1.3,IF(J42>35,1.2,IF(J42>29,1.1,1))),0)) -> 0 | M42: =ROUND(IF(OR(LEFT(E42,2)="ĐA",LEFT(E42,2)="DA",LEFT(E42,5)="Đồ án",LEFT(E42,5)="Đồán "),J42*0.5,(IF(H42>0,H42*K42,"0")+IF(I42>0,(I42*0.75)*L42,"0"))),1) -> 0
K43: =IF(OR(LEFT(E43,2)="ĐA",LEFT(E43,2)="DA",LEFT(E43,5)="Đồ án",LEFT(E43,5)="Đồán ",LEFT(E43,9)="Sinh hoạt",LEFT(E43,9)="sinh hoạt",LEFT(E43,6)="Cố vấn",LEFT(E43,6)="cố vấn",LEFT(E43,4)="cvht",LEFT(E43,4)="CVHT",LEFT(E43,4)="shcn",LEFT(E43,4)="SHCN"),0,(IF(AND(H43>0,J43>0),IF(J43>60,1.3,IF(J43>35,1.2,1)),0))) -> 0 | L43: =IF(OR(LEFT(E43,2)="ĐA",LEFT(E43,2)="DA",LEFT(E43,5)="Đồ án",LEFT(E43,5)="Đồán "),0,IF(AND(J43>0,I43>0),IF(AND(OR(LEFT(E43,4)="GDQP",LEFT(E43,4)="gdqp",LEFT(E43,19)="Giáo dục quốc phòng"),J43>50),1.3,IF(J43>35,1.2,IF(J43>29,1.1,1))),0)) -> 0 | M43: =ROUND(IF(OR(LEFT(E43,2)="ĐA",LEFT(E43,2)="DA",LEFT(E43,5)="Đồ án",LEFT(E43,5)="Đồán "),J43*0.5,(IF(H43>0,H43*K43,"0")+IF(I43>0,(I43*0.75)*L43,"0"))),1) -> 0
K44: =IF(OR(LEFT(E44,2)="ĐA",LEFT(E44,2)="DA",LEFT(E44,5)="Đồ án",LEFT(E44,5)="Đồán ",LEFT(E44,9)="Sinh hoạt",LEFT(E44,9)="sinh hoạt",LEFT(E44,6)="Cố vấn",LEFT(E44,6)="cố vấn",LEFT(E44,4)="cvht",LEFT(E44,4)="CVHT",LEFT(E44,4)="shcn",LEFT(E44,4)="SHCN"),0,(IF(AND(H44>0,J44>0),IF(J44>60,1.3,IF(J44>35,1.2,1)),0))) -> 0 | L44: =IF(OR(LEFT(E44,2)="ĐA",LEFT(E44,2)="DA",LEFT(E44,5)="Đồ án",LEFT(E44,5)="Đồán "),0,IF(AND(J44>0,I44>0),IF(AND(OR(LEFT(E44,4)="GDQP",LEFT(E44,4)="gdqp",LEFT(E44,19)="Giáo dục quốc phòng"),J44>50),1.3,IF(J44>35,1.2,IF(J44>29,1.1,1))),0)) -> 0 | M44: =ROUND(IF(OR(LEFT(E44,2)="ĐA",LEFT(E44,2)="DA",LEFT(E44,5)="Đồ án",LEFT(E44,5)="Đồán "),J44*0.5,(IF(H44>0,H44*K44,"0")+IF(I44>0,(I44*0.75)*L44,"0"))),1) -> 0
K45: =IF(OR(LEFT(E45,2)="ĐA",LEFT(E45,2)="DA",LEFT(E45,5)="Đồ án",LEFT(E45,5)="Đồán ",LEFT(E45,9)="Sinh hoạt",LEFT(E45,9)="sinh hoạt",LEFT(E45,6)="Cố vấn",LEFT(E45,6)="cố vấn",LEFT(E45,4)="cvht",LEFT(E45,4)="CVHT",LEFT(E45,4)="shcn",LEFT(E45,4)="SHCN"),0,(IF(AND(H45>0,J45>0),IF(J45>60,1.3,IF(J45>35,1.2,1)),0))) -> 0 | L45: =IF(OR(LEFT(E45,2)="ĐA",LEFT(E45,2)="DA",LEFT(E45,5)="Đồ án",LEFT(E45,5)="Đồán "),0,IF(AND(J45>0,I45>0),IF(AND(OR(LEFT(E45,4)="GDQP",LEFT(E45,4)="gdqp",LEFT(E45,19)="Giáo dục quốc phòng"),J45>50),1.3,IF(J45>35,1.2,IF(J45>29,1.1,1))),0)) -> 0 | M45: =ROUND(IF(OR(LEFT(E45,2)="ĐA",LEFT(E45,2)="DA",LEFT(E45,5)="Đồ án",LEFT(E45,5)="Đồán "),J45*0.5,(IF(H45>0,H45*K45,"0")+IF(I45>0,(I45*0.75)*L45,"0"))),1) -> 0
K46: =IF(OR(LEFT(E46,2)="ĐA",LEFT(E46,2)="DA",LEFT(E46,5)="Đồ án",LEFT(E46,5)="Đồán ",LEFT(E46,9)="Sinh hoạt",LEFT(E46,9)="sinh hoạt",LEFT(E46,6)="Cố vấn",LEFT(E46,6)="cố vấn",LEFT(E46,4)="cvht",LEFT(E46,4)="CVHT",LEFT(E46,4)="shcn",LEFT(E46,4)="SHCN"),0,(IF(AND(H46>0,J46>0),IF(J46>60,1.3,IF(J46>35,1.2,1)),0))) -> 0 | L46: =IF(OR(LEFT(E46,2)="ĐA",LEFT(E46,2)="DA",LEFT(E46,5)="Đồ án",LEFT(E46,5)="Đồán "),0,IF(AND(J46>0,I46>0),IF(AND(OR(LEFT(E46,4)="GDQP",LEFT(E46,4)="gdqp",LEFT(E46,19)="Giáo dục quốc phòng"),J46>50),1.3,IF(J46>35,1.2,IF(J46>29,1.1,1))),0)) -> 0 | M46: =ROUND(IF(OR(LEFT(E46,2)="ĐA",LEFT(E46,2)="DA",LEFT(E46,5)="Đồ án",LEFT(E46,5)="Đồán "),J46*0.5,(IF(H46>0,H46*K46,"0")+IF(I46>0,(I46*0.75)*L46,"0"))),1) -> 0
K47: =IF(OR(LEFT(E47,2)="ĐA",LEFT(E47,2)="DA",LEFT(E47,5)="Đồ án",LEFT(E47,5)="Đồán ",LEFT(E47,9)="Sinh hoạt",LEFT(E47,9)="sinh hoạt",LEFT(E47,6)="Cố vấn",LEFT(E47,6)="cố vấn",LEFT(E47,4)="cvht",LEFT(E47,4)="CVHT",LEFT(E47,4)="shcn",LEFT(E47,4)="SHCN"),0,(IF(AND(H47>0,J47>0),IF(J47>60,1.3,IF(J47>35,1.2,1)),0))) -> 0 | L47: =IF(OR(LEFT(E47,2)="ĐA",LEFT(E47,2)="DA",LEFT(E47,5)="Đồ án",LEFT(E47,5)="Đồán "),0,IF(AND(J47>0,I47>0),IF(AND(OR(LEFT(E47,4)="GDQP",LEFT(E47,4)="gdqp",LEFT(E47,19)="Giáo dục quốc phòng"),J47>50),1.3,IF(J47>35,1.2,IF(J47>29,1.1,1))),0)) -> 0 | M47: =ROUND(IF(OR(LEFT(E47,2)="ĐA",LEFT(E47,2)="DA",LEFT(E47,5)="Đồ án",LEFT(E47,5)="Đồán "),J47*0.5,(IF(H47>0,H47*K47,"0")+IF(I47>0,(I47*0.75)*L47,"0"))),1) -> 0
K48: =IF(OR(LEFT(E48,2)="ĐA",LEFT(E48,2)="DA",LEFT(E48,5)="Đồ án",LEFT(E48,5)="Đồán ",LEFT(E48,9)="Sinh hoạt",LEFT(E48,9)="sinh hoạt",LEFT(E48,6)="Cố vấn",LEFT(E48,6)="cố vấn",LEFT(E48,4)="cvht",LEFT(E48,4)="CVHT",LEFT(E48,4)="shcn",LEFT(E48,4)="SHCN"),0,(IF(AND(H48>0,J48>0),IF(J48>60,1.3,IF(J48>35,1.2,1)),0))) -> 0 | L48: =IF(OR(LEFT(E48,2)="ĐA",LEFT(E48,2)="DA",LEFT(E48,5)="Đồ án",LEFT(E48,5)="Đồán "),0,IF(AND(J48>0,I48>0),IF(AND(OR(LEFT(E48,4)="GDQP",LEFT(E48,4)="gdqp",LEFT(E48,19)="Giáo dục quốc phòng"),J48>50),1.3,IF(J48>35,1.2,IF(J48>29,1.1,1))),0)) -> 0 | M48: =ROUND(IF(OR(LEFT(E48,2)="ĐA",LEFT(E48,2)="DA",LEFT(E48,5)="Đồ án",LEFT(E48,5)="Đồán "),J48*0.5,(IF(H48>0,H48*K48,"0")+IF(I48>0,(I48*0.75)*L48,"0"))),1) -> 0
K49: =IF(OR(LEFT(E49,2)="ĐA",LEFT(E49,2)="DA",LEFT(E49,5)="Đồ án",LEFT(E49,5)="Đồán ",LEFT(E49,9)="Sinh hoạt",LEFT(E49,9)="sinh hoạt",LEFT(E49,6)="Cố vấn",LEFT(E49,6)="cố vấn",LEFT(E49,4)="cvht",LEFT(E49,4)="CVHT",LEFT(E49,4)="shcn",LEFT(E49,4)="SHCN"),0,(IF(AND(H49>0,J49>0),IF(J49>60,1.3,IF(J49>35,1.2,1)),0))) -> 0 | L49: =IF(OR(LEFT(E49,2)="ĐA",LEFT(E49,2)="DA",LEFT(E49,5)="Đồ án",LEFT(E49,5)="Đồán "),0,IF(AND(J49>0,I49>0),IF(AND(OR(LEFT(E49,4)="GDQP",LEFT(E49,4)="gdqp",LEFT(E49,19)="Giáo dục quốc phòng"),J49>50),1.3,IF(J49>35,1.2,IF(J49>29,1.1,1))),0)) -> 0 | M49: =ROUND(IF(OR(LEFT(E49,2)="ĐA",LEFT(E49,2)="DA",LEFT(E49,5)="Đồ án",LEFT(E49,5)="Đồán "),J49*0.5,(IF(H49>0,H49*K49,"0")+IF(I49>0,(I49*0.75)*L49,"0"))),1) -> 0
K50: =IF(OR(LEFT(E50,2)="ĐA",LEFT(E50,2)="DA",LEFT(E50,5)="Đồ án",LEFT(E50,5)="Đồán ",LEFT(E50,9)="Sinh hoạt",LEFT(E50,9)="sinh hoạt",LEFT(E50,6)="Cố vấn",LEFT(E50,6)="cố vấn",LEFT(E50,4)="cvht",LEFT(E50,4)="CVHT",LEFT(E50,4)="shcn",LEFT(E50,4)="SHCN"),0,(IF(AND(H50>0,J50>0),IF(J50>60,1.3,IF(J50>35,1.2,1)),0))) -> 0 | L50: =IF(OR(LEFT(E50,2)="ĐA",LEFT(E50,2)="DA",LEFT(E50,5)="Đồ án",LEFT(E50,5)="Đồán "),0,IF(AND(J50>0,I50>0),IF(AND(OR(LEFT(E50,4)="GDQP",LEFT(E50,4)="gdqp",LEFT(E50,19)="Giáo dục quốc phòng"),J50>50),1.3,IF(J50>35,1.2,IF(J50>29,1.1,1))),0)) -> 0 | M50: =ROUND(IF(OR(LEFT(E50,2)="ĐA",LEFT(E50,2)="DA",LEFT(E50,5)="Đồ án",LEFT(E50,5)="Đồán "),J50*0.5,(IF(H50>0,H50*K50,"0")+IF(I50>0,(I50*0.75)*L50,"0"))),1) -> 0
A51: 3 | B51: Nguyễn Văn | C51: Minh | D51: 21100094401 | E51: Cấu trúc dữ liệu & giải thuật | F51: 17C1-ANM1 | G51: 1 | H51: 15 | I51: 60 | J51: 22 | K51: =IF(OR(LEFT(E51,2)="ĐA",LEFT(E51,2)="DA",LEFT(E51,5)="Đồ án",LEFT(E51,5)="Đồán ",LEFT(E51,9)="Sinh hoạt",LEFT(E51,9)="sinh hoạt",LEFT(E51,6)="Cố vấn",LEFT(E51,6)="cố vấn",LEFT(E51,4)="cvht",LEFT(E51,4)="CVHT",LEFT(E51,4)="shcn",LEFT(E51,4)="SHCN"),0,(IF(AND(H51>0,J51>0),IF(J51>60,1.3,IF(J51>35,1.2,1)),0))) -> 1 | L51: =IF(OR(LEFT(E51,2)="ĐA",LEFT(E51,2)="DA",LEFT(E51,5)="Đồ án",LEFT(E51,5)="Đồán "),0,IF(AND(J51>0,I51>0),IF(AND(OR(LEFT(E51,4)="GDQP",LEFT(E51,4)="gdqp",LEFT(E51,19)="Giáo dục quốc phòng"),J51>50),1.3,IF(J51>35,1.2,IF(J51>29,1.1,1))),0)) -> 1 | M51: =ROUND(IF(OR(LEFT(E51,2)="ĐA",LEFT(E51,2)="DA",LEFT(E51,5)="Đồ án",LEFT(E51,5)="Đồán "),J51*0.5,(IF(H51>0,H51*K51,"0")+IF(I51>0,(I51*0.75)*L51,"0"))),1) -> 60 | N51: 67.5 | O51: 0 | P51: =SUM(M51:M70)+N51+O51 -> 1060.5 | Q51: 0 | R51: 0 | S51: 450 | T51: 450 | U51: 112 | V51: 112 | W51: 56 | X51: 56 | Y51: =ROUND((P51-T51),1) -> 610.5 | Z51: =IF(OR(SUM(V51:V70)="",SUM(Q51:Q70)=""),0,IF(OR(SUM(U51:U70)=320,SUM(V51:V70)>0),ROUND((SUM(Q51:Q70)-SUM(V51:V70)),1),0)) -> -112 | AA51: =IF(OR(SUM(X51:X70)="",SUM(R51:R70)=""),0,IF(OR(SUM(W51:W70)=160,SUM(X51:X70)>0),ROUND((SUM(R51:R70)-SUM(X51:X70)),1),0)) -> -56 | AC51: =SUM(Y51:AA70) -> 442.5
D52: 21100094404 | E52: Cấu trúc dữ liệu & giải thuật | F52: 17C1-QTM1 | G52: 1 | H52: 15 | I52: 60 | J52: 53 | K52: =IF(OR(LEFT(E52,2)="ĐA",LEFT(E52,2)="DA",LEFT(E52,5)="Đồ án",LEFT(E52,5)="Đồán ",LEFT(E52,9)="Sinh hoạt",LEFT(E52,9)="sinh hoạt",LEFT(E52,6)="Cố vấn",LEFT(E52,6)="cố vấn",LEFT(E52,4)="cvht",LEFT(E52,4)="CVHT",LEFT(E52,4)="shcn",LEFT(E52,4)="SHCN"),0,(IF(AND(H52>0,J52>0),IF(J52>60,1.3,IF(J52>35,1.2,1)),0))) -> 1.2 | L52: =IF(OR(LEFT(E52,2)="ĐA",LEFT(E52,2)="DA",LEFT(E52,5)="Đồ án",LEFT(E52,5)="Đồán "),0,IF(AND(J52>0,I52>0),IF(AND(OR(LEFT(E52,4)="GDQP",LEFT(E52,4)="gdqp",LEFT(E52,19)="Giáo dục quốc phòng"),J52>50),1.3,IF(J52>35,1.2,IF(J52>29,1.1,1))),0)) -> 1.2 | M52: =ROUND(IF(OR(LEFT(E52,2)="ĐA",LEFT(E52,2)="DA",LEFT(E52,5)="Đồ án",LEFT(E52,5)="Đồán "),J52*0.5,(IF(H52>0,H52*K52,"0")+IF(I52>0,(I52*0.75)*L52,"0"))),1) -> 72
D53: 71400106702 | E53: Kỹ thuật lập trình 1 | F53: 18T4-THU1 | G53: 1 | H53: 15 | I53: 0 | J53: 77 | K53: =IF(OR(LEFT(E53,2)="ĐA",LEFT(E53,2)="DA",LEFT(E53,5)="Đồ án",LEFT(E53,5)="Đồán ",LEFT(E53,9)="Sinh hoạt",LEFT(E53,9)="sinh hoạt",LEFT(E53,6)="Cố vấn",LEFT(E53,6)="cố vấn",LEFT(E53,4)="cvht",LEFT(E53,4)="CVHT",LEFT(E53,4)="shcn",LEFT(E53,4)="SHCN"),0,(IF(AND(H53>0,J53>0),IF(J53>60,1.3,IF(J53>35,1.2,1)),0))) -> 1.3 | L53: =IF(OR(LEFT(E53,2)="ĐA",LEFT(E53,2)="DA",LEFT(E53,5)="Đồ án",LEFT(E53,5)="Đồán "),0,IF(AND(J53>0,I53>0),IF(AND(OR(LEFT(E53,4)="GDQP",LEFT(E53,4)="gdqp",LEFT(E53,19)="Giáo dục quốc phòng"),J53>50),1.3,IF(J53>35,1.2,IF(J53>29,1.1,1))),0)) -> 0 | M53: =ROUND(IF(OR(LEFT(E53,2)="ĐA",LEFT(E53,2)="DA",LEFT(E53,5)="Đồ án",LEFT(E53,5)="Đồán "),J53*0.5,(IF(H53>0,H53*K53,"0")+IF(I53>0,(I53*0.75)*L53,"0"))),1) -> 19.5
D54: 71400106702 | E54: Kỹ thuật lập trình 1 | F54: 18T4-THU1 | G54: 1 | H54: 0 | I54: 60 | J54: 39 | K54: =IF(OR(LEFT(E54,2)="ĐA",LEFT(E54,2)="DA",LEFT(E54,5)="Đồ án",LEFT(E54,5)="Đồán ",LEFT(E54,9)="Sinh hoạt",LEFT(E54,9)="sinh hoạt",LEFT(E54,6)="Cố vấn",LEFT(E54,6)="cố vấn",LEFT(E54,4)="cvht",LEFT(E54,4)="CVHT",LEFT(E54,4)="shcn",LEFT(E54,4)="SHCN"),0,(IF(AND(H54>0,J54>0),IF(J54>60,1.3,IF(J54>35,1.2,1)),0))) -> 0 | L54: =IF(OR(LEFT(E54,2)="ĐA",LEFT(E54,2)="DA",LEFT(E54,5)="Đồ án",LEFT(E54,5)="Đồán "),0,IF(AND(J54>0,I54>0),IF(AND(OR(LEFT(E54,4)="GDQP",LEFT(E54,4)="gdqp",LEFT(E54,19)="Giáo dục quốc phòng"),J54>50),1.3,IF(J54>35,1.2,IF(J54>29,1.1,1))),0)) -> 1.2 | M54: =ROUND(IF(OR(LEFT(E54,2)="ĐA",LEFT(E54,2)="DA",LEFT(E54,5)="Đồ án",LEFT(E54,5)="Đồán "),J54*0.5,(IF(H54>0,H54*K54,"0")+IF(I54>0,(I54*0.75)*L54,"0"))),1) -> 54
D55: 71400106708 | E55: Kỹ thuật lập trình 1 | F55: 18T4-THU2 | G55: 1 | H55: 0 | I55: 60 | J55: 38 | K55: =IF(OR(LEFT(E55,2)="ĐA",LEFT(E55,2)="DA",LEFT(E55,5)="Đồ án",LEFT(E55,5)="Đồán ",LEFT(E55,9)="Sinh hoạt",LEFT(E55,9)="sinh hoạt",LEFT(E55,6)="Cố vấn",LEFT(E55,6)="cố vấn",LEFT(E55,4)="cvht",LEFT(E55,4)="CVHT",LEFT(E55,4)="shcn",LEFT(E55,4)="SHCN"),0,(IF(AND(H55>0,J55>0),IF(J55>60,1.3,IF(J55>35,1.2,1)),0))) -> 0 | L55: =IF(OR(LEFT(E55,2)="ĐA",LEFT(E55,2)="DA",LEFT(E55,5)="Đồ án",LEFT(E55,5)="Đồán "),0,IF(AND(J55>0,I55>0),IF(AND(OR(LEFT(E55,4)="GDQP",LEFT(E55,4)="gdqp",LEFT(E55,19)="Giáo dục quốc phòng"),J55>50),1.3,IF(J55>35,1.2,IF(J55>29,1.1,1))),0)) -> 1.2 | M55: =ROUND(IF(OR(LEFT(E55,2)="ĐA",LEFT(E55,2)="DA",LEFT(E55,5)="Đồ án",LEFT(E55,5)="Đồán "),J55*0.5,(IF(H55>0,H55*K55,"0")+IF(I55>0,(I55*0.75)*L55,"0"))),1) -> 54
D56: 21100093906 | E56: Cơ sở dữ liệu | F56: 18C1-LTM2 | G56: 1 | H56: 15 | I56: 30 | J56: 54 | K56: =IF(OR(LEFT(E56,2)="ĐA",LEFT(E56,2)="DA",LEFT(E56,5)="Đồ án",LEFT(E56,5)="Đồán ",LEFT(E56,9)="Sinh hoạt",LEFT(E56,9)="sinh hoạt",LEFT(E56,6)="Cố vấn",LEFT(E56,6)="cố vấn",LEFT(E56,4)="cvht",LEFT(E56,4)="CVHT",LEFT(E56,4)="shcn",LEFT(E56,4)="SHCN"),0,(IF(AND(H56>0,J56>0),IF(J56>60,1.3,IF(J56>35,1.2,1)),0))) -> 1.2 | L56: =IF(OR(LEFT(E56,2)="ĐA",LEFT(E56,2)="DA",LEFT(E56,5)="Đồ án",LEFT(E56,5)="Đồán "),0,IF(AND(J56>0,I56>0),IF(AND(OR(LEFT(E56,4)="GDQP",LEFT(E56,4)="gdqp",LEFT(E56,19)="Giáo dục quốc phòng"),J56>50),1.3,IF(J56>35,1.2,IF(J56>29,1.1,1))),0)) -> 1.2 | M56: =ROUND(IF(OR(LEFT(E56,2)="ĐA",LEFT(E56,2)="DA",LEFT(E56,5)="Đồ án",LEFT(E56,5)="Đồán "),J56*0.5,(IF(H56>0,H56*K56,"0")+IF(I56>0,(I56*0.75)*L56,"0"))),1) -> 45
D57: 21100119809 | E57: Tin học | F57: 18C1-TMĐ1 | G57: 1 | H57: 30 | I57: 60 | J57: 17 | K57: =IF(OR(LEFT(E57,2)="ĐA",LEFT(E57,2)="DA",LEFT(E57,5)="Đồ án",LEFT(E57,5)="Đồán ",LEFT(E57,9)="Sinh hoạt",LEFT(E57,9)="sinh hoạt",LEFT(E57,6)="Cố vấn",LEFT(E57,6)="cố vấn",LEFT(E57,4)="cvht",LEFT(E57,4)="CVHT",LEFT(E57,4)="shcn",LEFT(E57,4)="SHCN"),0,(IF(AND(H57>0,J57>0),IF(J57>60,1.3,IF(J57>35,1.2,1)),0))) -> 1 | L57: =IF(OR(LEFT(E57,2)="ĐA",LEFT(E57,2)="DA",LEFT(E57,5)="Đồ án",LEFT(E57,5)="Đồán "),0,IF(AND(J57>0,I57>0),IF(AND(OR(LEFT(E57,4)="GDQP",LEFT(E57,4)="gdqp",LEFT(E57,19)="Giáo dục quốc phòng"),J57>50),1.3,IF(J57>35,1.2,IF(J57>29,1.1,1))),0)) -> 1 | M57: =ROUND(IF(OR(LEFT(E57,2)="ĐA",LEFT(E57,2)="DA",LEFT(E57,5)="Đồ án",LEFT(E57,5)="Đồán "),J57*0.5,(IF(H57>0,H57*K57,"0")+IF(I57>0,(I57*0.75)*L57,"0"))),1) -> 75
E58: Sinh hoạt chủ nhiệm | F58: 18C1-TMĐ1 | K58: =IF(OR(LEFT(E58,2)="ĐA",LEFT(E58,2)="DA",LEFT(E58,5)="Đồ án",LEFT(E58,5)="Đồán ",LEFT(E58,9)="Sinh hoạt",LEFT(E58,9)="sinh hoạt",LEFT(E58,6)="Cố vấn",LEFT(E58,6)="cố vấn",LEFT(E58,4)="cvht",LEFT(E58,4)="CVHT",LEFT(E58,4)="shcn",LEFT(E58,4)="SHCN"),0,(IF(AND(H58>0,J58>0),IF(J58>60,1.3,IF(J58>35,1.2,1)),0))) -> 0 | L58: =IF(OR(LEFT(E58,2)="ĐA",LEFT(E58,2)="DA",LEFT(E58,5)="Đồ án",LEFT(E58,5)="Đồán "),0,IF(AND(J58>0,I58>0),IF(AND(OR(LEFT(E58,4)="GDQP",LEFT(E58,4)="gdqp",LEFT(E58,19)="Giáo dục quốc phòng"),J58>50),1.3,IF(J58>35,1.2,IF(J58>29,1.1,1))),0)) -> 0 | M58: =ROUND(IF(OR(LEFT(E58,2)="ĐA",LEFT(E58,2)="DA",LEFT(E58,5)="Đồ án",LEFT(E58,5)="Đồán "),J58*0.5,(IF(H58>0,H58*K58,"0")+IF(I58>0,(I58*0.75)*L58,"0"))),1) -> 0
E59: Cấu trúc dữ liệu và giải thuật | F59: 18C2-QTM | G59: 2 | H59: 15 | I59: 60 | J59: 40 | K59: =IF(OR(LEFT(E59,2)="ĐA",LEFT(E59,2)="DA",LEFT(E59,5)="Đồ án",LEFT(E59,5)="Đồán ",LEFT(E59,9)="Sinh hoạt",LEFT(E59,9)="sinh hoạt",LEFT(E59,6)="Cố vấn",LEFT(E59,6)="cố vấn",LEFT(E59,4)="cvht",LEFT(E59,4)="CVHT",LEFT(E59,4)="shcn",LEFT(E59,4)="SHCN"),0,(IF(AND(H59>0,J59>0),IF(J59>60,1.3,IF(J59>35,1.2,1)),0))) -> 1.2 | L59: =IF(OR(LEFT(E59,2)="ĐA",LEFT(E59,2)="DA",LEFT(E59,5)="Đồ án",LEFT(E59,5)="Đồán "),0,IF(AND(J59>0,I59>0),IF(AND(OR(LEFT(E59,4)="GDQP",LEFT(E59,4)="gdqp",LEFT(E59,19)="Giáo dục quốc phòng"),J59>50),1.3,IF(J59>35,1.2,IF(J59>29,1.1,1))),0)) -> 1.2 | M59: =ROUND(IF(OR(LEFT(E59,2)="ĐA",LEFT(E59,2)="DA",LEFT(E59,5)="Đồ án",LEFT(E59,5)="Đồán "),J59*0.5,(IF(H59>0,H59*K59,"0")+IF(I59>0,(I59*0.75)*L59,"0"))),1) -> 72
E60: Kỹ thuật lập trình 2 | F60: 18T4-THU1 | G60: 2 | H60: 15 | I60: 0 | J60: 77 | K60: =IF(OR(LEFT(E60,2)="ĐA",LEFT(E60,2)="DA",LEFT(E60,5)="Đồ án",LEFT(E60,5)="Đồán ",LEFT(E60,9)="Sinh hoạt",LEFT(E60,9)="sinh hoạt",LEFT(E60,6)="Cố vấn",LEFT(E60,6)="cố vấn",LEFT(E60,4)="cvht",LEFT(E60,4)="CVHT",LEFT(E60,4)="shcn",LEFT(E60,4)="SHCN"),0,(IF(AND(H60>0,J60>0),IF(J60>60,1.3,IF(J60>35,1.2,1)),0))) -> 1.3 | L60: =IF(OR(LEFT(E60,2)="ĐA",LEFT(E60,2)="DA",LEFT(E60,5)="Đồ án",LEFT(E60,5)="Đồán "),0,IF(AND(J60>0,I60>0),IF(AND(OR(LEFT(E60,4)="GDQP",LEFT(E60,4)="gdqp",LEFT(E60,19)="Giáo dục quốc phòng"),J60>50),1.3,IF(J60>35,1.2,IF(J60>29,1.1,1))),0)) -> 0 | M60: =ROUND(IF(OR(LEFT(E60,2)="ĐA",LEFT(E60,2)="DA",LEFT(E60,5)="Đồ án",LEFT(E60,5)="Đồán "),J60*0.5,(IF(H60>0,H60*K60,"0")+IF(I60>0,(I60*0.75)*L60,"0"))),1) -> 19.5
E61: Kỹ thuật lập trình 2 | F61: 18T4-THU1 | G61: 2 | H61: 0 | I61: 60 | J61: 39 | K61: =IF(OR(LEFT(E61,2)="ĐA",LEFT(E61,2)="DA",LEFT(E61,5)="Đồ án",LEFT(E61,5)="Đồán ",LEFT(E61,9)="Sinh hoạt",LEFT(E61,9)="sinh hoạt",LEFT(E61,6)="Cố vấn",LEFT(E61,6)="cố vấn",LEFT(E61,4)="cvht",LEFT(E61,4)="CVHT",LEFT(E61,4)="shcn",LEFT(E61,4)="SHCN"),0,(IF(AND(H61>0,J61>0),IF(J61>60,1.3,IF(J61>35,1.2,1)),0))) -> 0 | L61: =IF(OR(LEFT(E61,2)="ĐA",LEFT(E61,2)="DA",LEFT(E61,5)="Đồ án",LEFT(E61,5)="Đồán "),0,IF(AND(J61>0,I61>0),IF(AND(OR(LEFT(E61,4)="GDQP",LEFT(E61,4)="gdqp",LEFT(E61,19)="Giáo dục quốc phòng"),J61>50),1.3,IF(J61>35,1.2,IF(J61>29,1.1,1))),0)) -> 1.2 | M61: =ROUND(IF(OR(LEFT(E61,2)="ĐA",LEFT(E61,2)="DA",LEFT(E61,5)="Đồ án",LEFT(E61,5)="Đồán "),J61*0.5,(IF(H61>0,H61*K61,"0")+IF(I61>0,(I61*0.75)*L61,"0"))),1) -> 54
E62: Kỹ thuật lập trình 2 | F62: 18T4-THU2 | G62: 2 | H62: 0 | I62: 60 | J62: 38 | K62: =IF(OR(LEFT(E62,2)="ĐA",LEFT(E62,2)="DA",LEFT(E62,5)="Đồ án",LEFT(E62,5)="Đồán ",LEFT(E62,9)="Sinh hoạt",LEFT(E62,9)="sinh hoạt",LEFT(E62,6)="Cố vấn",LEFT(E62,6)="cố vấn",LEFT(E62,4)="cvht",LEFT(E62,4)="CVHT",LEFT(E62,4)="shcn",LEFT(E62,4)="SHCN"),0,(IF(AND(H62>0,J62>0),IF(J62>60,1.3,IF(J62>35,1.2,1)),0))) -> 0 | L62: =IF(OR(LEFT(E62,2)="ĐA",LEFT(E62,2)="DA",LEFT(E62,5)="Đồ án",LEFT(E62,5)="Đồán "),0,IF(AND(J62>0,I62>0),IF(AND(OR(LEFT(E62,4)="GDQP",LEFT(E62,4)="gdqp",LEFT(E62,19)="Giáo dục quốc phòng"),J62>50),1.3,IF(J62>35,1.2,IF(J62>29,1.1,1))),0)) -> 1.2 | M62: =ROUND(IF(OR(LEFT(E62,2)="ĐA",LEFT(E62,2)="DA",LEFT(E62,5)="Đồ án",LEFT(E62,5)="Đồán "),J62*0.5,(IF(H62>0,H62*K62,"0")+IF(I62>0,(I62*0.75)*L62,"0"))),1) -> 54
E63: Kỹ thuật lập trình | F63: 18C1-CMT1 | G63: 2 | H63: 30 | I63: 60 | J63: 40 | K63: =IF(OR(LEFT(E63,2)="ĐA",LEFT(E63,2)="DA",LEFT(E63,5)="Đồ án",LEFT(E63,5)="Đồán ",LEFT(E63,9)="Sinh hoạt",LEFT(E63,9)="sinh hoạt",LEFT(E63,6)="Cố vấn",LEFT(E63,6)="cố vấn",LEFT(E63,4)="cvht",LEFT(E63,4)="CVHT",LEFT(E63,4)="shcn",LEFT(E63,4)="SHCN"),0,(IF(AND(H63>0,J63>0),IF(J63>60,1.3,IF(J63>35,1.2,1)),0))) -> 1.2 | L63: =IF(OR(LEFT(E63,2)="ĐA",LEFT(E63,2)="DA",LEFT(E63,5)="Đồ án",LEFT(E63,5)="Đồán "),0,IF(AND(J63>0,I63>0),IF(AND(OR(LEFT(E63,4)="GDQP",LEFT(E63,4)="gdqp",LEFT(E63,19)="Giáo dục quốc phòng"),J63>50),1.3,IF(J63>35,1.2,IF(J63>29,1.1,1))),0)) -> 1.2 | M63: =ROUND(IF(OR(LEFT(E63,2)="ĐA",LEFT(E63,2)="DA",LEFT(E63,5)="Đồ án",LEFT(E63,5)="Đồán "),J63*0.5,(IF(H63>0,H63*K63,"0")+IF(I63>0,(I63*0.75)*L63,"0"))),1) -> 90
E64: Kỹ thuật lập trình | F64: 18C1-QTM1 | G64: 2 | H64: 30 | J64: 40 | K64: =IF(OR(LEFT(E64,2)="ĐA",LEFT(E64,2)="DA",LEFT(E64,5)="Đồ án",LEFT(E64,5)="Đồán ",LEFT(E64,9)="Sinh hoạt",LEFT(E64,9)="sinh hoạt",LEFT(E64,6)="Cố vấn",LEFT(E64,6)="cố vấn",LEFT(E64,4)="cvht",LEFT(E64,4)="CVHT",LEFT(E64,4)="shcn",LEFT(E64,4)="SHCN"),0,(IF(AND(H64>0,J64>0),IF(J64>60,1.3,IF(J64>35,1.2,1)),0))) -> 1.2 | L64: =IF(OR(LEFT(E64,2)="ĐA",LEFT(E64,2)="DA",LEFT(E64,5)="Đồ án",LEFT(E64,5)="Đồán "),0,IF(AND(J64>0,I64>0),IF(AND(OR(LEFT(E64,4)="GDQP",LEFT(E64,4)="gdqp",LEFT(E64,19)="Giáo dục quốc phòng"),J64>50),1.3,IF(J64>35,1.2,IF(J64>29,1.1,1))),0)) -> 0 | M64: =ROUND(IF(OR(LEFT(E64,2)="ĐA",LEFT(E64,2)="DA",LEFT(E64,5)="Đồ án",LEFT(E64,5)="Đồán "),J64*0.5,(IF(H64>0,H64*K64,"0")+IF(I64>0,(I64*0.75)*L64,"0"))),1) -> 36
E65: Kỹ thuật lập trình -N1 | F65: 18C1-QTM2 | G65: 2 | I65: 60 | J65: 40 | K65: =IF(OR(LEFT(E65,2)="ĐA",LEFT(E65,2)="DA",LEFT(E65,5)="Đồ án",LEFT(E65,5)="Đồán ",LEFT(E65,9)="Sinh hoạt",LEFT(E65,9)="sinh hoạt",LEFT(E65,6)="Cố vấn",LEFT(E65,6)="cố vấn",LEFT(E65,4)="cvht",LEFT(E65,4)="CVHT",LEFT(E65,4)="shcn",LEFT(E65,4)="SHCN"),0,(IF(AND(H65>0,J65>0),IF(J65>60,1.3,IF(J65>35,1.2,1)),0))) -> 0 | L65: =IF(OR(LEFT(E65,2)="ĐA",LEFT(E65,2)="DA",LEFT(E65,5)="Đồ án",LEFT(E65,5)="Đồán "),0,IF(AND(J65>0,I65>0),IF(AND(OR(LEFT(E65,4)="GDQP",LEFT(E65,4)="gdqp",LEFT(E65,19)="Giáo dục quốc phòng"),J65>50),1.3,IF(J65>35,1.2,IF(J65>29,1.1,1))),0)) -> 1.2 | M65: =ROUND(IF(OR(LEFT(E65,2)="ĐA",LEFT(E65,2)="DA",LEFT(E65,5)="Đồ án",LEFT(E65,5)="Đồán "),J65*0.5,(IF(H65>0,H65*K65,"0")+IF(I65>0,(I65*0.75)*L65,"0"))),1) -> 54
E66: Kỹ thuật lập trình -N2 | F66: 18C1-QTM3 | G66: 2 | I66: 60 | J66: 40 | K66: =IF(OR(LEFT(E66,2)="ĐA",LEFT(E66,2)="DA",LEFT(E66,5)="Đồ án",LEFT(E66,5)="Đồán ",LEFT(E66,9)="Sinh hoạt",LEFT(E66,9)="sinh hoạt",LEFT(E66,6)="Cố vấn",LEFT(E66,6)="cố vấn",LEFT(E66,4)="cvht",LEFT(E66,4)="CVHT",LEFT(E66,4)="shcn",LEFT(E66,4)="SHCN"),0,(IF(AND(H66>0,J66>0),IF(J66>60,1.3,IF(J66>35,1.2,1)),0))) -> 0 | L66: =IF(OR(LEFT(E66,2)="ĐA",LEFT(E66,2)="DA",LEFT(E66,5)="Đồ án",LEFT(E66,5)="Đồán "),0,IF(AND(J66>0,I66>0),IF(AND(OR(LEFT(E66,4)="GDQP",LEFT(E66,4)="gdqp",LEFT(E66,19)="Giáo dục quốc phòng"),J66>50),1.3,IF(J66>35,1.2,IF(J66>29,1.1,1))),0)) -> 1.2 | M66: =ROUND(IF(OR(LEFT(E66,2)="ĐA",LEFT(E66,2)="DA",LEFT(E66,5)="Đồ án",LEFT(E66,5)="Đồán "),J66*0.5,(IF(H66>0,H66*K66,"0")+IF(I66>0,(I66*0.75)*L66,"0"))),1) -> 54
E67: Tin học | F67: CĐ4 | G67: 2 | H67: 30 | I67: 60 | J67: 40 | K67: =IF(OR(LEFT(E67,2)="ĐA",LEFT(E67,2)="DA",LEFT(E67,5)="Đồ án",LEFT(E67,5)="Đồán ",LEFT(E67,9)="Sinh hoạt",LEFT(E67,9)="sinh hoạt",LEFT(E67,6)="Cố vấn",LEFT(E67,6)="cố vấn",LEFT(E67,4)="cvht",LEFT(E67,4)="CVHT",LEFT(E67,4)="shcn",LEFT(E67,4)="SHCN"),0,(IF(AND(H67>0,J67>0),IF(J67>60,1.3,IF(J67>35,1.2,1)),0))) -> 1.2 | L67: =IF(OR(LEFT(E67,2)="ĐA",LEFT(E67,2)="DA",LEFT(E67,5)="Đồ án",LEFT(E67,5)="Đồán "),0,IF(AND(J67>0,I67>0),IF(AND(OR(LEFT(E67,4)="GDQP",LEFT(E67,4)="gdqp",LEFT(E67,19)="Giáo dục quốc phòng"),J67>50),1.3,IF(J67>35,1.2,IF(J67>29,1.1,1))),0)) -> 1.2 | M67: =ROUND(IF(OR(LEFT(E67,2)="ĐA",LEFT(E67,2)="DA",LEFT(E67,5)="Đồ án",LEFT(E67,5)="Đồán "),J67*0.5,(IF(H67>0,H67*K67,"0")+IF(I67>0,(I67*0.75)*L67,"0"))),1) -> 90
E68: Tin học | F68: CĐ5 | G68: 2 | H68: 30 | I68: 60 | J68: 40 | K68: =IF(OR(LEFT(E68,2)="ĐA",LEFT(E68,2)="DA",LEFT(E68,5)="Đồ án",LEFT(E68,5)="Đồán ",LEFT(E68,9)="Sinh hoạt",LEFT(E68,9)="sinh hoạt",LEFT(E68,6)="Cố vấn",LEFT(E68,6)="cố vấn",LEFT(E68,4)="cvht",LEFT(E68,4)="CVHT",LEFT(E68,4)="shcn",LEFT(E68,4)="SHCN"),0,(IF(AND(H68>0,J68>0),IF(J68>60,1.3,IF(J68>35,1.2,1)),0))) -> 1.2 | L68: =IF(OR(LEFT(E68,2)="ĐA",LEFT(E68,2)="DA",LEFT(E68,5)="Đồ án",LEFT(E68,5)="Đồán "),0,IF(AND(J68>0,I68>0),IF(AND(OR(LEFT(E68,4)="GDQP",LEFT(E68,4)="gdqp",LEFT(E68,19)="Giáo dục quốc phòng"),J68>50),1.3,IF(J68>35,1.2,IF(J68>29,1.1,1))),0)) -> 1.2 | M68: =ROUND(IF(OR(LEFT(E68,2)="ĐA",LEFT(E68,2)="DA",LEFT(E68,5)="Đồ án",LEFT(E68,5)="Đồán "),J68*0.5,(IF(H68>0,H68*K68,"0")+IF(I68>0,(I68*0.75)*L68,"0"))),1) -> 90
K69: =IF(OR(LEFT(E69,2)="ĐA",LEFT(E69,2)="DA",LEFT(E69,5)="Đồ án",LEFT(E69,5)="Đồán ",LEFT(E69,9)="Sinh hoạt",LEFT(E69,9)="sinh hoạt",LEFT(E69,6)="Cố vấn",LEFT(E69,6)="cố vấn",LEFT(E69,4)="cvht",LEFT(E69,4)="CVHT",LEFT(E69,4)="shcn",LEFT(E69,4)="SHCN"),0,(IF(AND(H69>0,J69>0),IF(J69>60,1.3,IF(J69>35,1.2,1)),0))) -> 0 | L69: =IF(OR(LEFT(E69,2)="ĐA",LEFT(E69,2)="DA",LEFT(E69,5)="Đồ án",LEFT(E69,5)="Đồán "),0,IF(AND(J69>0,I69>0),IF(AND(OR(LEFT(E69,4)="GDQP",LEFT(E69,4)="gdqp",LEFT(E69,19)="Giáo dục quốc phòng"),J69>50),1.3,IF(J69>35,1.2,IF(J69>29,1.1,1))),0)) -> 0 | M69: =ROUND(IF(OR(LEFT(E69,2)="ĐA",LEFT(E69,2)="DA",LEFT(E69,5)="Đồ án",LEFT(E69,5)="Đồán "),J69*0.5,(IF(H69>0,H69*K69,"0")+IF(I69>0,(I69*0.75)*L69,"0"))),1) -> 0
K70: =IF(OR(LEFT(E70,2)="ĐA",LEFT(E70,2)="DA",LEFT(E70,5)="Đồ án",LEFT(E70,5)="Đồán ",LEFT(E70,9)="Sinh hoạt",LEFT(E70,9)="sinh hoạt",LEFT(E70,6)="Cố vấn",LEFT(E70,6)="cố vấn",LEFT(E70,4)="cvht",LEFT(E70,4)="CVHT",LEFT(E70,4)="shcn",LEFT(E70,4)="SHCN"),0,(IF(AND(H70>0,J70>0),IF(J70>60,1.3,IF(J70>35,1.2,1)),0))) -> 0 | L70: =IF(OR(LEFT(E70,2)="ĐA",LEFT(E70,2)="DA",LEFT(E70,5)="Đồ án",LEFT(E70,5)="Đồán "),0,IF(AND(J70>0,I70>0),IF(AND(OR(LEFT(E70,4)="GDQP",LEFT(E70,4)="gdqp",LEFT(E70,19)="Giáo dục quốc phòng"),J70>50),1.3,IF(J70>35,1.2,IF(J70>29,1.1,1))),0)) -> 0 | M70: =ROUND(IF(OR(LEFT(E70,2)="ĐA",LEFT(E70,2)="DA",LEFT(E70,5)="Đồ án",LEFT(E70,5)="Đồán "),J70*0.5,(IF(H70>0,H70*K70,"0")+IF(I70>0,(I70*0.75)*L70,"0"))),1) -> 0
A71: 4 | B71: Vũ Thị Thái | C71: Linh | D71: 71400174003 | E71: Anh văn chuyên ngành | F71: 17T4-LTM, TKW | G71: 1 | H71: 30 | I71: 0 | J71: 60 | K71: =IF(OR(LEFT(E71,2)="ĐA",LEFT(E71,2)="DA",LEFT(E71,5)="Đồ án",LEFT(E71,5)="Đồán ",LEFT(E71,9)="Sinh hoạt",LEFT(E71,9)="sinh hoạt",LEFT(E71,6)="Cố vấn",LEFT(E71,6)="cố vấn",LEFT(E71,4)="cvht",LEFT(E71,4)="CVHT",LEFT(E71,4)="shcn",LEFT(E71,4)="SHCN"),0,(IF(AND(H71>0,J71>0),IF(J71>60,1.3,IF(J71>35,1.2,1)),0))) -> 1.2 | L71: =IF(OR(LEFT(E71,2)="ĐA",LEFT(E71,2)="DA",LEFT(E71,5)="Đồ án",LEFT(E71,5)="Đồán "),0,IF(AND(J71>0,I71>0),IF(AND(OR(LEFT(E71,4)="GDQP",LEFT(E71,4)="gdqp",LEFT(E71,19)="Giáo dục quốc phòng"),J71>50),1.3,IF(J71>35,1.2,IF(J71>29,1.1,1))),0)) -> 0 | M71: =ROUND(IF(OR(LEFT(E71,2)="ĐA",LEFT(E71,2)="DA",LEFT(E71,5)="Đồ án",LEFT(E71,5)="Đồán "),J71*0.5,(IF(H71>0,H71*K71,"0")+IF(I71>0,(I71*0.75)*L71,"0"))),1) -> 36 | N71: 139.5 | O71: 0 | P71: =SUM(M71:M90)+N71+O71 -> 924 | Q71: 0 | R71: 0 | S71: 450 | T71: 450 | U71: 112 | V71: 112 | W71: 56 | X71: 56 | Y71: =ROUND((P71-T71),1) -> 474 | Z71: =IF(OR(SUM(V71:V90)="",SUM(Q71:Q90)=""),0,IF(OR(SUM(U71:U90)=320,SUM(V71:V90)>0),ROUND((SUM(Q71:Q90)-SUM(V71:V90)),1),0)) -> -112 | AA71: =IF(OR(SUM(X71:X90)="",SUM(R71:R90)=""),0,IF(OR(SUM(W71:W90)=160,SUM(X71:X90)>0),ROUND((SUM(R71:R90)-SUM(X71:X90)),1),0)) -> -56 | AC71: =SUM(Y71:AA90) -> 306
D72: 71400174004 | E72: Anh văn chuyên ngành | F72: 17T4-QTM1,2 | G72: 1 | H72: 30 | I72: 0 | J72: 80 | K72: =IF(OR(LEFT(E72,2)="ĐA",LEFT(E72,2)="DA",LEFT(E72,5)="Đồ án",LEFT(E72,5)="Đồán ",LEFT(E72,9)="Sinh hoạt",LEFT(E72,9)="sinh hoạt",LEFT(E72,6)="Cố vấn",LEFT(E72,6)="cố vấn",LEFT(E72,4)="cvht",LEFT(E72,4)="CVHT",LEFT(E72,4)="shcn",LEFT(E72,4)="SHCN"),0,(IF(AND(H72>0,J72>0),IF(J72>60,1.3,IF(J72>35,1.2,1)),0))) -> 1.3 | L72: =IF(OR(LEFT(E72,2)="ĐA",LEFT(E72,2)="DA",LEFT(E72,5)="Đồ án",LEFT(E72,5)="Đồán "),0,IF(AND(J72>0,I72>0),IF(AND(OR(LEFT(E72,4)="GDQP",LEFT(E72,4)="gdqp",LEFT(E72,19)="Giáo dục quốc phòng"),J72>50),1.3,IF(J72>35,1.2,IF(J72>29,1.1,1))),0)) -> 0 | M72: =ROUND(IF(OR(LEFT(E72,2)="ĐA",LEFT(E72,2)="DA",LEFT(E72,5)="Đồ án",LEFT(E72,5)="Đồán "),J72*0.5,(IF(H72>0,H72*K72,"0")+IF(I72>0,(I72*0.75)*L72,"0"))),1) -> 39
D73: 71400174001 | E73: Anh văn chuyên ngành | F73: 17T4-CMT1 | G73: 1 | H73: 30 | I73: 0 | J73: 74 | K73: =IF(OR(LEFT(E73,2)="ĐA",LEFT(E73,2)="DA",LEFT(E73,5)="Đồ án",LEFT(E73,5)="Đồán ",LEFT(E73,9)="Sinh hoạt",LEFT(E73,9)="sinh hoạt",LEFT(E73,6)="Cố vấn",LEFT(E73,6)="cố vấn",LEFT(E73,4)="cvht",LEFT(E73,4)="CVHT",LEFT(E73,4)="shcn",LEFT(E73,4)="SHCN"),0,(IF(AND(H73>0,J73>0),IF(J73>60,1.3,IF(J73>35,1.2,1)),0))) -> 1.3 | L73: =IF(OR(LEFT(E73,2)="ĐA",LEFT(E73,2)="DA",LEFT(E73,5)="Đồ án",LEFT(E73,5)="Đồán "),0,IF(AND(J73>0,I73>0),IF(AND(OR(LEFT(E73,4)="GDQP",LEFT(E73,4)="gdqp",LEFT(E73,19)="Giáo dục quốc phòng"),J73>50),1.3,IF(J73>35,1.2,IF(J73>29,1.1,1))),0)) -> 0 | M73: =ROUND(IF(OR(LEFT(E73,2)="ĐA",LEFT(E73,2)="DA",LEFT(E73,5)="Đồ án",LEFT(E73,5)="Đồán "),J73*0.5,(IF(H73>0,H73*K73,"0")+IF(I73>0,(I73*0.75)*L73,"0"))),1) -> 39
D74: 21100001401 | E74: Anh văn chuyên ngành | F74: 17C1-THU1 | G74: 1 | H74: 30 | I74: 0 | J74: 35 | K74: =IF(OR(LEFT(E74,2)="ĐA",LEFT(E74,2)="DA",LEFT(E74,5)="Đồ án",LEFT(E74,5)="Đồán ",LEFT(E74,9)="Sinh hoạt",LEFT(E74,9)="sinh hoạt",LEFT(E74,6)="Cố vấn",LEFT(E74,6)="cố vấn",LEFT(E74,4)="cvht",LEFT(E74,4)="CVHT",LEFT(E74,4)="shcn",LEFT(E74,4)="SHCN"),0,(IF(AND(H74>0,J74>0),IF(J74>60,1.3,IF(J74>35,1.2,1)),0))) -> 1 | L74: =IF(OR(LEFT(E74,2)="ĐA",LEFT(E74,2)="DA",LEFT(E74,5)="Đồ án",LEFT(E74,5)="Đồán "),0,IF(AND(J74>0,I74>0),IF(AND(OR(LEFT(E74,4)="GDQP",LEFT(E74,4)="gdqp",LEFT(E74,19)="Giáo dục quốc phòng"),J74>50),1.3,IF(J74>35,1.2,IF(J74>29,1.1,1))),0)) -> 0 | M74: =ROUND(IF(OR(LEFT(E74,2)="ĐA",LEFT(E74,2)="DA",LEFT(E74,5)="Đồ án",LEFT(E74,5)="Đồán "),J74*0.5,(IF(H74>0,H74*K74,"0")+IF(I74>0,(I74*0.75)*L74,"0"))),1) -> 30
D75: 21100119806 | E75: Tin học | F75: 18C1-QTM1 | G75: 1 | H75: 30 | J75: 62 | K75: =IF(OR(LEFT(E75,2)="ĐA",LEFT(E75,2)="DA",LEFT(E75,5)="Đồ án",LEFT(E75,5)="Đồán ",LEFT(E75,9)="Sinh hoạt",LEFT(E75,9)="sinh hoạt",LEFT(E75,6)="Cố vấn",LEFT(E75,6)="cố vấn",LEFT(E75,4)="cvht",LEFT(E75,4)="CVHT",LEFT(E75,4)="shcn",LEFT(E75,4)="SHCN"),0,(IF(AND(H75>0,J75>0),IF(J75>60,1.3,IF(J75>35,1.2,1)),0))) -> 1.3 | L75: =IF(OR(LEFT(E75,2)="ĐA",LEFT(E75,2)="DA",LEFT(E75,5)="Đồ án",LEFT(E75,5)="Đồán "),0,IF(AND(J75>0,I75>0),IF(AND(OR(LEFT(E75,4)="GDQP",LEFT(E75,4)="gdqp",LEFT(E75,19)="Giáo dục quốc phòng"),J75>50),1.3,IF(J75>35,1.2,IF(J75>29,1.1,1))),0)) -> 0 | M75: =ROUND(IF(OR(LEFT(E75,2)="ĐA",LEFT(E75,2)="DA",LEFT(E75,5)="Đồ án",LEFT(E75,5)="Đồán "),J75*0.5,(IF(H75>0,H75*K75,"0")+IF(I75>0,(I75*0.75)*L75,"0"))),1) -> 39
E76: Tin học_N1 | F76: 18C1-QTM2 | G76: 1 | I76: 60 | J76: 62 | K76: =IF(OR(LEFT(E76,2)="ĐA",LEFT(E76,2)="DA",LEFT(E76,5)="Đồ án",LEFT(E76,5)="Đồán ",LEFT(E76,9)="Sinh hoạt",LEFT(E76,9)="sinh hoạt",LEFT(E76,6)="Cố vấn",LEFT(E76,6)="cố vấn",LEFT(E76,4)="cvht",LEFT(E76,4)="CVHT",LEFT(E76,4)="shcn",LEFT(E76,4)="SHCN"),0,(IF(AND(H76>0,J76>0),IF(J76>60,1.3,IF(J76>35,1.2,1)),0))) -> 0 | L76: =IF(OR(LEFT(E76,2)="ĐA",LEFT(E76,2)="DA",LEFT(E76,5)="Đồ án",LEFT(E76,5)="Đồán "),0,IF(AND(J76>0,I76>0),IF(AND(OR(LEFT(E76,4)="GDQP",LEFT(E76,4)="gdqp",LEFT(E76,19)="Giáo dục quốc phòng"),J76>50),1.3,IF(J76>35,1.2,IF(J76>29,1.1,1))),0)) -> 1.2 | M76: =ROUND(IF(OR(LEFT(E76,2)="ĐA",LEFT(E76,2)="DA",LEFT(E76,5)="Đồ án",LEFT(E76,5)="Đồán "),J76*0.5,(IF(H76>0,H76*K76,"0")+IF(I76>0,(I76*0.75)*L76,"0"))),1) -> 54
E77: Tin học-N2 | F77: 18C1-QTM3 | G77: 1 | I77: 60 | J77: 62 | K77: =IF(OR(LEFT(E77,2)="ĐA",LEFT(E77,2)="DA",LEFT(E77,5)="Đồ án",LEFT(E77,5)="Đồán ",LEFT(E77,9)="Sinh hoạt",LEFT(E77,9)="sinh hoạt",LEFT(E77,6)="Cố vấn",LEFT(E77,6)="cố vấn",LEFT(E77,4)="cvht",LEFT(E77,4)="CVHT",LEFT(E77,4)="shcn",LEFT(E77,4)="SHCN"),0,(IF(AND(H77>0,J77>0),IF(J77>60,1.3,IF(J77>35,1.2,1)),0))) -> 0 | L77: =IF(OR(LEFT(E77,2)="ĐA",LEFT(E77,2)="DA",LEFT(E77,5)="Đồ án",LEFT(E77,5)="Đồán "),0,IF(AND(J77>0,I77>0),IF(AND(OR(LEFT(E77,4)="GDQP",LEFT(E77,4)="gdqp",LEFT(E77,19)="Giáo dục quốc phòng"),J77>50),1.3,IF(J77>35,1.2,IF(J77>29,1.1,1))),0)) -> 1.2 | M77: =ROUND(IF(OR(LEFT(E77,2)="ĐA",LEFT(E77,2)="DA",LEFT(E77,5)="Đồ án",LEFT(E77,5)="Đồán "),J77*0.5,(IF(H77>0,H77*K77,"0")+IF(I77>0,(I77*0.75)*L77,"0"))),1) -> 54
D78: 21100094301 | E78: Kỹ thuật lập trình | F78: 18C1-THU1 | G78: 1 | H78: 30 | I78: 60 | J78: 33 | K78: =IF(OR(LEFT(E78,2)="ĐA",LEFT(E78,2)="DA",LEFT(E78,5)="Đồ án",LEFT(E78,5)="Đồán ",LEFT(E78,9)="Sinh hoạt",LEFT(E78,9)="sinh hoạt",LEFT(E78,6)="Cố vấn",LEFT(E78,6)="cố vấn",LEFT(E78,4)="cvht",LEFT(E78,4)="CVHT",LEFT(E78,4)="shcn",LEFT(E78,4)="SHCN"),0,(IF(AND(H78>0,J78>0),IF(J78>60,1.3,IF(J78>35,1.2,1)),0))) -> 1 | L78: =IF(OR(LEFT(E78,2)="ĐA",LEFT(E78,2)="DA",LEFT(E78,5)="Đồ án",LEFT(E78,5)="Đồán "),0,IF(AND(J78>0,I78>0),IF(AND(OR(LEFT(E78,4)="GDQP",LEFT(E78,4)="gdqp",LEFT(E78,19)="Giáo dục quốc phòng"),J78>50),1.3,IF(J78>35,1.2,IF(J78>29,1.1,1))),0)) -> 1.1 | M78: =ROUND(IF(OR(LEFT(E78,2)="ĐA",LEFT(E78,2)="DA",LEFT(E78,5)="Đồ án",LEFT(E78,5)="Đồán "),J78*0.5,(IF(H78>0,H78*K78,"0")+IF(I78>0,(I78*0.75)*L78,"0"))),1) -> 79.5
E79: Anh văn chuyên ngành | F79: 18C1-LTM1 | G79: 2 | H79: 30 | J79: 40 | K79: =IF(OR(LEFT(E79,2)="ĐA",LEFT(E79,2)="DA",LEFT(E79,5)="Đồ án",LEFT(E79,5)="Đồán ",LEFT(E79,9)="Sinh hoạt",LEFT(E79,9)="sinh hoạt",LEFT(E79,6)="Cố vấn",LEFT(E79,6)="cố vấn",LEFT(E79,4)="cvht",LEFT(E79,4)="CVHT",LEFT(E79,4)="shcn",LEFT(E79,4)="SHCN"),0,(IF(AND(H79>0,J79>0),IF(J79>60,1.3,IF(J79>35,1.2,1)),0))) -> 1.2 | L79: =IF(OR(LEFT(E79,2)="ĐA",LEFT(E79,2)="DA",LEFT(E79,5)="Đồ án",LEFT(E79,5)="Đồán "),0,IF(AND(J79>0,I79>0),IF(AND(OR(LEFT(E79,4)="GDQP",LEFT(E79,4)="gdqp",LEFT(E79,19)="Giáo dục quốc phòng"),J79>50),1.3,IF(J79>35,1.2,IF(J79>29,1.1,1))),0)) -> 0 | M79: =ROUND(IF(OR(LEFT(E79,2)="ĐA",LEFT(E79,2)="DA",LEFT(E79,5)="Đồ án",LEFT(E79,5)="Đồán "),J79*0.5,(IF(H79>0,H79*K79,"0")+IF(I79>0,(I79*0.75)*L79,"0"))),1) -> 36
E80: Anh văn chuyên ngành | F80: 18C1-LTM2 | G80: 2 | H80: 30 | J80: 40 | K80: =IF(OR(LEFT(E80,2)="ĐA",LEFT(E80,2)="DA",LEFT(E80,5)="Đồ án",LEFT(E80,5)="Đồán ",LEFT(E80,9)="Sinh hoạt",LEFT(E80,9)="sinh hoạt",LEFT(E80,6)="Cố vấn",LEFT(E80,6)="cố vấn",LEFT(E80,4)="cvht",LEFT(E80,4)="CVHT",LEFT(E80,4)="shcn",LEFT(E80,4)="SHCN"),0,(IF(AND(H80>0,J80>0),IF(J80>60,1.3,IF(J80>35,1.2,1)),0))) -> 1.2 | L80: =IF(OR(LEFT(E80,2)="ĐA",LEFT(E80,2)="DA",LEFT(E80,5)="Đồ án",LEFT(E80,5)="Đồán "),0,IF(AND(J80>0,I80>0),IF(AND(OR(LEFT(E80,4)="GDQP",LEFT(E80,4)="gdqp",LEFT(E80,19)="Giáo dục quốc phòng"),J80>50),1.3,IF(J80>35,1.2,IF(J80>29,1.1,1))),0)) -> 0 | M80: =ROUND(IF(OR(LEFT(E80,2)="ĐA",LEFT(E80,2)="DA",LEFT(E80,5)="Đồ án",LEFT(E80,5)="Đồán "),J80*0.5,(IF(H80>0,H80*K80,"0")+IF(I80>0,(I80*0.75)*L80,"0"))),1) -> 36
E81: Anh văn chuyên ngành | F81: 18C1-CMT1 | G81: 2 | H81: 30 | J81: 40 | K81: =IF(OR(LEFT(E81,2)="ĐA",LEFT(E81,2)="DA",LEFT(E81,5)="Đồ án",LEFT(E81,5)="Đồán ",LEFT(E81,9)="Sinh hoạt",LEFT(E81,9)="sinh hoạt",LEFT(E81,6)="Cố vấn",LEFT(E81,6)="cố vấn",LEFT(E81,4)="cvht",LEFT(E81,4)="CVHT",LEFT(E81,4)="shcn",LEFT(E81,4)="SHCN"),0,(IF(AND(H81>0,J81>0),IF(J81>60,1.3,IF(J81>35,1.2,1)),0))) -> 1.2 | L81: =IF(OR(LEFT(E81,2)="ĐA",LEFT(E81,2)="DA",LEFT(E81,5)="Đồ án",LEFT(E81,5)="Đồán "),0,IF(AND(J81>0,I81>0),IF(AND(OR(LEFT(E81,4)="GDQP",LEFT(E81,4)="gdqp",LEFT(E81,19)="Giáo dục quốc phòng"),J81>50),1.3,IF(J81>35,1.2,IF(J81>29,1.1,1))),0)) -> 0 | M81: =ROUND(IF(OR(LEFT(E81,2)="ĐA",LEFT(E81,2)="DA",LEFT(E81,5)="Đồ án",LEFT(E81,5)="Đồán "),J81*0.5,(IF(H81>0,H81*K81,"0")+IF(I81>0,(I81*0.75)*L81,"0"))),1) -> 36
E82: Anh văn chuyên ngành | F82: 18C1-CMT2 | G82: 2 | H82: 30 | J82: 40 | K82: =IF(OR(LEFT(E82,2)="ĐA",LEFT(E82,2)="DA",LEFT(E82,5)="Đồ án",LEFT(E82,5)="Đồán ",LEFT(E82,9)="Sinh hoạt",LEFT(E82,9)="sinh hoạt",LEFT(E82,6)="Cố vấn",LEFT(E82,6)="cố vấn",LEFT(E82,4)="cvht",LEFT(E82,4)="CVHT",LEFT(E82,4)="shcn",LEFT(E82,4)="SHCN"),0,(IF(AND(H82>0,J82>0),IF(J82>60,1.3,IF(J82>35,1.2,1)),0))) -> 1.2 | L82: =IF(OR(LEFT(E82,2)="ĐA",LEFT(E82,2)="DA",LEFT(E82,5)="Đồ án",LEFT(E82,5)="Đồán "),0,IF(AND(J82>0,I82>0),IF(AND(OR(LEFT(E82,4)="GDQP",LEFT(E82,4)="gdqp",LEFT(E82,19)="Giáo dục quốc phòng"),J82>50),1.3,IF(J82>35,1.2,IF(J82>29,1.1,1))),0)) -> 0 | M82: =ROUND(IF(OR(LEFT(E82,2)="ĐA",LEFT(E82,2)="DA",LEFT(E82,5)="Đồ án",LEFT(E82,5)="Đồán "),J82*0.5,(IF(H82>0,H82*K82,"0")+IF(I82>0,(I82*0.75)*L82,"0"))),1) -> 36
E83: Anh văn chuyên ngành | F83: 18C1-QTM1 | G83: 2 | H83: 30 | J83: 40 | K83: =IF(OR(LEFT(E83,2)="ĐA",LEFT(E83,2)="DA",LEFT(E83,5)="Đồ án",LEFT(E83,5)="Đồán ",LEFT(E83,9)="Sinh hoạt",LEFT(E83,9)="sinh hoạt",LEFT(E83,6)="Cố vấn",LEFT(E83,6)="cố vấn",LEFT(E83,4)="cvht",LEFT(E83,4)="CVHT",LEFT(E83,4)="shcn",LEFT(E83,4)="SHCN"),0,(IF(AND(H83>0,J83>0),IF(J83>60,1.3,IF(J83>35,1.2,1)),0))) -> 1.2 | L83: =IF(OR(LEFT(E83,2)="ĐA",LEFT(E83,2)="DA",LEFT(E83,5)="Đồ án",LEFT(E83,5)="Đồán "),0,IF(AND(J83>0,I83>0),IF(AND(OR(LEFT(E83,4)="GDQP",LEFT(E83,4)="gdqp",LEFT(E83,19)="Giáo dục quốc phòng"),J83>50),1.3,IF(J83>35,1.2,IF(J83>29,1.1,1))),0)) -> 0 | M83: =ROUND(IF(OR(LEFT(E83,2)="ĐA",LEFT(E83,2)="DA",LEFT(E83,5)="Đồ án",LEFT(E83,5)="Đồán "),J83*0.5,(IF(H83>0,H83*K83,"0")+IF(I83>0,(I83*0.75)*L83,"0"))),1) -> 36
E84: Anh văn chuyên ngành | F84: 18C1-TMĐ1 | G84: 2 | H84: 30 | J84: 40 | K84: =IF(OR(LEFT(E84,2)="ĐA",LEFT(E84,2)="DA",LEFT(E84,5)="Đồ án",LEFT(E84,5)="Đồán ",LEFT(E84,9)="Sinh hoạt",LEFT(E84,9)="sinh hoạt",LEFT(E84,6)="Cố vấn",LEFT(E84,6)="cố vấn",LEFT(E84,4)="cvht",LEFT(E84,4)="CVHT",LEFT(E84,4)="shcn",LEFT(E84,4)="SHCN"),0,(IF(AND(H84>0,J84>0),IF(J84>60,1.3,IF(J84>35,1.2,1)),0))) -> 1.2 | L84: =IF(OR(LEFT(E84,2)="ĐA",LEFT(E84,2)="DA",LEFT(E84,5)="Đồ án",LEFT(E84,5)="Đồán "),0,IF(AND(J84>0,I84>0),IF(AND(OR(LEFT(E84,4)="GDQP",LEFT(E84,4)="gdqp",LEFT(E84,19)="Giáo dục quốc phòng"),J84>50),1.3,IF(J84>35,1.2,IF(J84>29,1.1,1))),0)) -> 0 | M84: =ROUND(IF(OR(LEFT(E84,2)="ĐA",LEFT(E84,2)="DA",LEFT(E84,5)="Đồ án",LEFT(E84,5)="Đồán "),J84*0.5,(IF(H84>0,H84*K84,"0")+IF(I84>0,(I84*0.75)*L84,"0"))),1) -> 36
E85: Kỹ thuật lập trình | F85: 18C1-CMT2 | G85: 2 | H85: 30 | I85: 60 | J85: 40 | K85: =IF(OR(LEFT(E85,2)="ĐA",LEFT(E85,2)="DA",LEFT(E85,5)="Đồ án",LEFT(E85,5)="Đồán ",LEFT(E85,9)="Sinh hoạt",LEFT(E85,9)="sinh hoạt",LEFT(E85,6)="Cố vấn",LEFT(E85,6)="cố vấn",LEFT(E85,4)="cvht",LEFT(E85,4)="CVHT",LEFT(E85,4)="shcn",LEFT(E85,4)="SHCN"),0,(IF(AND(H85>0,J85>0),IF(J85>60,1.3,IF(J85>35,1.2,1)),0))) -> 1.2 | L85: =IF(OR(LEFT(E85,2)="ĐA",LEFT(E85,2)="DA",LEFT(E85,5)="Đồ án",LEFT(E85,5)="Đồán "),0,IF(AND(J85>0,I85>0),IF(AND(OR(LEFT(E85,4)="GDQP",LEFT(E85,4)="gdqp",LEFT(E85,19)="Giáo dục quốc phòng"),J85>50),1.3,IF(J85>35,1.2,IF(J85>29,1.1,1))),0)) -> 1.2 | M85: =ROUND(IF(OR(LEFT(E85,2)="ĐA",LEFT(E85,2)="DA",LEFT(E85,5)="Đồ án",LEFT(E85,5)="Đồán "),J85*0.5,(IF(H85>0,H85*K85,"0")+IF(I85>0,(I85*0.75)*L85,"0"))),1) -> 90
E86: Anh văn chuyên ngành | F86: 18C1-TMĐ1 | G86: 2 | H86: 30 | J86: 40 | K86: =IF(OR(LEFT(E86,2)="ĐA",LEFT(E86,2)="DA",LEFT(E86,5)="Đồ án",LEFT(E86,5)="Đồán ",LEFT(E86,9)="Sinh hoạt",LEFT(E86,9)="sinh hoạt",LEFT(E86,6)="Cố vấn",LEFT(E86,6)="cố vấn",LEFT(E86,4)="cvht",LEFT(E86,4)="CVHT",LEFT(E86,4)="shcn",LEFT(E86,4)="SHCN"),0,(IF(AND(H86>0,J86>0),IF(J86>60,1.3,IF(J86>35,1.2,1)),0))) -> 1.2 | L86: =IF(OR(LEFT(E86,2)="ĐA",LEFT(E86,2)="DA",LEFT(E86,5)="Đồ án",LEFT(E86,5)="Đồán "),0,IF(AND(J86>0,I86>0),IF(AND(OR(LEFT(E86,4)="GDQP",LEFT(E86,4)="gdqp",LEFT(E86,19)="Giáo dục quốc phòng"),J86>50),1.3,IF(J86>35,1.2,IF(J86>29,1.1,1))),0)) -> 0 | M86: =ROUND(IF(OR(LEFT(E86,2)="ĐA",LEFT(E86,2)="DA",LEFT(E86,5)="Đồ án",LEFT(E86,5)="Đồán "),J86*0.5,(IF(H86>0,H86*K86,"0")+IF(I86>0,(I86*0.75)*L86,"0"))),1) -> 36
E87: Anh văn chuyên ngành | F87: 17T4-TMĐ | G87: 1 | H87: 30 | I87: 0 | J87: 40 | K87: =IF(OR(LEFT(E87,2)="ĐA",LEFT(E87,2)="DA",LEFT(E87,5)="Đồ án",LEFT(E87,5)="Đồán ",LEFT(E87,9)="Sinh hoạt",LEFT(E87,9)="sinh hoạt",LEFT(E87,6)="Cố vấn",LEFT(E87,6)="cố vấn",LEFT(E87,4)="cvht",LEFT(E87,4)="CVHT",LEFT(E87,4)="shcn",LEFT(E87,4)="SHCN"),0,(IF(AND(H87>0,J87>0),IF(J87>60,1.3,IF(J87>35,1.2,1)),0))) -> 1.2 | L87: =IF(OR(LEFT(E87,2)="ĐA",LEFT(E87,2)="DA",LEFT(E87,5)="Đồ án",LEFT(E87,5)="Đồán "),0,IF(AND(J87>0,I87>0),IF(AND(OR(LEFT(E87,4)="GDQP",LEFT(E87,4)="gdqp",LEFT(E87,19)="Giáo dục quốc phòng"),J87>50),1.3,IF(J87>35,1.2,IF(J87>29,1.1,1))),0)) -> 0 | M87: =ROUND(IF(OR(LEFT(E87,2)="ĐA",LEFT(E87,2)="DA",LEFT(E87,5)="Đồ án",LEFT(E87,5)="Đồán "),J87*0.5,(IF(H87>0,H87*K87,"0")+IF(I87>0,(I87*0.75)*L87,"0"))),1) -> 36
E88: Anh văn chuyên ngành | F88: 17T4-ANM | G88: 1 | H88: 30 | I88: 0 | J88: 40 | K88: =IF(OR(LEFT(E88,2)="ĐA",LEFT(E88,2)="DA",LEFT(E88,5)="Đồ án",LEFT(E88,5)="Đồán ",LEFT(E88,9)="Sinh hoạt",LEFT(E88,9)="sinh hoạt",LEFT(E88,6)="Cố vấn",LEFT(E88,6)="cố vấn",LEFT(E88,4)="cvht",LEFT(E88,4)="CVHT",LEFT(E88,4)="shcn",LEFT(E88,4)="SHCN"),0,(IF(AND(H88>0,J88>0),IF(J88>60,1.3,IF(J88>35,1.2,1)),0))) -> 1.2 | L88: =IF(OR(LEFT(E88,2)="ĐA",LEFT(E88,2)="DA",LEFT(E88,5)="Đồ án",LEFT(E88,5)="Đồán "),0,IF(AND(J88>0,I88>0),IF(AND(OR(LEFT(E88,4)="GDQP",LEFT(E88,4)="gdqp",LEFT(E88,19)="Giáo dục quốc phòng"),J88>50),1.3,IF(J88>35,1.2,IF(J88>29,1.1,1))),0)) -> 0 | M88: =ROUND(IF(OR(LEFT(E88,2)="ĐA",LEFT(E88,2)="DA",LEFT(E88,5)="Đồ án",LEFT(E88,5)="Đồán "),J88*0.5,(IF(H88>0,H88*K88,"0")+IF(I88>0,(I88*0.75)*L88,"0"))),1) -> 36
K89: =IF(OR(LEFT(E89,2)="ĐA",LEFT(E89,2)="DA",LEFT(E89,5)="Đồ án",LEFT(E89,5)="Đồán ",LEFT(E89,9)="Sinh hoạt",LEFT(E89,9)="sinh hoạt",LEFT(E89,6)="Cố vấn",LEFT(E89,6)="cố vấn",LEFT(E89,4)="cvht",LEFT(E89,4)="CVHT",LEFT(E89,4)="shcn",LEFT(E89,4)="SHCN"),0,(IF(AND(H89>0,J89>0),IF(J89>60,1.3,IF(J89>35,1.2,1)),0))) -> 0 | L89: =IF(OR(LEFT(E89,2)="ĐA",LEFT(E89,2)="DA",LEFT(E89,5)="Đồ án",LEFT(E89,5)="Đồán "),0,IF(AND(J89>0,I89>0),IF(AND(OR(LEFT(E89,4)="GDQP",LEFT(E89,4)="gdqp",LEFT(E89,19)="Giáo dục quốc phòng"),J89>50),1.3,IF(J89>35,1.2,IF(J89>29,1.1,1))),0)) -> 0 | M89: =ROUND(IF(OR(LEFT(E89,2)="ĐA",LEFT(E89,2)="DA",LEFT(E89,5)="Đồ án",LEFT(E89,5)="Đồán "),J89*0.5,(IF(H89>0,H89*K89,"0")+IF(I89>0,(I89*0.75)*L89,"0"))),1) -> 0
K90: =IF(OR(LEFT(E90,2)="ĐA",LEFT(E90,2)="DA",LEFT(E90,5)="Đồ án",LEFT(E90,5)="Đồán ",LEFT(E90,9)="Sinh hoạt",LEFT(E90,9)="sinh hoạt",LEFT(E90,6)="Cố vấn",LEFT(E90,6)="cố vấn",LEFT(E90,4)="cvht",LEFT(E90,4)="CVHT",LEFT(E90,4)="shcn",LEFT(E90,4)="SHCN"),0,(IF(AND(H90>0,J90>0),IF(J90>60,1.3,IF(J90>35,1.2,1)),0))) -> 0 | L90: =IF(OR(LEFT(E90,2)="ĐA",LEFT(E90,2)="DA",LEFT(E90,5)="Đồ án",LEFT(E90,5)="Đồán "),0,IF(AND(J90>0,I90>0),IF(AND(OR(LEFT(E90,4)="GDQP",LEFT(E90,4)="gdqp",LEFT(E90,19)="Giáo dục quốc phòng"),J90>50),1.3,IF(J90>35,1.2,IF(J90>29,1.1,1))),0)) -> 0 | M90: =ROUND(IF(OR(LEFT(E90,2)="ĐA",LEFT(E90,2)="DA",LEFT(E90,5)="Đồ án",LEFT(E90,5)="Đồán "),J90*0.5,(IF(H90>0,H90*K90,"0")+IF(I90>0,(I90*0.75)*L90,"0"))),1) -> 0
A91: 5 | B91: Nguyễn Văn | C91: Danh | D91: 21100093905 | E91: Cơ sở dữ liệu | F91: 18C1-QTM1 | G91: 1 | H91: 15 | I91: 30 | J91: 62 | K91: =IF(OR(LEFT(E91,2)="ĐA",LEFT(E91,2)="DA",LEFT(E91,5)="Đồ án",LEFT(E91,5)="Đồán ",LEFT(E91,9)="Sinh hoạt",LEFT(E91,9)="sinh hoạt",LEFT(E91,6)="Cố vấn",LEFT(E91,6)="cố vấn",LEFT(E91,4)="cvht",LEFT(E91,4)="CVHT",LEFT(E91,4)="shcn",LEFT(E91,4)="SHCN"),0,(IF(AND(H91>0,J91>0),IF(J91>60,1.3,IF(J91>35,1.2,1)),0))) -> 1.3 | L91: =IF(OR(LEFT(E91,2)="ĐA",LEFT(E91,2)="DA",LEFT(E91,5)="Đồ án",LEFT(E91,5)="Đồán "),0,IF(AND(J91>0,I91>0),IF(AND(OR(LEFT(E91,4)="GDQP",LEFT(E91,4)="gdqp",LEFT(E91,19)="Giáo dục quốc phòng"),J91>50),1.3,IF(J91>35,1.2,IF(J91>29,1.1,1))),0)) -> 1.2 | M91: =ROUND(IF(OR(LEFT(E91,2)="ĐA",LEFT(E91,2)="DA",LEFT(E91,5)="Đồ án",LEFT(E91,5)="Đồán "),J91*0.5,(IF(H91>0,H91*K91,"0")+IF(I91>0,(I91*0.75)*L91,"0"))),1) -> 46.5 | N91: 67.5 | O91: 0 | P91: =SUM(M91:M111)+N91+O91 -> 1180.5 | Q91: 0 | R91: 0 | S91: 450 | T91: 450 | U91: 112 | V91: 112 | W91: 56 | X91: 56 | Y91: =ROUND((P91-T91),1) -> 730.5 | Z91: =IF(OR(SUM(V91:V111)="",SUM(Q91:Q111)=""),0,IF(OR(SUM(U91:U111)=320,SUM(V91:V111)>0),ROUND((SUM(Q91:Q111)-SUM(V91:V111)),1),0)) -> -112 | AA91: =IF(OR(SUM(X91:X111)="",SUM(R91:R111)=""),0,IF(OR(SUM(W91:W111)=160,SUM(X91:X111)>0),ROUND((SUM(R91:R111)-SUM(X91:X111)),1),0)) -> -56 | AC91: =SUM(Y91:AA111) -> 562.5
D92: 71400119003 | E92: Cơ sở dữ liệu | F92: 17T4-THU1 | G92: 1 | H92: 15 | I92: 30 | J92: 70 | K92: =IF(OR(LEFT(E92,2)="ĐA",LEFT(E92,2)="DA",LEFT(E92,5)="Đồ án",LEFT(E92,5)="Đồán ",LEFT(E92,9)="Sinh hoạt",LEFT(E92,9)="sinh hoạt",LEFT(E92,6)="Cố vấn",LEFT(E92,6)="cố vấn",LEFT(E92,4)="cvht",LEFT(E92,4)="CVHT",LEFT(E92,4)="shcn",LEFT(E92,4)="SHCN"),0,(IF(AND(H92>0,J92>0),IF(J92>60,1.3,IF(J92>35,1.2,1)),0))) -> 1.3 | L92: =IF(OR(LEFT(E92,2)="ĐA",LEFT(E92,2)="DA",LEFT(E92,5)="Đồ án",LEFT(E92,5)="Đồán "),0,IF(AND(J92>0,I92>0),IF(AND(OR(LEFT(E92,4)="GDQP",LEFT(E92,4)="gdqp",LEFT(E92,19)="Giáo dục quốc phòng"),J92>50),1.3,IF(J92>35,1.2,IF(J92>29,1.1,1))),0)) -> 1.2 | M92: =ROUND(IF(OR(LEFT(E92,2)="ĐA",LEFT(E92,2)="DA",LEFT(E92,5)="Đồ án",LEFT(E92,5)="Đồán "),J92*0.5,(IF(H92>0,H92*K92,"0")+IF(I92>0,(I92*0.75)*L92,"0"))),1) -> 46.5
D93: 21100119804 | E93: Tin học | F93: 18C1-LTM1 | G93: 1 | H93: 30 | J93: 57 | K93: =IF(OR(LEFT(E93,2)="ĐA",LEFT(E93,2)="DA",LEFT(E93,5)="Đồ án",LEFT(E93,5)="Đồán ",LEFT(E93,9)="Sinh hoạt",LEFT(E93,9)="sinh hoạt",LEFT(E93,6)="Cố vấn",LEFT(E93,6)="cố vấn",LEFT(E93,4)="cvht",LEFT(E93,4)="CVHT",LEFT(E93,4)="shcn",LEFT(E93,4)="SHCN"),0,(IF(AND(H93>0,J93>0),IF(J93>60,1.3,IF(J93>35,1.2,1)),0))) -> 1.2 | L93: =IF(OR(LEFT(E93,2)="ĐA",LEFT(E93,2)="DA",LEFT(E93,5)="Đồ án",LEFT(E93,5)="Đồán "),0,IF(AND(J93>0,I93>0),IF(AND(OR(LEFT(E93,4)="GDQP",LEFT(E93,4)="gdqp",LEFT(E93,19)="Giáo dục quốc phòng"),J93>50),1.3,IF(J93>35,1.2,IF(J93>29,1.1,1))),0)) -> 0 | M93: =ROUND(IF(OR(LEFT(E93,2)="ĐA",LEFT(E93,2)="DA",LEFT(E93,5)="Đồ án",LEFT(E93,5)="Đồán "),J93*0.5,(IF(H93>0,H93*K93,"0")+IF(I93>0,(I93*0.75)*L93,"0"))),1) -> 36
D94: 21100119804 | E94: Tin học | F94: 18C1-LTM1 | G94: 1 | I94: 60 | J94: 30 | K94: =IF(OR(LEFT(E94,2)="ĐA",LEFT(E94,2)="DA",LEFT(E94,5)="Đồ án",LEFT(E94,5)="Đồán ",LEFT(E94,9)="Sinh hoạt",LEFT(E94,9)="sinh hoạt",LEFT(E94,6)="Cố vấn",LEFT(E94,6)="cố vấn",LEFT(E94,4)="cvht",LEFT(E94,4)="CVHT",LEFT(E94,4)="shcn",LEFT(E94,4)="SHCN"),0,(IF(AND(H94>0,J94>0),IF(J94>60,1.3,IF(J94>35,1.2,1)),0))) -> 0 | L94: =IF(OR(LEFT(E94,2)="ĐA",LEFT(E94,2)="DA",LEFT(E94,5)="Đồ án",LEFT(E94,5)="Đồán "),0,IF(AND(J94>0,I94>0),IF(AND(OR(LEFT(E94,4)="GDQP",LEFT(E94,4)="gdqp",LEFT(E94,19)="Giáo dục quốc phòng"),J94>50),1.3,IF(J94>35,1.2,IF(J94>29,1.1,1))),0)) -> 1.1 | M94: =ROUND(IF(OR(LEFT(E94,2)="ĐA",LEFT(E94,2)="DA",LEFT(E94,5)="Đồ án",LEFT(E94,5)="Đồán "),J94*0.5,(IF(H94>0,H94*K94,"0")+IF(I94>0,(I94*0.75)*L94,"0"))),1) -> 49.5
D95: 21100124401 | E95: Phân tích và thiết kế hệ thống | F95: 18C1-CMT1 | G95: 1 | H95: 15 | I95: 30 | J95: 39 | K95: =IF(OR(LEFT(E95,2)="ĐA",LEFT(E95,2)="DA",LEFT(E95,5)="Đồ án",LEFT(E95,5)="Đồán ",LEFT(E95,9)="Sinh hoạt",LEFT(E95,9)="sinh hoạt",LEFT(E95,6)="Cố vấn",LEFT(E95,6)="cố vấn",LEFT(E95,4)="cvht",LEFT(E95,4)="CVHT",LEFT(E95,4)="shcn",LEFT(E95,4)="SHCN"),0,(IF(AND(H95>0,J95>0),IF(J95>60,1.3,IF(J95>35,1.2,1)),0))) -> 1.2 | L95: =IF(OR(LEFT(E95,2)="ĐA",LEFT(E95,2)="DA",LEFT(E95,5)="Đồ án",LEFT(E95,5)="Đồán "),0,IF(AND(J95>0,I95>0),IF(AND(OR(LEFT(E95,4)="GDQP",LEFT(E95,4)="gdqp",LEFT(E95,19)="Giáo dục quốc phòng"),J95>50),1.3,IF(J95>35,1.2,IF(J95>29,1.1,1))),0)) -> 1.2 | M95: =ROUND(IF(OR(LEFT(E95,2)="ĐA",LEFT(E95,2)="DA",LEFT(E95,5)="Đồ án",LEFT(E95,5)="Đồán "),J95*0.5,(IF(H95>0,H95*K95,"0")+IF(I95>0,(I95*0.75)*L95,"0"))),1) -> 45
D96: 21100124402 | E96: Phân tích và thiết kế hệ thống | F96: 17C1-LTM1 | G96: 1 | H96: 15 | I96: 30 | J96: 38 | K96: =IF(OR(LEFT(E96,2)="ĐA",LEFT(E96,2)="DA",LEFT(E96,5)="Đồ án",LEFT(E96,5)="Đồán ",LEFT(E96,9)="Sinh hoạt",LEFT(E96,9)="sinh hoạt",LEFT(E96,6)="Cố vấn",LEFT(E96,6)="cố vấn",LEFT(E96,4)="cvht",LEFT(E96,4)="CVHT",LEFT(E96,4)="shcn",LEFT(E96,4)="SHCN"),0,(IF(AND(H96>0,J96>0),IF(J96>60,1.3,IF(J96>35,1.2,1)),0))) -> 1.2 | L96: =IF(OR(LEFT(E96,2)="ĐA",LEFT(E96,2)="DA",LEFT(E96,5)="Đồ án",LEFT(E96,5)="Đồán "),0,IF(AND(J96>0,I96>0),IF(AND(OR(LEFT(E96,4)="GDQP",LEFT(E96,4)="gdqp",LEFT(E96,19)="Giáo dục quốc phòng"),J96>50),1.3,IF(J96>35,1.2,IF(J96>29,1.1,1))),0)) -> 1.2 | M96: =ROUND(IF(OR(LEFT(E96,2)="ĐA",LEFT(E96,2)="DA",LEFT(E96,5)="Đồ án",LEFT(E96,5)="Đồán "),J96*0.5,(IF(H96>0,H96*K96,"0")+IF(I96>0,(I96*0.75)*L96,"0"))),1) -> 45
D97: 21100124403 | E97: Phân tích và thiết kế hệ thống | F97: 17C1-LTM2 | G97: 1 | H97: 15 | I97: 30 | J97: 43 | K97: =IF(OR(LEFT(E97,2)="ĐA",LEFT(E97,2)="DA",LEFT(E97,5)="Đồ án",LEFT(E97,5)="Đồán ",LEFT(E97,9)="Sinh hoạt",LEFT(E97,9)="sinh hoạt",LEFT(E97,6)="Cố vấn",LEFT(E97,6)="cố vấn",LEFT(E97,4)="cvht",LEFT(E97,4)="CVHT",LEFT(E97,4)="shcn",LEFT(E97,4)="SHCN"),0,(IF(AND(H97>0,J97>0),IF(J97>60,1.3,IF(J97>35,1.2,1)),0))) -> 1.2 | L97: =IF(OR(LEFT(E97,2)="ĐA",LEFT(E97,2)="DA",LEFT(E97,5)="Đồ án",LEFT(E97,5)="Đồán "),0,IF(AND(J97>0,I97>0),IF(AND(OR(LEFT(E97,4)="GDQP",LEFT(E97,4)="gdqp",LEFT(E97,19)="Giáo dục quốc phòng"),J97>50),1.3,IF(J97>35,1.2,IF(J97>29,1.1,1))),0)) -> 1.2 | M97: =ROUND(IF(OR(LEFT(E97,2)="ĐA",LEFT(E97,2)="DA",LEFT(E97,5)="Đồ án",LEFT(E97,5)="Đồán "),J97*0.5,(IF(H97>0,H97*K97,"0")+IF(I97>0,(I97*0.75)*L97,"0"))),1) -> 45
D98: 21100124404 | E98: Phân tích và thiết kế hệ thống | F98: 17C1-TKW1 | G98: 1 | H98: 15 | I98: 30 | J98: 24 | K98: =IF(OR(LEFT(E98,2)="ĐA",LEFT(E98,2)="DA",LEFT(E98,5)="Đồ án",LEFT(E98,5)="Đồán ",LEFT(E98,9)="Sinh hoạt",LEFT(E98,9)="sinh hoạt",LEFT(E98,6)="Cố vấn",LEFT(E98,6)="cố vấn",LEFT(E98,4)="cvht",LEFT(E98,4)="CVHT",LEFT(E98,4)="shcn",LEFT(E98,4)="SHCN"),0,(IF(AND(H98>0,J98>0),IF(J98>60,1.3,IF(J98>35,1.2,1)),0))) -> 1 | L98: =IF(OR(LEFT(E98,2)="ĐA",LEFT(E98,2)="DA",LEFT(E98,5)="Đồ án",LEFT(E98,5)="Đồán "),0,IF(AND(J98>0,I98>0),IF(AND(OR(LEFT(E98,4)="GDQP",LEFT(E98,4)="gdqp",LEFT(E98,19)="Giáo dục quốc phòng"),J98>50),1.3,IF(J98>35,1.2,IF(J98>29,1.1,1))),0)) -> 1 | M98: =ROUND(IF(OR(LEFT(E98,2)="ĐA",LEFT(E98,2)="DA",LEFT(E98,5)="Đồ án",LEFT(E98,5)="Đồán "),J98*0.5,(IF(H98>0,H98*K98,"0")+IF(I98>0,(I98*0.75)*L98,"0"))),1) -> 37.5
D99: 21100124406 | E99: Phân tích và thiết kế hệ thống | F99: 18C1-QTM1 | G99: 1 | H99: 15 | I99: 30 | J99: 62 | K99: =IF(OR(LEFT(E99,2)="ĐA",LEFT(E99,2)="DA",LEFT(E99,5)="Đồ án",LEFT(E99,5)="Đồán ",LEFT(E99,9)="Sinh hoạt",LEFT(E99,9)="sinh hoạt",LEFT(E99,6)="Cố vấn",LEFT(E99,6)="cố vấn",LEFT(E99,4)="cvht",LEFT(E99,4)="CVHT",LEFT(E99,4)="shcn",LEFT(E99,4)="SHCN"),0,(IF(AND(H99>0,J99>0),IF(J99>60,1.3,IF(J99>35,1.2,1)),0))) -> 1.3 | L99: =IF(OR(LEFT(E99,2)="ĐA",LEFT(E99,2)="DA",LEFT(E99,5)="Đồ án",LEFT(E99,5)="Đồán "),0,IF(AND(J99>0,I99>0),IF(AND(OR(LEFT(E99,4)="GDQP",LEFT(E99,4)="gdqp",LEFT(E99,19)="Giáo dục quốc phòng"),J99>50),1.3,IF(J99>35,1.2,IF(J99>29,1.1,1))),0)) -> 1.2 | M99: =ROUND(IF(OR(LEFT(E99,2)="ĐA",LEFT(E99,2)="DA",LEFT(E99,5)="Đồ án",LEFT(E99,5)="Đồán "),J99*0.5,(IF(H99>0,H99*K99,"0")+IF(I99>0,(I99*0.75)*L99,"0"))),1) -> 46.5
D100: 21100124407 | E100: Phân tích và thiết kế hệ thống | F100: 18C1-CMT2 | G100: 1 | H100: 15 | I100: 30 | J100: 40 | K100: =IF(OR(LEFT(E100,2)="ĐA",LEFT(E100,2)="DA",LEFT(E100,5)="Đồ án",LEFT(E100,5)="Đồán ",LEFT(E100,9)="Sinh hoạt",LEFT(E100,9)="sinh hoạt",LEFT(E100,6)="Cố vấn",LEFT(E100,6)="cố vấn",LEFT(E100,4)="cvht",LEFT(E100,4)="CVHT",LEFT(E100,4)="shcn",LEFT(E100,4)="SHCN"),0,(IF(AND(H100>0,J100>0),IF(J100>60,1.3,IF(J100>35,1.2,1)),0))) -> 1.2 | L100: =IF(OR(LEFT(E100,2)="ĐA",LEFT(E100,2)="DA",LEFT(E100,5)="Đồ án",LEFT(E100,5)="Đồán "),0,IF(AND(J100>0,I100>0),IF(AND(OR(LEFT(E100,4)="GDQP",LEFT(E100,4)="gdqp",LEFT(E100,19)="Giáo dục quốc phòng"),J100>50),1.3,IF(J100>35,1.2,IF(J100>29,1.1,1))),0)) -> 1.2 | M100: =ROUND(IF(OR(LEFT(E100,2)="ĐA",LEFT(E100,2)="DA",LEFT(E100,5)="Đồ án",LEFT(E100,5)="Đồán "),J100*0.5,(IF(H100>0,H100*K100,"0")+IF(I100>0,(I100*0.75)*L100,"0"))),1) -> 45
D101: 21100149101 | E101: Công nghệ phần mềm | F101: 17C1-LTM1 | G101: 1 | H101: 30 | I101: 30 | J101: 39 | K101: =IF(OR(LEFT(E101,2)="ĐA",LEFT(E101,2)="DA",LEFT(E101,5)="Đồ án",LEFT(E101,5)="Đồán ",LEFT(E101,9)="Sinh hoạt",LEFT(E101,9)="sinh hoạt",LEFT(E101,6)="Cố vấn",LEFT(E101,6)="cố vấn",LEFT(E101,4)="cvht",LEFT(E101,4)="CVHT",LEFT(E101,4)="shcn",LEFT(E101,4)="SHCN"),0,(IF(AND(H101>0,J101>0),IF(J101>60,1.3,IF(J101>35,1.2,1)),0))) -> 1.2 | L101: =IF(OR(LEFT(E101,2)="ĐA",LEFT(E101,2)="DA",LEFT(E101,5)="Đồ án",LEFT(E101,5)="Đồán "),0,IF(AND(J101>0,I101>0),IF(AND(OR(LEFT(E101,4)="GDQP",LEFT(E101,4)="gdqp",LEFT(E101,19)="Giáo dục quốc phòng"),J101>50),1.3,IF(J101>35,1.2,IF(J101>29,1.1,1))),0)) -> 1.2 | M101: =ROUND(IF(OR(LEFT(E101,2)="ĐA",LEFT(E101,2)="DA",LEFT(E101,5)="Đồ án",LEFT(E101,5)="Đồán "),J101*0.5,(IF(H101>0,H101*K101,"0")+IF(I101>0,(I101*0.75)*L101,"0"))),1) -> 63
D102: 21100149102 | E102: Công nghệ phần mềm | F102: 17C1-LTM2 | G102: 1 | H102: 30 | I102: 30 | J102: 47 | K102: =IF(OR(LEFT(E102,2)="ĐA",LEFT(E102,2)="DA",LEFT(E102,5)="Đồ án",LEFT(E102,5)="Đồán ",LEFT(E102,9)="Sinh hoạt",LEFT(E102,9)="sinh hoạt",LEFT(E102,6)="Cố vấn",LEFT(E102,6)="cố vấn",LEFT(E102,4)="cvht",LEFT(E102,4)="CVHT",LEFT(E102,4)="shcn",LEFT(E102,4)="SHCN"),0,(IF(AND(H102>0,J102>0),IF(J102>60,1.3,IF(J102>35,1.2,1)),0))) -> 1.2 | L102: =IF(OR(LEFT(E102,2)="ĐA",LEFT(E102,2)="DA",LEFT(E102,5)="Đồ án",LEFT(E102,5)="Đồán "),0,IF(AND(J102>0,I102>0),IF(AND(OR(LEFT(E102,4)="GDQP",LEFT(E102,4)="gdqp",LEFT(E102,19)="Giáo dục quốc phòng"),J102>50),1.3,IF(J102>35,1.2,IF(J102>29,1.1,1))),0)) -> 1.2 | M102: =ROUND(IF(OR(LEFT(E102,2)="ĐA",LEFT(E102,2)="DA",LEFT(E102,5)="Đồ án",LEFT(E102,5)="Đồán "),J102*0.5,(IF(H102>0,H102*K102,"0")+IF(I102>0,(I102*0.75)*L102,"0"))),1) -> 63
...

Sheet Sheet1
A1: 18T4-QTM | B1: 60
A2: 18C1-TKĐ1 | B2: 70
A3: 18C1-QTM | B3: 62
A4: 16CĐTP | B4: 65
A5: 16CĐ-TW | B5: 54
A6: 16TCN
